BEGIN:VCALENDAR
DTSTART;VALUE=DATE:20250602
SUMMARY:Ottelut 2025-09-12 - 2026-02-28
BEGIN:VEVENT
SUMMARY:JoKP - Ketterä
DTSTART;VALUE=DATE-TIME:20250912T153000Z
DTEND;VALUE=DATE-TIME:20250912T180000Z
DTSTAMP;VALUE=DATE-TIME:20260422T193110Z
UID:Mestis-Runkosarja-2025-game-95367@mestis.fi
DESCRIPTION:Kokoonpanot: https://mestis.fi/fi/ottelut/2025-2026/runkosarja
 /2954/kokoonpanot/\n\nSeuranta: https://mestis.fi/fi/ottelut/2025-2026/run
 kosarja/2954/seuranta/
PRODID:mestis.fi
VERSION:2.0
END:VEVENT
BEGIN:VEVENT
SUMMARY:Ketterä - K-Vantaa
DTSTART;VALUE=DATE-TIME:20250913T140000Z
DTEND;VALUE=DATE-TIME:20250913T163000Z
DTSTAMP;VALUE=DATE-TIME:20260422T193110Z
UID:Mestis-Runkosarja-2025-game-95371@mestis.fi
DESCRIPTION:Kokoonpanot: https://mestis.fi/fi/ottelut/2025-2026/runkosarja
 /2969/kokoonpanot/\n\nSeuranta: https://mestis.fi/fi/ottelut/2025-2026/run
 kosarja/2969/seuranta/
PRODID:mestis.fi
VERSION:2.0
END:VEVENT
BEGIN:VEVENT
SUMMARY:KeuPa HT - Ketterä
DTSTART;VALUE=DATE-TIME:20250919T153000Z
DTEND;VALUE=DATE-TIME:20250919T180000Z
DTSTAMP;VALUE=DATE-TIME:20260422T193110Z
UID:Mestis-Runkosarja-2025-game-95376@mestis.fi
DESCRIPTION:Kokoonpanot: https://mestis.fi/fi/ottelut/2025-2026/runkosarja
 /2964/kokoonpanot/\n\nSeuranta: https://mestis.fi/fi/ottelut/2025-2026/run
 kosarja/2964/seuranta/
PRODID:mestis.fi
VERSION:2.0
END:VEVENT
BEGIN:VEVENT
SUMMARY:Ketterä - Jokerit
DTSTART;VALUE=DATE-TIME:20250920T150000Z
DTEND;VALUE=DATE-TIME:20250920T173000Z
DTSTAMP;VALUE=DATE-TIME:20260422T193110Z
UID:Mestis-Runkosarja-2025-game-95380@mestis.fi
DESCRIPTION:Kokoonpanot: https://mestis.fi/fi/ottelut/2025-2026/runkosarja
 /2959/kokoonpanot/\n\nSeuranta: https://mestis.fi/fi/ottelut/2025-2026/run
 kosarja/2959/seuranta/
PRODID:mestis.fi
VERSION:2.0
END:VEVENT
BEGIN:VEVENT
SUMMARY:Pyry - Ketterä
DTSTART;VALUE=DATE-TIME:20250923T153000Z
DTEND;VALUE=DATE-TIME:20250923T180000Z
DTSTAMP;VALUE=DATE-TIME:20260422T193110Z
UID:Mestis-Runkosarja-2025-game-95381@mestis.fi
DESCRIPTION:Kokoonpanot: https://mestis.fi/fi/ottelut/2025-2026/runkosarja
 /3114/kokoonpanot/\n\nSeuranta: https://mestis.fi/fi/ottelut/2025-2026/run
 kosarja/3114/seuranta/
PRODID:mestis.fi
VERSION:2.0
END:VEVENT
BEGIN:VEVENT
SUMMARY:Ketterä - Hermes
DTSTART;VALUE=DATE-TIME:20250927T140000Z
DTEND;VALUE=DATE-TIME:20250927T163000Z
DTSTAMP;VALUE=DATE-TIME:20260422T193110Z
UID:Mestis-Runkosarja-2025-game-95388@mestis.fi
DESCRIPTION:Kokoonpanot: https://mestis.fi/fi/ottelut/2025-2026/runkosarja
 /3109/kokoonpanot/\n\nSeuranta: https://mestis.fi/fi/ottelut/2025-2026/run
 kosarja/3109/seuranta/
PRODID:mestis.fi
VERSION:2.0
END:VEVENT
BEGIN:VEVENT
SUMMARY:Ketterä - TUTO Hockey
DTSTART;VALUE=DATE-TIME:20251004T140000Z
DTEND;VALUE=DATE-TIME:20251004T163000Z
DTSTAMP;VALUE=DATE-TIME:20260422T193110Z
UID:Mestis-Runkosarja-2025-game-95395@mestis.fi
DESCRIPTION:Kokoonpanot: https://mestis.fi/fi/ottelut/2025-2026/runkosarja
 /2989/kokoonpanot/\n\nSeuranta: https://mestis.fi/fi/ottelut/2025-2026/run
 kosarja/2989/seuranta/
PRODID:mestis.fi
VERSION:2.0
END:VEVENT
BEGIN:VEVENT
SUMMARY:RoKi - Ketterä
DTSTART;VALUE=DATE-TIME:20251010T153000Z
DTEND;VALUE=DATE-TIME:20251010T180000Z
DTSTAMP;VALUE=DATE-TIME:20260422T193110Z
UID:Mestis-Runkosarja-2025-game-95400@mestis.fi
DESCRIPTION:Kokoonpanot: https://mestis.fi/fi/ottelut/2025-2026/runkosarja
 /2984/kokoonpanot/\n\nSeuranta: https://mestis.fi/fi/ottelut/2025-2026/run
 kosarja/2984/seuranta/
PRODID:mestis.fi
VERSION:2.0
END:VEVENT
BEGIN:VEVENT
SUMMARY:Hermes - Ketterä
DTSTART;VALUE=DATE-TIME:20251011T140000Z
DTEND;VALUE=DATE-TIME:20251011T163000Z
DTSTAMP;VALUE=DATE-TIME:20260422T193110Z
UID:Mestis-Runkosarja-2025-game-95403@mestis.fi
DESCRIPTION:Kokoonpanot: https://mestis.fi/fi/ottelut/2025-2026/runkosarja
 /2974/kokoonpanot/\n\nSeuranta: https://mestis.fi/fi/ottelut/2025-2026/run
 kosarja/2974/seuranta/
PRODID:mestis.fi
VERSION:2.0
END:VEVENT
BEGIN:VEVENT
SUMMARY:K-Vantaa - Ketterä
DTSTART;VALUE=DATE-TIME:20251014T153000Z
DTEND;VALUE=DATE-TIME:20251014T180000Z
DTSTAMP;VALUE=DATE-TIME:20260422T193110Z
UID:Mestis-Runkosarja-2025-game-95406@mestis.fi
DESCRIPTION:Kokoonpanot: https://mestis.fi/fi/ottelut/2025-2026/runkosarja
 /3014/kokoonpanot/\n\nSeuranta: https://mestis.fi/fi/ottelut/2025-2026/run
 kosarja/3014/seuranta/
PRODID:mestis.fi
VERSION:2.0
END:VEVENT
BEGIN:VEVENT
SUMMARY:Ketterä - IPK
DTSTART;VALUE=DATE-TIME:20251018T140000Z
DTEND;VALUE=DATE-TIME:20251018T163000Z
DTSTAMP;VALUE=DATE-TIME:20260422T193110Z
UID:Mestis-Runkosarja-2025-game-95413@mestis.fi
DESCRIPTION:Kokoonpanot: https://mestis.fi/fi/ottelut/2025-2026/runkosarja
 /3039/kokoonpanot/\n\nSeuranta: https://mestis.fi/fi/ottelut/2025-2026/run
 kosarja/3039/seuranta/
PRODID:mestis.fi
VERSION:2.0
END:VEVENT
BEGIN:VEVENT
SUMMARY:Ketterä - Pyry
DTSTART;VALUE=DATE-TIME:20251024T153000Z
DTEND;VALUE=DATE-TIME:20251024T180000Z
DTSTAMP;VALUE=DATE-TIME:20260422T193110Z
UID:Mestis-Runkosarja-2025-game-95419@mestis.fi
DESCRIPTION:Kokoonpanot: https://mestis.fi/fi/ottelut/2025-2026/runkosarja
 /3069/kokoonpanot/\n\nSeuranta: https://mestis.fi/fi/ottelut/2025-2026/run
 kosarja/3069/seuranta/
PRODID:mestis.fi
VERSION:2.0
END:VEVENT
BEGIN:VEVENT
SUMMARY:IPK - Ketterä
DTSTART;VALUE=DATE-TIME:20251031T163000Z
DTEND;VALUE=DATE-TIME:20251031T190000Z
DTSTAMP;VALUE=DATE-TIME:20260422T193110Z
UID:Mestis-Runkosarja-2025-game-95431@mestis.fi
DESCRIPTION:Kokoonpanot: https://mestis.fi/fi/ottelut/2025-2026/runkosarja
 /2994/kokoonpanot/\n\nSeuranta: https://mestis.fi/fi/ottelut/2025-2026/run
 kosarja/2994/seuranta/
PRODID:mestis.fi
VERSION:2.0
END:VEVENT
BEGIN:VEVENT
SUMMARY:Ketterä - RoKi
DTSTART;VALUE=DATE-TIME:20251101T150000Z
DTEND;VALUE=DATE-TIME:20251101T173000Z
DTSTAMP;VALUE=DATE-TIME:20260422T193110Z
UID:Mestis-Runkosarja-2025-game-95433@mestis.fi
DESCRIPTION:Kokoonpanot: https://mestis.fi/fi/ottelut/2025-2026/runkosarja
 /3029/kokoonpanot/\n\nSeuranta: https://mestis.fi/fi/ottelut/2025-2026/run
 kosarja/3029/seuranta/
PRODID:mestis.fi
VERSION:2.0
END:VEVENT
BEGIN:VEVENT
SUMMARY:Jokerit - Ketterä
DTSTART;VALUE=DATE-TIME:20251107T173000Z
DTEND;VALUE=DATE-TIME:20251107T200000Z
DTSTAMP;VALUE=DATE-TIME:20260422T193110Z
UID:Mestis-Runkosarja-2025-game-95435@mestis.fi
DESCRIPTION:Kokoonpanot: https://mestis.fi/fi/ottelut/2025-2026/runkosarja
 /3004/kokoonpanot/\n\nSeuranta: https://mestis.fi/fi/ottelut/2025-2026/run
 kosarja/3004/seuranta/
PRODID:mestis.fi
VERSION:2.0
END:VEVENT
BEGIN:VEVENT
SUMMARY:Ketterä - Pyry
DTSTART;VALUE=DATE-TIME:20251114T163000Z
DTEND;VALUE=DATE-TIME:20251114T190000Z
DTSTAMP;VALUE=DATE-TIME:20260422T193110Z
UID:Mestis-Runkosarja-2025-game-95443@mestis.fi
DESCRIPTION:Kokoonpanot: https://mestis.fi/fi/ottelut/2025-2026/runkosarja
 /3159/kokoonpanot/\n\nSeuranta: https://mestis.fi/fi/ottelut/2025-2026/run
 kosarja/3159/seuranta/
PRODID:mestis.fi
VERSION:2.0
END:VEVENT
BEGIN:VEVENT
SUMMARY:Ketterä - Hermes
DTSTART;VALUE=DATE-TIME:20251121T163000Z
DTEND;VALUE=DATE-TIME:20251121T190000Z
DTSTAMP;VALUE=DATE-TIME:20260422T193110Z
UID:Mestis-Runkosarja-2025-game-95451@mestis.fi
DESCRIPTION:Kokoonpanot: https://mestis.fi/fi/ottelut/2025-2026/runkosarja
 /3019/kokoonpanot/\n\nSeuranta: https://mestis.fi/fi/ottelut/2025-2026/run
 kosarja/3019/seuranta/
PRODID:mestis.fi
VERSION:2.0
END:VEVENT
BEGIN:VEVENT
SUMMARY:JoKP - Ketterä
DTSTART;VALUE=DATE-TIME:20251122T150000Z
DTEND;VALUE=DATE-TIME:20251122T173000Z
DTSTAMP;VALUE=DATE-TIME:20260422T193110Z
UID:Mestis-Runkosarja-2025-game-95452@mestis.fi
DESCRIPTION:Kokoonpanot: https://mestis.fi/fi/ottelut/2025-2026/runkosarja
 /3044/kokoonpanot/\n\nSeuranta: https://mestis.fi/fi/ottelut/2025-2026/run
 kosarja/3044/seuranta/
PRODID:mestis.fi
VERSION:2.0
END:VEVENT
BEGIN:VEVENT
SUMMARY:RoKi - Ketterä
DTSTART;VALUE=DATE-TIME:20251128T163000Z
DTEND;VALUE=DATE-TIME:20251128T190000Z
DTSTAMP;VALUE=DATE-TIME:20260422T193110Z
UID:Mestis-Runkosarja-2025-game-95458@mestis.fi
DESCRIPTION:Kokoonpanot: https://mestis.fi/fi/ottelut/2025-2026/runkosarja
 /3074/kokoonpanot/\n\nSeuranta: https://mestis.fi/fi/ottelut/2025-2026/run
 kosarja/3074/seuranta/
PRODID:mestis.fi
VERSION:2.0
END:VEVENT
BEGIN:VEVENT
SUMMARY:IPK - Ketterä
DTSTART;VALUE=DATE-TIME:20251129T150000Z
DTEND;VALUE=DATE-TIME:20251129T173000Z
DTSTAMP;VALUE=DATE-TIME:20260422T193110Z
UID:Mestis-Runkosarja-2025-game-95461@mestis.fi
DESCRIPTION:Kokoonpanot: https://mestis.fi/fi/ottelut/2025-2026/runkosarja
 /3084/kokoonpanot/\n\nSeuranta: https://mestis.fi/fi/ottelut/2025-2026/run
 kosarja/3084/seuranta/
PRODID:mestis.fi
VERSION:2.0
END:VEVENT
BEGIN:VEVENT
SUMMARY:Ketterä - TUTO Hockey
DTSTART;VALUE=DATE-TIME:20251202T163000Z
DTEND;VALUE=DATE-TIME:20251202T190000Z
DTSTAMP;VALUE=DATE-TIME:20260422T193110Z
UID:Mestis-Runkosarja-2025-game-95465@mestis.fi
DESCRIPTION:Kokoonpanot: https://mestis.fi/fi/ottelut/2025-2026/runkosarja
 /3079/kokoonpanot/\n\nSeuranta: https://mestis.fi/fi/ottelut/2025-2026/run
 kosarja/3079/seuranta/
PRODID:mestis.fi
VERSION:2.0
END:VEVENT
BEGIN:VEVENT
SUMMARY:K-Vantaa - Ketterä
DTSTART;VALUE=DATE-TIME:20251205T163000Z
DTEND;VALUE=DATE-TIME:20251205T190000Z
DTSTAMP;VALUE=DATE-TIME:20260422T193110Z
UID:Mestis-Runkosarja-2025-game-95469@mestis.fi
DESCRIPTION:Kokoonpanot: https://mestis.fi/fi/ottelut/2025-2026/runkosarja
 /3104/kokoonpanot/\n\nSeuranta: https://mestis.fi/fi/ottelut/2025-2026/run
 kosarja/3104/seuranta/
PRODID:mestis.fi
VERSION:2.0
END:VEVENT
BEGIN:VEVENT
SUMMARY:TUTO Hockey - Ketterä
DTSTART;VALUE=DATE-TIME:20251210T163000Z
DTEND;VALUE=DATE-TIME:20251210T190000Z
DTSTAMP;VALUE=DATE-TIME:20260422T193110Z
UID:Mestis-Runkosarja-2025-game-95475@mestis.fi
DESCRIPTION:Kokoonpanot: https://mestis.fi/fi/ottelut/2025-2026/runkosarja
 /3124/kokoonpanot/\n\nSeuranta: https://mestis.fi/fi/ottelut/2025-2026/run
 kosarja/3124/seuranta/
PRODID:mestis.fi
VERSION:2.0
END:VEVENT
BEGIN:VEVENT
SUMMARY:Ketterä - IPK
DTSTART;VALUE=DATE-TIME:20251213T150000Z
DTEND;VALUE=DATE-TIME:20251213T173000Z
DTSTAMP;VALUE=DATE-TIME:20260422T193110Z
UID:Mestis-Runkosarja-2025-game-95482@mestis.fi
DESCRIPTION:Kokoonpanot: https://mestis.fi/fi/ottelut/2025-2026/runkosarja
 /3129/kokoonpanot/\n\nSeuranta: https://mestis.fi/fi/ottelut/2025-2026/run
 kosarja/3129/seuranta/
PRODID:mestis.fi
VERSION:2.0
END:VEVENT
BEGIN:VEVENT
SUMMARY:Ketterä - K-Vantaa
DTSTART;VALUE=DATE-TIME:20251220T150000Z
DTEND;VALUE=DATE-TIME:20251220T173000Z
DTSTAMP;VALUE=DATE-TIME:20260422T193110Z
UID:Mestis-Runkosarja-2025-game-95493@mestis.fi
DESCRIPTION:Kokoonpanot: https://mestis.fi/fi/ottelut/2025-2026/runkosarja
 /3059/kokoonpanot/\n\nSeuranta: https://mestis.fi/fi/ottelut/2025-2026/run
 kosarja/3059/seuranta/
PRODID:mestis.fi
VERSION:2.0
END:VEVENT
BEGIN:VEVENT
SUMMARY:Ketterä - KeuPa HT
DTSTART;VALUE=DATE-TIME:20251227T150000Z
DTEND;VALUE=DATE-TIME:20251227T173000Z
DTSTAMP;VALUE=DATE-TIME:20260422T193110Z
UID:Mestis-Runkosarja-2025-game-95497@mestis.fi
DESCRIPTION:Kokoonpanot: https://mestis.fi/fi/ottelut/2025-2026/runkosarja
 /3099/kokoonpanot/\n\nSeuranta: https://mestis.fi/fi/ottelut/2025-2026/run
 kosarja/3099/seuranta/
PRODID:mestis.fi
VERSION:2.0
END:VEVENT
BEGIN:VEVENT
SUMMARY:KeuPa HT - Ketterä
DTSTART;VALUE=DATE-TIME:20251228T150000Z
DTEND;VALUE=DATE-TIME:20251228T173000Z
DTSTAMP;VALUE=DATE-TIME:20260422T193110Z
UID:Mestis-Runkosarja-2025-game-95502@mestis.fi
DESCRIPTION:Kokoonpanot: https://mestis.fi/fi/ottelut/2025-2026/runkosarja
 /3144/kokoonpanot/\n\nSeuranta: https://mestis.fi/fi/ottelut/2025-2026/run
 kosarja/3144/seuranta/
PRODID:mestis.fi
VERSION:2.0
END:VEVENT
BEGIN:VEVENT
SUMMARY:Ketterä - JoKP
DTSTART;VALUE=DATE-TIME:20260102T163000Z
DTEND;VALUE=DATE-TIME:20260102T190000Z
DTSTAMP;VALUE=DATE-TIME:20260422T193110Z
UID:Mestis-Runkosarja-2025-game-95511@mestis.fi
DESCRIPTION:Kokoonpanot: https://mestis.fi/fi/ottelut/2025-2026/runkosarja
 /3089/kokoonpanot/\n\nSeuranta: https://mestis.fi/fi/ottelut/2025-2026/run
 kosarja/3089/seuranta/
PRODID:mestis.fi
VERSION:2.0
END:VEVENT
BEGIN:VEVENT
SUMMARY:Ketterä - Jokerit
DTSTART;VALUE=DATE-TIME:20260106T150000Z
DTEND;VALUE=DATE-TIME:20260106T173000Z
DTSTAMP;VALUE=DATE-TIME:20260422T193110Z
UID:Mestis-Runkosarja-2025-game-95517@mestis.fi
DESCRIPTION:Kokoonpanot: https://mestis.fi/fi/ottelut/2025-2026/runkosarja
 /3049/kokoonpanot/\n\nSeuranta: https://mestis.fi/fi/ottelut/2025-2026/run
 kosarja/3049/seuranta/
PRODID:mestis.fi
VERSION:2.0
END:VEVENT
BEGIN:VEVENT
SUMMARY:Ketterä - Pyry
DTSTART;VALUE=DATE-TIME:20260110T150000Z
DTEND;VALUE=DATE-TIME:20260110T173000Z
DTSTAMP;VALUE=DATE-TIME:20260422T193110Z
UID:Mestis-Runkosarja-2025-game-95526@mestis.fi
DESCRIPTION:Kokoonpanot: https://mestis.fi/fi/ottelut/2025-2026/runkosarja
 /2979/kokoonpanot/\n\nSeuranta: https://mestis.fi/fi/ottelut/2025-2026/run
 kosarja/2979/seuranta/
PRODID:mestis.fi
VERSION:2.0
END:VEVENT
BEGIN:VEVENT
SUMMARY:Ketterä - Hermes
DTSTART;VALUE=DATE-TIME:20260114T163000Z
DTEND;VALUE=DATE-TIME:20260114T190000Z
DTSTAMP;VALUE=DATE-TIME:20260422T193110Z
UID:Mestis-Runkosarja-2025-game-95530@mestis.fi
DESCRIPTION:Kokoonpanot: https://mestis.fi/fi/ottelut/2025-2026/runkosarja
 /3064/kokoonpanot/\n\nSeuranta: https://mestis.fi/fi/ottelut/2025-2026/run
 kosarja/3064/seuranta/
PRODID:mestis.fi
VERSION:2.0
END:VEVENT
BEGIN:VEVENT
SUMMARY:Ketterä - JoKP
DTSTART;VALUE=DATE-TIME:20260116T163000Z
DTEND;VALUE=DATE-TIME:20260116T190000Z
DTSTAMP;VALUE=DATE-TIME:20260422T193110Z
UID:Mestis-Runkosarja-2025-game-95533@mestis.fi
DESCRIPTION:Kokoonpanot: https://mestis.fi/fi/ottelut/2025-2026/runkosarja
 /2999/kokoonpanot/\n\nSeuranta: https://mestis.fi/fi/ottelut/2025-2026/run
 kosarja/2999/seuranta/
PRODID:mestis.fi
VERSION:2.0
END:VEVENT
BEGIN:VEVENT
SUMMARY:Pyry - Ketterä
DTSTART;VALUE=DATE-TIME:20260117T150000Z
DTEND;VALUE=DATE-TIME:20260117T173000Z
DTSTAMP;VALUE=DATE-TIME:20260422T193110Z
UID:Mestis-Runkosarja-2025-game-95536@mestis.fi
DESCRIPTION:Kokoonpanot: https://mestis.fi/fi/ottelut/2025-2026/runkosarja
 /3024/kokoonpanot/\n\nSeuranta: https://mestis.fi/fi/ottelut/2025-2026/run
 kosarja/3024/seuranta/
PRODID:mestis.fi
VERSION:2.0
END:VEVENT
BEGIN:VEVENT
SUMMARY:Ketterä - K-Vantaa
DTSTART;VALUE=DATE-TIME:20260120T163000Z
DTEND;VALUE=DATE-TIME:20260120T190000Z
DTSTAMP;VALUE=DATE-TIME:20260422T193110Z
UID:Mestis-Runkosarja-2025-game-95540@mestis.fi
DESCRIPTION:Kokoonpanot: https://mestis.fi/fi/ottelut/2025-2026/runkosarja
 /3149/kokoonpanot/\n\nSeuranta: https://mestis.fi/fi/ottelut/2025-2026/run
 kosarja/3149/seuranta/
PRODID:mestis.fi
VERSION:2.0
END:VEVENT
BEGIN:VEVENT
SUMMARY:RoKi - Ketterä
DTSTART;VALUE=DATE-TIME:20260123T163000Z
DTEND;VALUE=DATE-TIME:20260123T190000Z
DTSTAMP;VALUE=DATE-TIME:20260422T193110Z
UID:Mestis-Runkosarja-2025-game-95545@mestis.fi
DESCRIPTION:Kokoonpanot: https://mestis.fi/fi/ottelut/2025-2026/runkosarja
 /3164/kokoonpanot/\n\nSeuranta: https://mestis.fi/fi/ottelut/2025-2026/run
 kosarja/3164/seuranta/
PRODID:mestis.fi
VERSION:2.0
END:VEVENT
BEGIN:VEVENT
SUMMARY:Hermes - Ketterä
DTSTART;VALUE=DATE-TIME:20260124T150000Z
DTEND;VALUE=DATE-TIME:20260124T173000Z
DTSTAMP;VALUE=DATE-TIME:20260422T193110Z
UID:Mestis-Runkosarja-2025-game-95546@mestis.fi
DESCRIPTION:Kokoonpanot: https://mestis.fi/fi/ottelut/2025-2026/runkosarja
 /3154/kokoonpanot/\n\nSeuranta: https://mestis.fi/fi/ottelut/2025-2026/run
 kosarja/3154/seuranta/
PRODID:mestis.fi
VERSION:2.0
END:VEVENT
BEGIN:VEVENT
SUMMARY:TUTO Hockey - Ketterä
DTSTART;VALUE=DATE-TIME:20260128T163000Z
DTEND;VALUE=DATE-TIME:20260128T190000Z
DTSTAMP;VALUE=DATE-TIME:20260422T193110Z
UID:Mestis-Runkosarja-2025-game-95552@mestis.fi
DESCRIPTION:Kokoonpanot: https://mestis.fi/fi/ottelut/2025-2026/runkosarja
 /3281/kokoonpanot/\n\nSeuranta: https://mestis.fi/fi/ottelut/2025-2026/run
 kosarja/3281/seuranta/
PRODID:mestis.fi
VERSION:2.0
END:VEVENT
BEGIN:VEVENT
SUMMARY:Ketterä - RoKi
DTSTART;VALUE=DATE-TIME:20260130T163000Z
DTEND;VALUE=DATE-TIME:20260130T190000Z
DTSTAMP;VALUE=DATE-TIME:20260422T193110Z
UID:Mestis-Runkosarja-2025-game-95557@mestis.fi
DESCRIPTION:Kokoonpanot: https://mestis.fi/fi/ottelut/2025-2026/runkosarja
 /3119/kokoonpanot/\n\nSeuranta: https://mestis.fi/fi/ottelut/2025-2026/run
 kosarja/3119/seuranta/
PRODID:mestis.fi
VERSION:2.0
END:VEVENT
BEGIN:VEVENT
SUMMARY:Ketterä - IPK
DTSTART;VALUE=DATE-TIME:20260206T163000Z
DTEND;VALUE=DATE-TIME:20260206T190000Z
DTSTAMP;VALUE=DATE-TIME:20260422T193110Z
UID:Mestis-Runkosarja-2025-game-95564@mestis.fi
DESCRIPTION:Kokoonpanot: https://mestis.fi/fi/ottelut/2025-2026/runkosarja
 /2949/kokoonpanot/\n\nSeuranta: https://mestis.fi/fi/ottelut/2025-2026/run
 kosarja/2949/seuranta/
PRODID:mestis.fi
VERSION:2.0
END:VEVENT
BEGIN:VEVENT
SUMMARY:Jokerit - Ketterä
DTSTART;VALUE=DATE-TIME:20260207T150000Z
DTEND;VALUE=DATE-TIME:20260207T173000Z
DTSTAMP;VALUE=DATE-TIME:20260422T193110Z
UID:Mestis-Runkosarja-2025-game-95570@mestis.fi
DESCRIPTION:Kokoonpanot: https://mestis.fi/fi/ottelut/2025-2026/runkosarja
 /3094/kokoonpanot/\n\nSeuranta: https://mestis.fi/fi/ottelut/2025-2026/run
 kosarja/3094/seuranta/
PRODID:mestis.fi
VERSION:2.0
END:VEVENT
BEGIN:VEVENT
SUMMARY:Pyry - Ketterä
DTSTART;VALUE=DATE-TIME:20260210T163000Z
DTEND;VALUE=DATE-TIME:20260210T190000Z
DTSTAMP;VALUE=DATE-TIME:20260422T193110Z
UID:Mestis-Runkosarja-2025-game-95573@mestis.fi
DESCRIPTION:Kokoonpanot: https://mestis.fi/fi/ottelut/2025-2026/runkosarja
 /3280/kokoonpanot/\n\nSeuranta: https://mestis.fi/fi/ottelut/2025-2026/run
 kosarja/3280/seuranta/
PRODID:mestis.fi
VERSION:2.0
END:VEVENT
BEGIN:VEVENT
SUMMARY:Ketterä - TUTO Hockey
DTSTART;VALUE=DATE-TIME:20260213T163000Z
DTEND;VALUE=DATE-TIME:20260213T190000Z
DTSTAMP;VALUE=DATE-TIME:20260422T193110Z
UID:Mestis-Runkosarja-2025-game-95578@mestis.fi
DESCRIPTION:Kokoonpanot: https://mestis.fi/fi/ottelut/2025-2026/runkosarja
 /3169/kokoonpanot/\n\nSeuranta: https://mestis.fi/fi/ottelut/2025-2026/run
 kosarja/3169/seuranta/
PRODID:mestis.fi
VERSION:2.0
END:VEVENT
BEGIN:VEVENT
SUMMARY:KeuPa HT - Ketterä
DTSTART;VALUE=DATE-TIME:20260214T130000Z
DTEND;VALUE=DATE-TIME:20260214T153000Z
DTSTAMP;VALUE=DATE-TIME:20260422T193110Z
UID:Mestis-Runkosarja-2025-game-95583@mestis.fi
DESCRIPTION:Kokoonpanot: https://mestis.fi/fi/ottelut/2025-2026/runkosarja
 /3054/kokoonpanot/\n\nSeuranta: https://mestis.fi/fi/ottelut/2025-2026/run
 kosarja/3054/seuranta/
PRODID:mestis.fi
VERSION:2.0
END:VEVENT
BEGIN:VEVENT
SUMMARY:Ketterä - KeuPa HT
DTSTART;VALUE=DATE-TIME:20260217T163000Z
DTEND;VALUE=DATE-TIME:20260217T190000Z
DTSTAMP;VALUE=DATE-TIME:20260422T193110Z
UID:Mestis-Runkosarja-2025-game-95584@mestis.fi
DESCRIPTION:Kokoonpanot: https://mestis.fi/fi/ottelut/2025-2026/runkosarja
 /3009/kokoonpanot/\n\nSeuranta: https://mestis.fi/fi/ottelut/2025-2026/run
 kosarja/3009/seuranta/
PRODID:mestis.fi
VERSION:2.0
END:VEVENT
BEGIN:VEVENT
SUMMARY:TUTO Hockey - Ketterä
DTSTART;VALUE=DATE-TIME:20260219T163000Z
DTEND;VALUE=DATE-TIME:20260219T190000Z
DTSTAMP;VALUE=DATE-TIME:20260422T193110Z
UID:Mestis-Runkosarja-2025-game-95589@mestis.fi
DESCRIPTION:Kokoonpanot: https://mestis.fi/fi/ottelut/2025-2026/runkosarja
 /3034/kokoonpanot/\n\nSeuranta: https://mestis.fi/fi/ottelut/2025-2026/run
 kosarja/3034/seuranta/
PRODID:mestis.fi
VERSION:2.0
END:VEVENT
BEGIN:VEVENT
SUMMARY:K-Vantaa - Ketterä
DTSTART;VALUE=DATE-TIME:20260221T150000Z
DTEND;VALUE=DATE-TIME:20260221T173000Z
DTSTAMP;VALUE=DATE-TIME:20260422T193110Z
UID:Mestis-Runkosarja-2025-game-95591@mestis.fi
DESCRIPTION:Kokoonpanot: https://mestis.fi/fi/ottelut/2025-2026/runkosarja
 /3278/kokoonpanot/\n\nSeuranta: https://mestis.fi/fi/ottelut/2025-2026/run
 kosarja/3278/seuranta/
PRODID:mestis.fi
VERSION:2.0
END:VEVENT
BEGIN:VEVENT
SUMMARY:JoKP - Ketterä
DTSTART;VALUE=DATE-TIME:20260225T163000Z
DTEND;VALUE=DATE-TIME:20260225T190000Z
DTSTAMP;VALUE=DATE-TIME:20260422T193110Z
UID:Mestis-Runkosarja-2025-game-95597@mestis.fi
DESCRIPTION:Kokoonpanot: https://mestis.fi/fi/ottelut/2025-2026/runkosarja
 /3134/kokoonpanot/\n\nSeuranta: https://mestis.fi/fi/ottelut/2025-2026/run
 kosarja/3134/seuranta/
PRODID:mestis.fi
VERSION:2.0
END:VEVENT
BEGIN:VEVENT
SUMMARY:Ketterä - Jokerit
DTSTART;VALUE=DATE-TIME:20260227T163000Z
DTEND;VALUE=DATE-TIME:20260227T190000Z
DTSTAMP;VALUE=DATE-TIME:20260422T193110Z
UID:Mestis-Runkosarja-2025-game-95601@mestis.fi
DESCRIPTION:Kokoonpanot: https://mestis.fi/fi/ottelut/2025-2026/runkosarja
 /3139/kokoonpanot/\n\nSeuranta: https://mestis.fi/fi/ottelut/2025-2026/run
 kosarja/3139/seuranta/
PRODID:mestis.fi
VERSION:2.0
END:VEVENT
BEGIN:VEVENT
SUMMARY:Jokerit - Ketterä
DTSTART;VALUE=DATE-TIME:20260228T150000Z
DTEND;VALUE=DATE-TIME:20260228T173000Z
DTSTAMP;VALUE=DATE-TIME:20260422T193110Z
UID:Mestis-Runkosarja-2025-game-95604@mestis.fi
DESCRIPTION:Kokoonpanot: https://mestis.fi/fi/ottelut/2025-2026/runkosarja
 /3274/kokoonpanot/\n\nSeuranta: https://mestis.fi/fi/ottelut/2025-2026/run
 kosarja/3274/seuranta/
PRODID:mestis.fi
VERSION:2.0
END:VEVENT
END:VCALENDAR
