BEGIN:VCALENDAR
DTSTART;VALUE=DATE:20250602
SUMMARY:Ottelut 2026-03-02 - 2026-04-04
BEGIN:VEVENT
SUMMARY:K-Vantaa - TUTO Hockey
DTSTART;VALUE=DATE-TIME:20260302T163000Z
DTEND;VALUE=DATE-TIME:20260302T190000Z
DTSTAMP;VALUE=DATE-TIME:20260424T152745Z
UID:Mestis-Pudotuspelit-2025-game-95621@mestis.fi
DESCRIPTION:Kokoonpanot: https://mestis.fi/fi/ottelut/2025-2026/playoffs/3
 7116/kokoonpanot/\n\nSeuranta: https://mestis.fi/fi/ottelut/2025-2026/play
 offs/37116/seuranta/
PRODID:mestis.fi
VERSION:2.0
END:VEVENT
BEGIN:VEVENT
SUMMARY:Jokerit - JoKP
DTSTART;VALUE=DATE-TIME:20260302T163000Z
DTEND;VALUE=DATE-TIME:20260302T190000Z
DTSTAMP;VALUE=DATE-TIME:20260424T152745Z
UID:Mestis-Pudotuspelit-2025-game-95624@mestis.fi
DESCRIPTION:Kokoonpanot: https://mestis.fi/fi/ottelut/2025-2026/playoffs/3
 7113/kokoonpanot/\n\nSeuranta: https://mestis.fi/fi/ottelut/2025-2026/play
 offs/37113/seuranta/
PRODID:mestis.fi
VERSION:2.0
END:VEVENT
BEGIN:VEVENT
SUMMARY:IPK - Hermes
DTSTART;VALUE=DATE-TIME:20260302T163000Z
DTEND;VALUE=DATE-TIME:20260302T190000Z
DTSTAMP;VALUE=DATE-TIME:20260424T152745Z
UID:Mestis-Pudotuspelit-2025-game-95623@mestis.fi
DESCRIPTION:Kokoonpanot: https://mestis.fi/fi/ottelut/2025-2026/playoffs/3
 7114/kokoonpanot/\n\nSeuranta: https://mestis.fi/fi/ottelut/2025-2026/play
 offs/37114/seuranta/
PRODID:mestis.fi
VERSION:2.0
END:VEVENT
BEGIN:VEVENT
SUMMARY:Ketterä - RoKi
DTSTART;VALUE=DATE-TIME:20260302T163000Z
DTEND;VALUE=DATE-TIME:20260302T190000Z
DTSTAMP;VALUE=DATE-TIME:20260424T152745Z
UID:Mestis-Pudotuspelit-2025-game-95622@mestis.fi
DESCRIPTION:Kokoonpanot: https://mestis.fi/fi/ottelut/2025-2026/playoffs/3
 7115/kokoonpanot/\n\nSeuranta: https://mestis.fi/fi/ottelut/2025-2026/play
 offs/37115/seuranta/
PRODID:mestis.fi
VERSION:2.0
END:VEVENT
BEGIN:VEVENT
SUMMARY:Ketterä - RoKi
DTSTART;VALUE=DATE-TIME:20260303T163000Z
DTEND;VALUE=DATE-TIME:20260303T190000Z
DTSTAMP;VALUE=DATE-TIME:20260424T152745Z
UID:Mestis-Pudotuspelit-2025-game-95625@mestis.fi
DESCRIPTION:Kokoonpanot: https://mestis.fi/fi/ottelut/2025-2026/playoffs/3
 7119/kokoonpanot/\n\nSeuranta: https://mestis.fi/fi/ottelut/2025-2026/play
 offs/37119/seuranta/
PRODID:mestis.fi
VERSION:2.0
END:VEVENT
BEGIN:VEVENT
SUMMARY:Hermes - IPK
DTSTART;VALUE=DATE-TIME:20260304T163000Z
DTEND;VALUE=DATE-TIME:20260304T190000Z
DTSTAMP;VALUE=DATE-TIME:20260424T152745Z
UID:Mestis-Pudotuspelit-2025-game-95626@mestis.fi
DESCRIPTION:Kokoonpanot: https://mestis.fi/fi/ottelut/2025-2026/playoffs/3
 7118/kokoonpanot/\n\nSeuranta: https://mestis.fi/fi/ottelut/2025-2026/play
 offs/37118/seuranta/
PRODID:mestis.fi
VERSION:2.0
END:VEVENT
BEGIN:VEVENT
SUMMARY:JoKP - Jokerit
DTSTART;VALUE=DATE-TIME:20260304T163000Z
DTEND;VALUE=DATE-TIME:20260304T190000Z
DTSTAMP;VALUE=DATE-TIME:20260424T152745Z
UID:Mestis-Pudotuspelit-2025-game-95627@mestis.fi
DESCRIPTION:Kokoonpanot: https://mestis.fi/fi/ottelut/2025-2026/playoffs/3
 7117/kokoonpanot/\n\nSeuranta: https://mestis.fi/fi/ottelut/2025-2026/play
 offs/37117/seuranta/
PRODID:mestis.fi
VERSION:2.0
END:VEVENT
BEGIN:VEVENT
SUMMARY:TUTO Hockey - K-Vantaa
DTSTART;VALUE=DATE-TIME:20260304T163000Z
DTEND;VALUE=DATE-TIME:20260304T190000Z
DTSTAMP;VALUE=DATE-TIME:20260424T152745Z
UID:Mestis-Pudotuspelit-2025-game-95628@mestis.fi
DESCRIPTION:Kokoonpanot: https://mestis.fi/fi/ottelut/2025-2026/playoffs/3
 7120/kokoonpanot/\n\nSeuranta: https://mestis.fi/fi/ottelut/2025-2026/play
 offs/37120/seuranta/
PRODID:mestis.fi
VERSION:2.0
END:VEVENT
BEGIN:VEVENT
SUMMARY:RoKi - Ketterä
DTSTART;VALUE=DATE-TIME:20260305T163000Z
DTEND;VALUE=DATE-TIME:20260305T190000Z
DTSTAMP;VALUE=DATE-TIME:20260424T152745Z
UID:Mestis-Pudotuspelit-2025-game-95630@mestis.fi
DESCRIPTION:Kokoonpanot: https://mestis.fi/fi/ottelut/2025-2026/playoffs/3
 7123/kokoonpanot/\n\nSeuranta: https://mestis.fi/fi/ottelut/2025-2026/play
 offs/37123/seuranta/
PRODID:mestis.fi
VERSION:2.0
END:VEVENT
BEGIN:VEVENT
SUMMARY:K-Vantaa - TUTO Hockey
DTSTART;VALUE=DATE-TIME:20260306T163000Z
DTEND;VALUE=DATE-TIME:20260306T190000Z
DTSTAMP;VALUE=DATE-TIME:20260424T152745Z
UID:Mestis-Pudotuspelit-2025-game-95629@mestis.fi
DESCRIPTION:Kokoonpanot: https://mestis.fi/fi/ottelut/2025-2026/playoffs/3
 7124/kokoonpanot/\n\nSeuranta: https://mestis.fi/fi/ottelut/2025-2026/play
 offs/37124/seuranta/
PRODID:mestis.fi
VERSION:2.0
END:VEVENT
BEGIN:VEVENT
SUMMARY:IPK - Hermes
DTSTART;VALUE=DATE-TIME:20260306T163000Z
DTEND;VALUE=DATE-TIME:20260306T190000Z
DTSTAMP;VALUE=DATE-TIME:20260424T152745Z
UID:Mestis-Pudotuspelit-2025-game-95631@mestis.fi
DESCRIPTION:Kokoonpanot: https://mestis.fi/fi/ottelut/2025-2026/playoffs/3
 7122/kokoonpanot/\n\nSeuranta: https://mestis.fi/fi/ottelut/2025-2026/play
 offs/37122/seuranta/
PRODID:mestis.fi
VERSION:2.0
END:VEVENT
BEGIN:VEVENT
SUMMARY:RoKi - Ketterä
DTSTART;VALUE=DATE-TIME:20260306T163000Z
DTEND;VALUE=DATE-TIME:20260306T190000Z
DTSTAMP;VALUE=DATE-TIME:20260424T152745Z
UID:Mestis-Pudotuspelit-2025-game-95634@mestis.fi
DESCRIPTION:Kokoonpanot: https://mestis.fi/fi/ottelut/2025-2026/playoffs/3
 7127/kokoonpanot/\n\nSeuranta: https://mestis.fi/fi/ottelut/2025-2026/play
 offs/37127/seuranta/
PRODID:mestis.fi
VERSION:2.0
END:VEVENT
BEGIN:VEVENT
SUMMARY:Jokerit - JoKP
DTSTART;VALUE=DATE-TIME:20260306T163000Z
DTEND;VALUE=DATE-TIME:20260306T190000Z
DTSTAMP;VALUE=DATE-TIME:20260424T152745Z
UID:Mestis-Pudotuspelit-2025-game-95632@mestis.fi
DESCRIPTION:Kokoonpanot: https://mestis.fi/fi/ottelut/2025-2026/playoffs/3
 7121/kokoonpanot/\n\nSeuranta: https://mestis.fi/fi/ottelut/2025-2026/play
 offs/37121/seuranta/
PRODID:mestis.fi
VERSION:2.0
END:VEVENT
BEGIN:VEVENT
SUMMARY:Hermes - IPK
DTSTART;VALUE=DATE-TIME:20260307T150000Z
DTEND;VALUE=DATE-TIME:20260307T173000Z
DTSTAMP;VALUE=DATE-TIME:20260424T152745Z
UID:Mestis-Pudotuspelit-2025-game-95635@mestis.fi
DESCRIPTION:Kokoonpanot: https://mestis.fi/fi/ottelut/2025-2026/playoffs/3
 7126/kokoonpanot/\n\nSeuranta: https://mestis.fi/fi/ottelut/2025-2026/play
 offs/37126/seuranta/
PRODID:mestis.fi
VERSION:2.0
END:VEVENT
BEGIN:VEVENT
SUMMARY:TUTO Hockey - K-Vantaa
DTSTART;VALUE=DATE-TIME:20260307T150000Z
DTEND;VALUE=DATE-TIME:20260307T173000Z
DTSTAMP;VALUE=DATE-TIME:20260424T152745Z
UID:Mestis-Pudotuspelit-2025-game-95633@mestis.fi
DESCRIPTION:Kokoonpanot: https://mestis.fi/fi/ottelut/2025-2026/playoffs/3
 7128/kokoonpanot/\n\nSeuranta: https://mestis.fi/fi/ottelut/2025-2026/play
 offs/37128/seuranta/
PRODID:mestis.fi
VERSION:2.0
END:VEVENT
BEGIN:VEVENT
SUMMARY:JoKP - Jokerit
DTSTART;VALUE=DATE-TIME:20260307T150000Z
DTEND;VALUE=DATE-TIME:20260307T173000Z
DTSTAMP;VALUE=DATE-TIME:20260424T152745Z
UID:Mestis-Pudotuspelit-2025-game-95636@mestis.fi
DESCRIPTION:Kokoonpanot: https://mestis.fi/fi/ottelut/2025-2026/playoffs/3
 7125/kokoonpanot/\n\nSeuranta: https://mestis.fi/fi/ottelut/2025-2026/play
 offs/37125/seuranta/
PRODID:mestis.fi
VERSION:2.0
END:VEVENT
BEGIN:VEVENT
SUMMARY:Ketterä - RoKi
DTSTART;VALUE=DATE-TIME:20260308T150000Z
DTEND;VALUE=DATE-TIME:20260308T173000Z
DTSTAMP;VALUE=DATE-TIME:20260424T152745Z
UID:Mestis-Pudotuspelit-2025-game-95638@mestis.fi
DESCRIPTION:Kokoonpanot: https://mestis.fi/fi/ottelut/2025-2026/playoffs/3
 7131/kokoonpanot/\n\nSeuranta: https://mestis.fi/fi/ottelut/2025-2026/play
 offs/37131/seuranta/
PRODID:mestis.fi
VERSION:2.0
END:VEVENT
BEGIN:VEVENT
SUMMARY:K-Vantaa - TUTO Hockey
DTSTART;VALUE=DATE-TIME:20260309T163000Z
DTEND;VALUE=DATE-TIME:20260309T190000Z
DTSTAMP;VALUE=DATE-TIME:20260424T152745Z
UID:Mestis-Pudotuspelit-2025-game-95637@mestis.fi
DESCRIPTION:Kokoonpanot: https://mestis.fi/fi/ottelut/2025-2026/playoffs/3
 7132/kokoonpanot/\n\nSeuranta: https://mestis.fi/fi/ottelut/2025-2026/play
 offs/37132/seuranta/
PRODID:mestis.fi
VERSION:2.0
END:VEVENT
BEGIN:VEVENT
SUMMARY:IPK - Hermes
DTSTART;VALUE=DATE-TIME:20260309T163000Z
DTEND;VALUE=DATE-TIME:20260309T190000Z
DTSTAMP;VALUE=DATE-TIME:20260424T152745Z
UID:Mestis-Pudotuspelit-2025-game-95639@mestis.fi
DESCRIPTION:Kokoonpanot: https://mestis.fi/fi/ottelut/2025-2026/playoffs/3
 7130/kokoonpanot/\n\nSeuranta: https://mestis.fi/fi/ottelut/2025-2026/play
 offs/37130/seuranta/
PRODID:mestis.fi
VERSION:2.0
END:VEVENT
BEGIN:VEVENT
SUMMARY:Jokerit - JoKP
DTSTART;VALUE=DATE-TIME:20260309T163000Z
DTEND;VALUE=DATE-TIME:20260309T190000Z
DTSTAMP;VALUE=DATE-TIME:20260424T152745Z
UID:Mestis-Pudotuspelit-2025-game-95640@mestis.fi
DESCRIPTION:Kokoonpanot: https://mestis.fi/fi/ottelut/2025-2026/playoffs/3
 7129/kokoonpanot/\n\nSeuranta: https://mestis.fi/fi/ottelut/2025-2026/play
 offs/37129/seuranta/
PRODID:mestis.fi
VERSION:2.0
END:VEVENT
BEGIN:VEVENT
SUMMARY:RoKi - Ketterä
DTSTART;VALUE=DATE-TIME:20260310T163000Z
DTEND;VALUE=DATE-TIME:20260310T190000Z
DTSTAMP;VALUE=DATE-TIME:20260424T152745Z
UID:Mestis-Pudotuspelit-2025-game-95641@mestis.fi
DESCRIPTION:Kokoonpanot: https://mestis.fi/fi/ottelut/2025-2026/playoffs/3
 7135/kokoonpanot/\n\nSeuranta: https://mestis.fi/fi/ottelut/2025-2026/play
 offs/37135/seuranta/
PRODID:mestis.fi
VERSION:2.0
END:VEVENT
BEGIN:VEVENT
SUMMARY:JoKP - Jokerit
DTSTART;VALUE=DATE-TIME:20260311T163000Z
DTEND;VALUE=DATE-TIME:20260311T190000Z
DTSTAMP;VALUE=DATE-TIME:20260424T152745Z
UID:Mestis-Pudotuspelit-2025-game-95643@mestis.fi
DESCRIPTION:Kokoonpanot: https://mestis.fi/fi/ottelut/2025-2026/playoffs/3
 7133/kokoonpanot/\n\nSeuranta: https://mestis.fi/fi/ottelut/2025-2026/play
 offs/37133/seuranta/
PRODID:mestis.fi
VERSION:2.0
END:VEVENT
BEGIN:VEVENT
SUMMARY:Jokerit - K-Vantaa
DTSTART;VALUE=DATE-TIME:20260314T150000Z
DTEND;VALUE=DATE-TIME:20260314T173000Z
DTSTAMP;VALUE=DATE-TIME:20260424T152745Z
UID:Mestis-Pudotuspelit-2025-game-95650@mestis.fi
DESCRIPTION:Kokoonpanot: https://mestis.fi/fi/ottelut/2025-2026/playoffs/3
 7141/kokoonpanot/\n\nSeuranta: https://mestis.fi/fi/ottelut/2025-2026/play
 offs/37141/seuranta/
PRODID:mestis.fi
VERSION:2.0
END:VEVENT
BEGIN:VEVENT
SUMMARY:IPK - Ketterä
DTSTART;VALUE=DATE-TIME:20260314T150000Z
DTEND;VALUE=DATE-TIME:20260314T173000Z
DTSTAMP;VALUE=DATE-TIME:20260424T152745Z
UID:Mestis-Pudotuspelit-2025-game-95649@mestis.fi
DESCRIPTION:Kokoonpanot: https://mestis.fi/fi/ottelut/2025-2026/playoffs/3
 7142/kokoonpanot/\n\nSeuranta: https://mestis.fi/fi/ottelut/2025-2026/play
 offs/37142/seuranta/
PRODID:mestis.fi
VERSION:2.0
END:VEVENT
BEGIN:VEVENT
SUMMARY:K-Vantaa - Jokerit
DTSTART;VALUE=DATE-TIME:20260316T163000Z
DTEND;VALUE=DATE-TIME:20260316T190000Z
DTSTAMP;VALUE=DATE-TIME:20260424T152745Z
UID:Mestis-Pudotuspelit-2025-game-95652@mestis.fi
DESCRIPTION:Kokoonpanot: https://mestis.fi/fi/ottelut/2025-2026/playoffs/3
 7143/kokoonpanot/\n\nSeuranta: https://mestis.fi/fi/ottelut/2025-2026/play
 offs/37143/seuranta/
PRODID:mestis.fi
VERSION:2.0
END:VEVENT
BEGIN:VEVENT
SUMMARY:Ketterä - IPK
DTSTART;VALUE=DATE-TIME:20260316T163000Z
DTEND;VALUE=DATE-TIME:20260316T190000Z
DTSTAMP;VALUE=DATE-TIME:20260424T152745Z
UID:Mestis-Pudotuspelit-2025-game-95651@mestis.fi
DESCRIPTION:Kokoonpanot: https://mestis.fi/fi/ottelut/2025-2026/playoffs/3
 7144/kokoonpanot/\n\nSeuranta: https://mestis.fi/fi/ottelut/2025-2026/play
 offs/37144/seuranta/
PRODID:mestis.fi
VERSION:2.0
END:VEVENT
BEGIN:VEVENT
SUMMARY:Jokerit - K-Vantaa
DTSTART;VALUE=DATE-TIME:20260318T163000Z
DTEND;VALUE=DATE-TIME:20260318T190000Z
DTSTAMP;VALUE=DATE-TIME:20260424T152745Z
UID:Mestis-Pudotuspelit-2025-game-95654@mestis.fi
DESCRIPTION:Kokoonpanot: https://mestis.fi/fi/ottelut/2025-2026/playoffs/3
 7145/kokoonpanot/\n\nSeuranta: https://mestis.fi/fi/ottelut/2025-2026/play
 offs/37145/seuranta/
PRODID:mestis.fi
VERSION:2.0
END:VEVENT
BEGIN:VEVENT
SUMMARY:IPK - Ketterä
DTSTART;VALUE=DATE-TIME:20260318T163000Z
DTEND;VALUE=DATE-TIME:20260318T190000Z
DTSTAMP;VALUE=DATE-TIME:20260424T152745Z
UID:Mestis-Pudotuspelit-2025-game-95653@mestis.fi
DESCRIPTION:Kokoonpanot: https://mestis.fi/fi/ottelut/2025-2026/playoffs/3
 7146/kokoonpanot/\n\nSeuranta: https://mestis.fi/fi/ottelut/2025-2026/play
 offs/37146/seuranta/
PRODID:mestis.fi
VERSION:2.0
END:VEVENT
BEGIN:VEVENT
SUMMARY:Ketterä - IPK
DTSTART;VALUE=DATE-TIME:20260320T163000Z
DTEND;VALUE=DATE-TIME:20260320T190000Z
DTSTAMP;VALUE=DATE-TIME:20260424T152745Z
UID:Mestis-Pudotuspelit-2025-game-95655@mestis.fi
DESCRIPTION:Kokoonpanot: https://mestis.fi/fi/ottelut/2025-2026/playoffs/3
 7148/kokoonpanot/\n\nSeuranta: https://mestis.fi/fi/ottelut/2025-2026/play
 offs/37148/seuranta/
PRODID:mestis.fi
VERSION:2.0
END:VEVENT
BEGIN:VEVENT
SUMMARY:K-Vantaa - Jokerit
DTSTART;VALUE=DATE-TIME:20260320T163000Z
DTEND;VALUE=DATE-TIME:20260320T190000Z
DTSTAMP;VALUE=DATE-TIME:20260424T152745Z
UID:Mestis-Pudotuspelit-2025-game-95656@mestis.fi
DESCRIPTION:Kokoonpanot: https://mestis.fi/fi/ottelut/2025-2026/playoffs/3
 7147/kokoonpanot/\n\nSeuranta: https://mestis.fi/fi/ottelut/2025-2026/play
 offs/37147/seuranta/
PRODID:mestis.fi
VERSION:2.0
END:VEVENT
BEGIN:VEVENT
SUMMARY:IPK - Ketterä
DTSTART;VALUE=DATE-TIME:20260321T150000Z
DTEND;VALUE=DATE-TIME:20260321T173000Z
DTSTAMP;VALUE=DATE-TIME:20260424T152745Z
UID:Mestis-Pudotuspelit-2025-game-95657@mestis.fi
DESCRIPTION:Kokoonpanot: https://mestis.fi/fi/ottelut/2025-2026/playoffs/3
 7150/kokoonpanot/\n\nSeuranta: https://mestis.fi/fi/ottelut/2025-2026/play
 offs/37150/seuranta/
PRODID:mestis.fi
VERSION:2.0
END:VEVENT
BEGIN:VEVENT
SUMMARY:Ketterä - IPK
DTSTART;VALUE=DATE-TIME:20260323T163000Z
DTEND;VALUE=DATE-TIME:20260323T190000Z
DTSTAMP;VALUE=DATE-TIME:20260424T152745Z
UID:Mestis-Pudotuspelit-2025-game-95659@mestis.fi
DESCRIPTION:Kokoonpanot: https://mestis.fi/fi/ottelut/2025-2026/playoffs/3
 7152/kokoonpanot/\n\nSeuranta: https://mestis.fi/fi/ottelut/2025-2026/play
 offs/37152/seuranta/
PRODID:mestis.fi
VERSION:2.0
END:VEVENT
BEGIN:VEVENT
SUMMARY:IPK - K-Vantaa
DTSTART;VALUE=DATE-TIME:20260328T150000Z
DTEND;VALUE=DATE-TIME:20260328T173000Z
DTSTAMP;VALUE=DATE-TIME:20260424T152745Z
UID:Mestis-Pudotuspelit-2025-game-95665@mestis.fi
DESCRIPTION:Kokoonpanot: https://mestis.fi/fi/ottelut/2025-2026/playoffs/3
 7155/kokoonpanot/\n\nSeuranta: https://mestis.fi/fi/ottelut/2025-2026/play
 offs/37155/seuranta/
PRODID:mestis.fi
VERSION:2.0
END:VEVENT
BEGIN:VEVENT
SUMMARY:Jokerit - Ketterä
DTSTART;VALUE=DATE-TIME:20260328T150000Z
DTEND;VALUE=DATE-TIME:20260328T173000Z
DTSTAMP;VALUE=DATE-TIME:20260424T152745Z
UID:Mestis-Pudotuspelit-2025-game-95663@mestis.fi
DESCRIPTION:Kokoonpanot: https://mestis.fi/fi/ottelut/2025-2026/playoffs/3
 7156/kokoonpanot/\n\nSeuranta: https://mestis.fi/fi/ottelut/2025-2026/play
 offs/37156/seuranta/
PRODID:mestis.fi
VERSION:2.0
END:VEVENT
BEGIN:VEVENT
SUMMARY:Ketterä - Jokerit
DTSTART;VALUE=DATE-TIME:20260331T153000Z
DTEND;VALUE=DATE-TIME:20260331T180000Z
DTSTAMP;VALUE=DATE-TIME:20260424T152745Z
UID:Mestis-Pudotuspelit-2025-game-95664@mestis.fi
DESCRIPTION:Kokoonpanot: https://mestis.fi/fi/ottelut/2025-2026/playoffs/3
 7157/kokoonpanot/\n\nSeuranta: https://mestis.fi/fi/ottelut/2025-2026/play
 offs/37157/seuranta/
PRODID:mestis.fi
VERSION:2.0
END:VEVENT
BEGIN:VEVENT
SUMMARY:Jokerit - Ketterä
DTSTART;VALUE=DATE-TIME:20260403T140000Z
DTEND;VALUE=DATE-TIME:20260403T163000Z
DTSTAMP;VALUE=DATE-TIME:20260424T152745Z
UID:Mestis-Pudotuspelit-2025-game-95666@mestis.fi
DESCRIPTION:Kokoonpanot: https://mestis.fi/fi/ottelut/2025-2026/playoffs/3
 7158/kokoonpanot/\n\nSeuranta: https://mestis.fi/fi/ottelut/2025-2026/play
 offs/37158/seuranta/
PRODID:mestis.fi
VERSION:2.0
END:VEVENT
BEGIN:VEVENT
SUMMARY:Ketterä - Jokerit
DTSTART;VALUE=DATE-TIME:20260404T140000Z
DTEND;VALUE=DATE-TIME:20260404T163000Z
DTSTAMP;VALUE=DATE-TIME:20260424T152745Z
UID:Mestis-Pudotuspelit-2025-game-95667@mestis.fi
DESCRIPTION:Kokoonpanot: https://mestis.fi/fi/ottelut/2025-2026/playoffs/3
 7159/kokoonpanot/\n\nSeuranta: https://mestis.fi/fi/ottelut/2025-2026/play
 offs/37159/seuranta/
PRODID:mestis.fi
VERSION:2.0
END:VEVENT
END:VCALENDAR
