BEGIN:VCALENDAR
DTSTART;VALUE=DATE:20240528
SUMMARY:Ottelut 2024-08-08 - 2024-09-05
BEGIN:VEVENT
SUMMARY:Urho - TUTO Hockey
DTSTART;VALUE=DATE-TIME:20240808T153000Z
DTEND;VALUE=DATE-TIME:20240808T180000Z
DTSTAMP;VALUE=DATE-TIME:20260426T014240Z
UID:Mestis-Harjoitusottelut-2024-game-93709@mestis.fi
DESCRIPTION:Kokoonpanot: https://mestis.fi/fi/ottelut/2024-2025/valmistava
 t_ottelut/3855/kokoonpanot/\n\nSeuranta: https://mestis.fi/fi/ottelut/2024
 -2025/valmistavat_ottelut/3855/seuranta/
PRODID:mestis.fi
VERSION:2.0
END:VEVENT
BEGIN:VEVENT
SUMMARY:K-Vantaa - Jokerit
DTSTART;VALUE=DATE-TIME:20240809T153000Z
DTEND;VALUE=DATE-TIME:20240809T180000Z
DTSTAMP;VALUE=DATE-TIME:20260426T014240Z
UID:Mestis-Harjoitusottelut-2024-game-93710@mestis.fi
DESCRIPTION:Kokoonpanot: https://mestis.fi/fi/ottelut/2024-2025/valmistava
 t_ottelut/1065/kokoonpanot/\n\nSeuranta: https://mestis.fi/fi/ottelut/2024
 -2025/valmistavat_ottelut/1065/seuranta/
PRODID:mestis.fi
VERSION:2.0
END:VEVENT
BEGIN:VEVENT
SUMMARY:JoKP - Ketterä
DTSTART;VALUE=DATE-TIME:20240814T153000Z
DTEND;VALUE=DATE-TIME:20240814T180000Z
DTSTAMP;VALUE=DATE-TIME:20260426T014240Z
UID:Mestis-Harjoitusottelut-2024-game-93711@mestis.fi
DESCRIPTION:Kokoonpanot: https://mestis.fi/fi/ottelut/2024-2025/valmistava
 t_ottelut/1029/kokoonpanot/\n\nSeuranta: https://mestis.fi/fi/ottelut/2024
 -2025/valmistavat_ottelut/1029/seuranta/
PRODID:mestis.fi
VERSION:2.0
END:VEVENT
BEGIN:VEVENT
SUMMARY:IPK - KeuPa HT
DTSTART;VALUE=DATE-TIME:20240814T153000Z
DTEND;VALUE=DATE-TIME:20240814T180000Z
DTSTAMP;VALUE=DATE-TIME:20260426T014240Z
UID:Mestis-Harjoitusottelut-2024-game-93714@mestis.fi
DESCRIPTION:Kokoonpanot: https://mestis.fi/fi/ottelut/2024-2025/valmistava
 t_ottelut/1091/kokoonpanot/\n\nSeuranta: https://mestis.fi/fi/ottelut/2024
 -2025/valmistavat_ottelut/1091/seuranta/
PRODID:mestis.fi
VERSION:2.0
END:VEVENT
BEGIN:VEVENT
SUMMARY:Hokki - RoKi
DTSTART;VALUE=DATE-TIME:20240814T153000Z
DTEND;VALUE=DATE-TIME:20240814T180000Z
DTSTAMP;VALUE=DATE-TIME:20260426T014240Z
UID:Mestis-Harjoitusottelut-2024-game-94598@mestis.fi
DESCRIPTION:Kokoonpanot: https://mestis.fi/fi/ottelut/2024-2025/valmistava
 t_ottelut/5110/kokoonpanot/\n\nSeuranta: https://mestis.fi/fi/ottelut/2024
 -2025/valmistavat_ottelut/5110/seuranta/
PRODID:mestis.fi
VERSION:2.0
END:VEVENT
BEGIN:VEVENT
SUMMARY:Hermes - Muik Hockey
DTSTART;VALUE=DATE-TIME:20240815T150000Z
DTEND;VALUE=DATE-TIME:20240815T173000Z
DTSTAMP;VALUE=DATE-TIME:20260426T014240Z
UID:Mestis-Harjoitusottelut-2024-game-94106@mestis.fi
DESCRIPTION:Kokoonpanot: https://mestis.fi/fi/ottelut/2024-2025/valmistava
 t_ottelut/4082/kokoonpanot/\n\nSeuranta: https://mestis.fi/fi/ottelut/2024
 -2025/valmistavat_ottelut/4082/seuranta/
PRODID:mestis.fi
VERSION:2.0
END:VEVENT
BEGIN:VEVENT
SUMMARY:Jokerit - K-Vantaa
DTSTART;VALUE=DATE-TIME:20240816T153000Z
DTEND;VALUE=DATE-TIME:20240816T180000Z
DTSTAMP;VALUE=DATE-TIME:20260426T014240Z
UID:Mestis-Harjoitusottelut-2024-game-93713@mestis.fi
DESCRIPTION:Kokoonpanot: https://mestis.fi/fi/ottelut/2024-2025/valmistava
 t_ottelut/1066/kokoonpanot/\n\nSeuranta: https://mestis.fi/fi/ottelut/2024
 -2025/valmistavat_ottelut/1066/seuranta/
PRODID:mestis.fi
VERSION:2.0
END:VEVENT
BEGIN:VEVENT
SUMMARY:TUTO Hockey - Milwaukee School
DTSTART;VALUE=DATE-TIME:20240816T160000Z
DTEND;VALUE=DATE-TIME:20240816T183000Z
DTSTAMP;VALUE=DATE-TIME:20260426T014240Z
UID:Mestis-Harjoitusottelut-2024-game-95276@mestis.fi
DESCRIPTION:Kokoonpanot: https://mestis.fi/fi/ottelut/2024-2025/valmistava
 t_ottelut/8259/kokoonpanot/\n\nSeuranta: https://mestis.fi/fi/ottelut/2024
 -2025/valmistavat_ottelut/8259/seuranta/
PRODID:mestis.fi
VERSION:2.0
END:VEVENT
BEGIN:VEVENT
SUMMARY:TUTO Hockey - LAT
DTSTART;VALUE=DATE-TIME:20240817T160000Z
DTEND;VALUE=DATE-TIME:20240817T183000Z
DTSTAMP;VALUE=DATE-TIME:20260426T014240Z
UID:Mestis-Harjoitusottelut-2024-game-95277@mestis.fi
DESCRIPTION:Kokoonpanot: https://mestis.fi/fi/ottelut/2024-2025/valmistava
 t_ottelut/8260/kokoonpanot/\n\nSeuranta: https://mestis.fi/fi/ottelut/2024
 -2025/valmistavat_ottelut/8260/seuranta/
PRODID:mestis.fi
VERSION:2.0
END:VEVENT
BEGIN:VEVENT
SUMMARY:Narvik Arctic Eagles\, NOR - RoKi
DTSTART;VALUE=DATE-TIME:20240817T150000Z
DTEND;VALUE=DATE-TIME:20240817T173000Z
DTSTAMP;VALUE=DATE-TIME:20260426T014240Z
UID:Mestis-Harjoitusottelut-2024-game-95255@mestis.fi
DESCRIPTION:Kokoonpanot: https://mestis.fi/fi/ottelut/2024-2025/valmistava
 t_ottelut/7572/kokoonpanot/\n\nSeuranta: https://mestis.fi/fi/ottelut/2024
 -2025/valmistavat_ottelut/7572/seuranta/
PRODID:mestis.fi
VERSION:2.0
END:VEVENT
BEGIN:VEVENT
SUMMARY:TUTO Hockey - LAT
DTSTART;VALUE=DATE-TIME:20240817T210000Z
DTEND;VALUE=DATE-TIME:20240817T233000Z
DTSTAMP;VALUE=DATE-TIME:20260426T014240Z
UID:Mestis-Harjoitusottelut-2024-game-95261@mestis.fi
DESCRIPTION:Kokoonpanot: https://mestis.fi/fi/ottelut/2024-2025/valmistava
 t_ottelut/8261/kokoonpanot/\n\nSeuranta: https://mestis.fi/fi/ottelut/2024
 -2025/valmistavat_ottelut/8261/seuranta/
PRODID:mestis.fi
VERSION:2.0
END:VEVENT
BEGIN:VEVENT
SUMMARY:Narvik Arctic Eagles\, NOR - RoKi
DTSTART;VALUE=DATE-TIME:20240818T110000Z
DTEND;VALUE=DATE-TIME:20240818T133000Z
DTSTAMP;VALUE=DATE-TIME:20260426T014240Z
UID:Mestis-Harjoitusottelut-2024-game-95256@mestis.fi
DESCRIPTION:Kokoonpanot: https://mestis.fi/fi/ottelut/2024-2025/valmistava
 t_ottelut/7573/kokoonpanot/\n\nSeuranta: https://mestis.fi/fi/ottelut/2024
 -2025/valmistavat_ottelut/7573/seuranta/
PRODID:mestis.fi
VERSION:2.0
END:VEVENT
BEGIN:VEVENT
SUMMARY:KeuPa HT - Hermes
DTSTART;VALUE=DATE-TIME:20240821T150000Z
DTEND;VALUE=DATE-TIME:20240821T173000Z
DTSTAMP;VALUE=DATE-TIME:20260426T014240Z
UID:Mestis-Harjoitusottelut-2024-game-93855@mestis.fi
DESCRIPTION:Kokoonpanot: https://mestis.fi/fi/ottelut/2024-2025/valmistava
 t_ottelut/4008/kokoonpanot/\n\nSeuranta: https://mestis.fi/fi/ottelut/2024
 -2025/valmistavat_ottelut/4008/seuranta/
PRODID:mestis.fi
VERSION:2.0
END:VEVENT
BEGIN:VEVENT
SUMMARY:Ketterä - Hermes
DTSTART;VALUE=DATE-TIME:20240822T153000Z
DTEND;VALUE=DATE-TIME:20240822T180000Z
DTSTAMP;VALUE=DATE-TIME:20260426T014240Z
UID:Mestis-Harjoitusottelut-2024-game-93715@mestis.fi
DESCRIPTION:Kokoonpanot: https://mestis.fi/fi/ottelut/2024-2025/valmistava
 t_ottelut/3744/kokoonpanot/\n\nSeuranta: https://mestis.fi/fi/ottelut/2024
 -2025/valmistavat_ottelut/3744/seuranta/
PRODID:mestis.fi
VERSION:2.0
END:VEVENT
BEGIN:VEVENT
SUMMARY:KeuPa HT - IPK
DTSTART;VALUE=DATE-TIME:20240822T150000Z
DTEND;VALUE=DATE-TIME:20240822T173000Z
DTSTAMP;VALUE=DATE-TIME:20260426T014240Z
UID:Mestis-Harjoitusottelut-2024-game-93856@mestis.fi
DESCRIPTION:Kokoonpanot: https://mestis.fi/fi/ottelut/2024-2025/valmistava
 t_ottelut/4009/kokoonpanot/\n\nSeuranta: https://mestis.fi/fi/ottelut/2024
 -2025/valmistavat_ottelut/4009/seuranta/
PRODID:mestis.fi
VERSION:2.0
END:VEVENT
BEGIN:VEVENT
SUMMARY:Hermes - JoKP
DTSTART;VALUE=DATE-TIME:20240823T130000Z
DTEND;VALUE=DATE-TIME:20240823T153000Z
DTSTAMP;VALUE=DATE-TIME:20260426T014240Z
UID:Mestis-Harjoitusottelut-2024-game-93716@mestis.fi
DESCRIPTION:Kokoonpanot: https://mestis.fi/fi/ottelut/2024-2025/valmistava
 t_ottelut/1031/kokoonpanot/\n\nSeuranta: https://mestis.fi/fi/ottelut/2024
 -2025/valmistavat_ottelut/1031/seuranta/
PRODID:mestis.fi
VERSION:2.0
END:VEVENT
BEGIN:VEVENT
SUMMARY:TUTO Hockey - Jokerit
DTSTART;VALUE=DATE-TIME:20240823T153000Z
DTEND;VALUE=DATE-TIME:20240823T180000Z
DTSTAMP;VALUE=DATE-TIME:20260426T014240Z
UID:Mestis-Harjoitusottelut-2024-game-93717@mestis.fi
DESCRIPTION:Kokoonpanot: https://mestis.fi/fi/ottelut/2024-2025/valmistava
 t_ottelut/1719/kokoonpanot/\n\nSeuranta: https://mestis.fi/fi/ottelut/2024
 -2025/valmistavat_ottelut/1719/seuranta/
PRODID:mestis.fi
VERSION:2.0
END:VEVENT
BEGIN:VEVENT
SUMMARY:RoKi - Boden\, SWE
DTSTART;VALUE=DATE-TIME:20240824T140000Z
DTEND;VALUE=DATE-TIME:20240824T163000Z
DTSTAMP;VALUE=DATE-TIME:20260426T014240Z
UID:Mestis-Harjoitusottelut-2024-game-95257@mestis.fi
DESCRIPTION:Kokoonpanot: https://mestis.fi/fi/ottelut/2024-2025/valmistava
 t_ottelut/7574/kokoonpanot/\n\nSeuranta: https://mestis.fi/fi/ottelut/2024
 -2025/valmistavat_ottelut/7574/seuranta/
PRODID:mestis.fi
VERSION:2.0
END:VEVENT
BEGIN:VEVENT
SUMMARY:Boden\, SWE - RoKi
DTSTART;VALUE=DATE-TIME:20240828T170000Z
DTEND;VALUE=DATE-TIME:20240828T193000Z
DTSTAMP;VALUE=DATE-TIME:20260426T014240Z
UID:Mestis-Harjoitusottelut-2024-game-95258@mestis.fi
DESCRIPTION:Kokoonpanot: https://mestis.fi/fi/ottelut/2024-2025/valmistava
 t_ottelut/7575/kokoonpanot/\n\nSeuranta: https://mestis.fi/fi/ottelut/2024
 -2025/valmistavat_ottelut/7575/seuranta/
PRODID:mestis.fi
VERSION:2.0
END:VEVENT
BEGIN:VEVENT
SUMMARY:Hermes - KeuPa HT
DTSTART;VALUE=DATE-TIME:20240828T150000Z
DTEND;VALUE=DATE-TIME:20240828T173000Z
DTSTAMP;VALUE=DATE-TIME:20260426T014240Z
UID:Mestis-Harjoitusottelut-2024-game-94107@mestis.fi
DESCRIPTION:Kokoonpanot: https://mestis.fi/fi/ottelut/2024-2025/valmistava
 t_ottelut/4083/kokoonpanot/\n\nSeuranta: https://mestis.fi/fi/ottelut/2024
 -2025/valmistavat_ottelut/4083/seuranta/
PRODID:mestis.fi
VERSION:2.0
END:VEVENT
BEGIN:VEVENT
SUMMARY:JoKP - Hokki
DTSTART;VALUE=DATE-TIME:20240828T153000Z
DTEND;VALUE=DATE-TIME:20240828T180000Z
DTSTAMP;VALUE=DATE-TIME:20260426T014240Z
UID:Mestis-Harjoitusottelut-2024-game-93837@mestis.fi
DESCRIPTION:Kokoonpanot: https://mestis.fi/fi/ottelut/2024-2025/valmistava
 t_ottelut/3897/kokoonpanot/\n\nSeuranta: https://mestis.fi/fi/ottelut/2024
 -2025/valmistavat_ottelut/3897/seuranta/
PRODID:mestis.fi
VERSION:2.0
END:VEVENT
BEGIN:VEVENT
SUMMARY:Ketterä - K-Vantaa
DTSTART;VALUE=DATE-TIME:20240828T153000Z
DTEND;VALUE=DATE-TIME:20240828T180000Z
DTSTAMP;VALUE=DATE-TIME:20260426T014240Z
UID:Mestis-Harjoitusottelut-2024-game-95009@mestis.fi
DESCRIPTION:Kokoonpanot: https://mestis.fi/fi/ottelut/2024-2025/valmistava
 t_ottelut/7096/kokoonpanot/\n\nSeuranta: https://mestis.fi/fi/ottelut/2024
 -2025/valmistavat_ottelut/7096/seuranta/
PRODID:mestis.fi
VERSION:2.0
END:VEVENT
BEGIN:VEVENT
SUMMARY:Hermes - IPK
DTSTART;VALUE=DATE-TIME:20240829T143000Z
DTEND;VALUE=DATE-TIME:20240829T170000Z
DTSTAMP;VALUE=DATE-TIME:20260426T014240Z
UID:Mestis-Harjoitusottelut-2024-game-93718@mestis.fi
DESCRIPTION:Kokoonpanot: https://mestis.fi/fi/ottelut/2024-2025/valmistava
 t_ottelut/2797/kokoonpanot/\n\nSeuranta: https://mestis.fi/fi/ottelut/2024
 -2025/valmistavat_ottelut/2797/seuranta/
PRODID:mestis.fi
VERSION:2.0
END:VEVENT
BEGIN:VEVENT
SUMMARY:K-Vantaa - Ketterä
DTSTART;VALUE=DATE-TIME:20240830T153000Z
DTEND;VALUE=DATE-TIME:20240830T180000Z
DTSTAMP;VALUE=DATE-TIME:20260426T014240Z
UID:Mestis-Harjoitusottelut-2024-game-93721@mestis.fi
DESCRIPTION:Kokoonpanot: https://mestis.fi/fi/ottelut/2024-2025/valmistava
 t_ottelut/1067/kokoonpanot/\n\nSeuranta: https://mestis.fi/fi/ottelut/2024
 -2025/valmistavat_ottelut/1067/seuranta/
PRODID:mestis.fi
VERSION:2.0
END:VEVENT
BEGIN:VEVENT
SUMMARY:IPK - Hokki
DTSTART;VALUE=DATE-TIME:20240830T153000Z
DTEND;VALUE=DATE-TIME:20240830T180000Z
DTSTAMP;VALUE=DATE-TIME:20260426T014240Z
UID:Mestis-Harjoitusottelut-2024-game-93719@mestis.fi
DESCRIPTION:Kokoonpanot: https://mestis.fi/fi/ottelut/2024-2025/valmistava
 t_ottelut/1092/kokoonpanot/\n\nSeuranta: https://mestis.fi/fi/ottelut/2024
 -2025/valmistavat_ottelut/1092/seuranta/
PRODID:mestis.fi
VERSION:2.0
END:VEVENT
BEGIN:VEVENT
SUMMARY:HC Panter - KeuPa HT
DTSTART;VALUE=DATE-TIME:20240830T150000Z
DTEND;VALUE=DATE-TIME:20240830T173000Z
DTSTAMP;VALUE=DATE-TIME:20260426T014240Z
UID:Mestis-Harjoitusottelut-2024-game-95289@mestis.fi
DESCRIPTION:Kokoonpanot: https://mestis.fi/fi/ottelut/2024-2025/valmistava
 t_ottelut/10752/kokoonpanot/\n\nSeuranta: https://mestis.fi/fi/ottelut/202
 4-2025/valmistavat_ottelut/10752/seuranta/
PRODID:mestis.fi
VERSION:2.0
END:VEVENT
BEGIN:VEVENT
SUMMARY:TUTO Hockey - Tingsryds AIF\, SWE
DTSTART;VALUE=DATE-TIME:20240830T153000Z
DTEND;VALUE=DATE-TIME:20240830T180000Z
DTSTAMP;VALUE=DATE-TIME:20260426T014240Z
UID:Mestis-Harjoitusottelut-2024-game-95008@mestis.fi
DESCRIPTION:Kokoonpanot: https://mestis.fi/fi/ottelut/2024-2025/valmistava
 t_ottelut/3856/kokoonpanot/\n\nSeuranta: https://mestis.fi/fi/ottelut/2024
 -2025/valmistavat_ottelut/3856/seuranta/
PRODID:mestis.fi
VERSION:2.0
END:VEVENT
BEGIN:VEVENT
SUMMARY:Jokerit - ESV Kaufbeuren
DTSTART;VALUE=DATE-TIME:20240831T163000Z
DTEND;VALUE=DATE-TIME:20240831T190000Z
DTSTAMP;VALUE=DATE-TIME:20260426T014240Z
UID:Mestis-Harjoitusottelut-2024-game-93722@mestis.fi
DESCRIPTION:Kokoonpanot: https://mestis.fi/fi/ottelut/2024-2025/valmistava
 t_ottelut/1720/kokoonpanot/\n\nSeuranta: https://mestis.fi/fi/ottelut/2024
 -2025/valmistavat_ottelut/1720/seuranta/
PRODID:mestis.fi
VERSION:2.0
END:VEVENT
BEGIN:VEVENT
SUMMARY:Red Bull Salzburg\, AUT - Jokerit
DTSTART;VALUE=DATE-TIME:20240831T210000Z
DTEND;VALUE=DATE-TIME:20240831T233000Z
DTSTAMP;VALUE=DATE-TIME:20260426T014240Z
UID:Mestis-Harjoitusottelut-2024-game-93723@mestis.fi
DESCRIPTION:Kokoonpanot: https://mestis.fi/fi/ottelut/2024-2025/valmistava
 t_ottelut/1721/kokoonpanot/\n\nSeuranta: https://mestis.fi/fi/ottelut/2024
 -2025/valmistavat_ottelut/1721/seuranta/
PRODID:mestis.fi
VERSION:2.0
END:VEVENT
BEGIN:VEVENT
SUMMARY:JoKP - KeuPa HT
DTSTART;VALUE=DATE-TIME:20240903T153000Z
DTEND;VALUE=DATE-TIME:20240903T180000Z
DTSTAMP;VALUE=DATE-TIME:20260426T014240Z
UID:Mestis-Harjoitusottelut-2024-game-93840@mestis.fi
DESCRIPTION:Kokoonpanot: https://mestis.fi/fi/ottelut/2024-2025/valmistava
 t_ottelut/3898/kokoonpanot/\n\nSeuranta: https://mestis.fi/fi/ottelut/2024
 -2025/valmistavat_ottelut/3898/seuranta/
PRODID:mestis.fi
VERSION:2.0
END:VEVENT
BEGIN:VEVENT
SUMMARY:Hokki - IPK
DTSTART;VALUE=DATE-TIME:20240904T153000Z
DTEND;VALUE=DATE-TIME:20240904T180000Z
DTSTAMP;VALUE=DATE-TIME:20260426T014240Z
UID:Mestis-Harjoitusottelut-2024-game-94600@mestis.fi
DESCRIPTION:Kokoonpanot: https://mestis.fi/fi/ottelut/2024-2025/valmistava
 t_ottelut/5111/kokoonpanot/\n\nSeuranta: https://mestis.fi/fi/ottelut/2024
 -2025/valmistavat_ottelut/5111/seuranta/
PRODID:mestis.fi
VERSION:2.0
END:VEVENT
BEGIN:VEVENT
SUMMARY:Muik Hockey - Hermes
DTSTART;VALUE=DATE-TIME:20240904T160000Z
DTEND;VALUE=DATE-TIME:20240904T183000Z
DTSTAMP;VALUE=DATE-TIME:20260426T014240Z
UID:Mestis-Harjoitusottelut-2024-game-95278@mestis.fi
DESCRIPTION:Kokoonpanot: https://mestis.fi/fi/ottelut/2024-2025/valmistava
 t_ottelut/8750/kokoonpanot/\n\nSeuranta: https://mestis.fi/fi/ottelut/2024
 -2025/valmistavat_ottelut/8750/seuranta/
PRODID:mestis.fi
VERSION:2.0
END:VEVENT
BEGIN:VEVENT
SUMMARY:K-Vantaa - TUTO Hockey
DTSTART;VALUE=DATE-TIME:20240904T153000Z
DTEND;VALUE=DATE-TIME:20240904T180000Z
DTSTAMP;VALUE=DATE-TIME:20260426T014240Z
UID:Mestis-Harjoitusottelut-2024-game-93724@mestis.fi
DESCRIPTION:Kokoonpanot: https://mestis.fi/fi/ottelut/2024-2025/valmistava
 t_ottelut/1068/kokoonpanot/\n\nSeuranta: https://mestis.fi/fi/ottelut/2024
 -2025/valmistavat_ottelut/1068/seuranta/
PRODID:mestis.fi
VERSION:2.0
END:VEVENT
BEGIN:VEVENT
SUMMARY:Hokki - JoKP
DTSTART;VALUE=DATE-TIME:20240905T153000Z
DTEND;VALUE=DATE-TIME:20240905T180000Z
DTSTAMP;VALUE=DATE-TIME:20260426T014240Z
UID:Mestis-Harjoitusottelut-2024-game-93841@mestis.fi
DESCRIPTION:Kokoonpanot: https://mestis.fi/fi/ottelut/2024-2025/valmistava
 t_ottelut/3899/kokoonpanot/\n\nSeuranta: https://mestis.fi/fi/ottelut/2024
 -2025/valmistavat_ottelut/3899/seuranta/
PRODID:mestis.fi
VERSION:2.0
END:VEVENT
BEGIN:VEVENT
SUMMARY:TUTO Hockey - K-Vantaa
DTSTART;VALUE=DATE-TIME:20240905T153000Z
DTEND;VALUE=DATE-TIME:20240905T180000Z
DTSTAMP;VALUE=DATE-TIME:20260426T014240Z
UID:Mestis-Harjoitusottelut-2024-game-93726@mestis.fi
DESCRIPTION:Kokoonpanot: https://mestis.fi/fi/ottelut/2024-2025/valmistava
 t_ottelut/1069/kokoonpanot/\n\nSeuranta: https://mestis.fi/fi/ottelut/2024
 -2025/valmistavat_ottelut/1069/seuranta/
PRODID:mestis.fi
VERSION:2.0
END:VEVENT
BEGIN:VEVENT
SUMMARY:Ketterä - Jokerit
DTSTART;VALUE=DATE-TIME:20240905T140000Z
DTEND;VALUE=DATE-TIME:20240905T163000Z
DTSTAMP;VALUE=DATE-TIME:20260426T014240Z
UID:Mestis-Harjoitusottelut-2024-game-93725@mestis.fi
DESCRIPTION:Kokoonpanot: https://mestis.fi/fi/ottelut/2024-2025/valmistava
 t_ottelut/2798/kokoonpanot/\n\nSeuranta: https://mestis.fi/fi/ottelut/2024
 -2025/valmistavat_ottelut/2798/seuranta/
PRODID:mestis.fi
VERSION:2.0
END:VEVENT
END:VCALENDAR
