BEGIN:VCALENDAR
DTSTART;VALUE=DATE:20230602
SUMMARY:Ottelut 2023-09-22 - 2024-03-07
BEGIN:VEVENT
SUMMARY:TUTO Hockey - FPS
DTSTART;VALUE=DATE-TIME:20230922T153000Z
DTEND;VALUE=DATE-TIME:20230922T180000Z
DTSTAMP;VALUE=DATE-TIME:20260420T165838Z
UID:Mestis-Runkosarja-2023-game-93321@mestis.fi
DESCRIPTION:Kokoonpanot: https://mestis.fi/fi/ottelut/2023-2024/runkosarja
 /3886/kokoonpanot/\n\nSeuranta: https://mestis.fi/fi/ottelut/2023-2024/run
 kosarja/3886/seuranta/
PRODID:mestis.fi
VERSION:2.0
END:VEVENT
BEGIN:VEVENT
SUMMARY:K-Espoo - TUTO Hockey
DTSTART;VALUE=DATE-TIME:20230923T140000Z
DTEND;VALUE=DATE-TIME:20230923T163000Z
DTSTAMP;VALUE=DATE-TIME:20260420T165838Z
UID:Mestis-Runkosarja-2023-game-93329@mestis.fi
DESCRIPTION:Kokoonpanot: https://mestis.fi/fi/ottelut/2023-2024/runkosarja
 /4009/kokoonpanot/\n\nSeuranta: https://mestis.fi/fi/ottelut/2023-2024/run
 kosarja/4009/seuranta/
PRODID:mestis.fi
VERSION:2.0
END:VEVENT
BEGIN:VEVENT
SUMMARY:TUTO Hockey - KeuPa HT
DTSTART;VALUE=DATE-TIME:20230930T140000Z
DTEND;VALUE=DATE-TIME:20230930T163000Z
DTSTAMP;VALUE=DATE-TIME:20260420T165838Z
UID:Mestis-Runkosarja-2023-game-93347@mestis.fi
DESCRIPTION:Kokoonpanot: https://mestis.fi/fi/ottelut/2023-2024/runkosarja
 /3847/kokoonpanot/\n\nSeuranta: https://mestis.fi/fi/ottelut/2023-2024/run
 kosarja/3847/seuranta/
PRODID:mestis.fi
VERSION:2.0
END:VEVENT
BEGIN:VEVENT
SUMMARY:KeuPa HT - TUTO Hockey
DTSTART;VALUE=DATE-TIME:20231006T153000Z
DTEND;VALUE=DATE-TIME:20231006T180000Z
DTSTAMP;VALUE=DATE-TIME:20260420T165838Z
UID:Mestis-Runkosarja-2023-game-93352@mestis.fi
DESCRIPTION:Kokoonpanot: https://mestis.fi/fi/ottelut/2023-2024/runkosarja
 /3925/kokoonpanot/\n\nSeuranta: https://mestis.fi/fi/ottelut/2023-2024/run
 kosarja/3925/seuranta/
PRODID:mestis.fi
VERSION:2.0
END:VEVENT
BEGIN:VEVENT
SUMMARY:TUTO Hockey - Jokerit
DTSTART;VALUE=DATE-TIME:20231007T140000Z
DTEND;VALUE=DATE-TIME:20231007T163000Z
DTSTAMP;VALUE=DATE-TIME:20260420T165838Z
UID:Mestis-Runkosarja-2023-game-93359@mestis.fi
DESCRIPTION:Kokoonpanot: https://mestis.fi/fi/ottelut/2023-2024/runkosarja
 /3918/kokoonpanot/\n\nSeuranta: https://mestis.fi/fi/ottelut/2023-2024/run
 kosarja/3918/seuranta/
PRODID:mestis.fi
VERSION:2.0
END:VEVENT
BEGIN:VEVENT
SUMMARY:FPS - TUTO Hockey
DTSTART;VALUE=DATE-TIME:20231014T140000Z
DTEND;VALUE=DATE-TIME:20231014T163000Z
DTSTAMP;VALUE=DATE-TIME:20260420T165838Z
UID:Mestis-Runkosarja-2023-game-93373@mestis.fi
DESCRIPTION:Kokoonpanot: https://mestis.fi/fi/ottelut/2023-2024/runkosarja
 /3964/kokoonpanot/\n\nSeuranta: https://mestis.fi/fi/ottelut/2023-2024/run
 kosarja/3964/seuranta/
PRODID:mestis.fi
VERSION:2.0
END:VEVENT
BEGIN:VEVENT
SUMMARY:JoKP - TUTO Hockey
DTSTART;VALUE=DATE-TIME:20231020T153000Z
DTEND;VALUE=DATE-TIME:20231020T180000Z
DTSTAMP;VALUE=DATE-TIME:20260420T165838Z
UID:Mestis-Runkosarja-2023-game-93377@mestis.fi
DESCRIPTION:Kokoonpanot: https://mestis.fi/fi/ottelut/2023-2024/runkosarja
 /4068/kokoonpanot/\n\nSeuranta: https://mestis.fi/fi/ottelut/2023-2024/run
 kosarja/4068/seuranta/
PRODID:mestis.fi
VERSION:2.0
END:VEVENT
BEGIN:VEVENT
SUMMARY:IPK - TUTO Hockey
DTSTART;VALUE=DATE-TIME:20231021T140000Z
DTEND;VALUE=DATE-TIME:20231021T163000Z
DTSTAMP;VALUE=DATE-TIME:20260420T165838Z
UID:Mestis-Runkosarja-2023-game-93384@mestis.fi
DESCRIPTION:Kokoonpanot: https://mestis.fi/fi/ottelut/2023-2024/runkosarja
 /3827/kokoonpanot/\n\nSeuranta: https://mestis.fi/fi/ottelut/2023-2024/run
 kosarja/3827/seuranta/
PRODID:mestis.fi
VERSION:2.0
END:VEVENT
BEGIN:VEVENT
SUMMARY:K-Vantaa - TUTO Hockey
DTSTART;VALUE=DATE-TIME:20231027T153000Z
DTEND;VALUE=DATE-TIME:20231027T180000Z
DTSTAMP;VALUE=DATE-TIME:20260420T165838Z
UID:Mestis-Runkosarja-2023-game-93394@mestis.fi
DESCRIPTION:Kokoonpanot: https://mestis.fi/fi/ottelut/2023-2024/runkosarja
 /3938/kokoonpanot/\n\nSeuranta: https://mestis.fi/fi/ottelut/2023-2024/run
 kosarja/3938/seuranta/
PRODID:mestis.fi
VERSION:2.0
END:VEVENT
BEGIN:VEVENT
SUMMARY:TUTO Hockey - Ketterä
DTSTART;VALUE=DATE-TIME:20231028T140000Z
DTEND;VALUE=DATE-TIME:20231028T163000Z
DTSTAMP;VALUE=DATE-TIME:20260420T165838Z
UID:Mestis-Runkosarja-2023-game-93398@mestis.fi
DESCRIPTION:Kokoonpanot: https://mestis.fi/fi/ottelut/2023-2024/runkosarja
 /3821/kokoonpanot/\n\nSeuranta: https://mestis.fi/fi/ottelut/2023-2024/run
 kosarja/3821/seuranta/
PRODID:mestis.fi
VERSION:2.0
END:VEVENT
BEGIN:VEVENT
SUMMARY:Jokerit - TUTO Hockey
DTSTART;VALUE=DATE-TIME:20231031T163000Z
DTEND;VALUE=DATE-TIME:20231031T190000Z
DTSTAMP;VALUE=DATE-TIME:20260420T165838Z
UID:Mestis-Runkosarja-2023-game-93400@mestis.fi
DESCRIPTION:Kokoonpanot: https://mestis.fi/fi/ottelut/2023-2024/runkosarja
 /3840/kokoonpanot/\n\nSeuranta: https://mestis.fi/fi/ottelut/2023-2024/run
 kosarja/3840/seuranta/
PRODID:mestis.fi
VERSION:2.0
END:VEVENT
BEGIN:VEVENT
SUMMARY:TUTO Hockey - RoKi
DTSTART;VALUE=DATE-TIME:20231102T163000Z
DTEND;VALUE=DATE-TIME:20231102T190000Z
DTSTAMP;VALUE=DATE-TIME:20260420T165838Z
UID:Mestis-Runkosarja-2023-game-93404@mestis.fi
DESCRIPTION:Kokoonpanot: https://mestis.fi/fi/ottelut/2023-2024/runkosarja
 /4113/kokoonpanot/\n\nSeuranta: https://mestis.fi/fi/ottelut/2023-2024/run
 kosarja/4113/seuranta/
PRODID:mestis.fi
VERSION:2.0
END:VEVENT
BEGIN:VEVENT
SUMMARY:TUTO Hockey - IPK
DTSTART;VALUE=DATE-TIME:20231104T150000Z
DTEND;VALUE=DATE-TIME:20231104T173000Z
DTSTAMP;VALUE=DATE-TIME:20260420T165838Z
UID:Mestis-Runkosarja-2023-game-93411@mestis.fi
DESCRIPTION:Kokoonpanot: https://mestis.fi/fi/ottelut/2023-2024/runkosarja
 /3905/kokoonpanot/\n\nSeuranta: https://mestis.fi/fi/ottelut/2023-2024/run
 kosarja/3905/seuranta/
PRODID:mestis.fi
VERSION:2.0
END:VEVENT
BEGIN:VEVENT
SUMMARY:KOOVEE - TUTO Hockey
DTSTART;VALUE=DATE-TIME:20231114T163000Z
DTEND;VALUE=DATE-TIME:20231114T190000Z
DTSTAMP;VALUE=DATE-TIME:20260420T165838Z
UID:Mestis-Runkosarja-2023-game-93415@mestis.fi
DESCRIPTION:Kokoonpanot: https://mestis.fi/fi/ottelut/2023-2024/runkosarja
 /3951/kokoonpanot/\n\nSeuranta: https://mestis.fi/fi/ottelut/2023-2024/run
 kosarja/3951/seuranta/
PRODID:mestis.fi
VERSION:2.0
END:VEVENT
BEGIN:VEVENT
SUMMARY:TUTO Hockey - Hermes
DTSTART;VALUE=DATE-TIME:20231117T163000Z
DTEND;VALUE=DATE-TIME:20231117T190000Z
DTSTAMP;VALUE=DATE-TIME:20260420T165838Z
UID:Mestis-Runkosarja-2023-game-93422@mestis.fi
DESCRIPTION:Kokoonpanot: https://mestis.fi/fi/ottelut/2023-2024/runkosarja
 /3944/kokoonpanot/\n\nSeuranta: https://mestis.fi/fi/ottelut/2023-2024/run
 kosarja/3944/seuranta/
PRODID:mestis.fi
VERSION:2.0
END:VEVENT
BEGIN:VEVENT
SUMMARY:Ketterä - TUTO Hockey
DTSTART;VALUE=DATE-TIME:20231122T163000Z
DTEND;VALUE=DATE-TIME:20231122T190000Z
DTSTAMP;VALUE=DATE-TIME:20260420T165838Z
UID:Mestis-Runkosarja-2023-game-93429@mestis.fi
DESCRIPTION:Kokoonpanot: https://mestis.fi/fi/ottelut/2023-2024/runkosarja
 /4055/kokoonpanot/\n\nSeuranta: https://mestis.fi/fi/ottelut/2023-2024/run
 kosarja/4055/seuranta/
PRODID:mestis.fi
VERSION:2.0
END:VEVENT
BEGIN:VEVENT
SUMMARY:TUTO Hockey - JoKP
DTSTART;VALUE=DATE-TIME:20231124T163000Z
DTEND;VALUE=DATE-TIME:20231124T190000Z
DTSTAMP;VALUE=DATE-TIME:20260420T165838Z
UID:Mestis-Runkosarja-2023-game-93435@mestis.fi
DESCRIPTION:Kokoonpanot: https://mestis.fi/fi/ottelut/2023-2024/runkosarja
 /3990/kokoonpanot/\n\nSeuranta: https://mestis.fi/fi/ottelut/2023-2024/run
 kosarja/3990/seuranta/
PRODID:mestis.fi
VERSION:2.0
END:VEVENT
BEGIN:VEVENT
SUMMARY:TUTO Hockey - K-Espoo
DTSTART;VALUE=DATE-TIME:20231125T150000Z
DTEND;VALUE=DATE-TIME:20231125T173000Z
DTSTAMP;VALUE=DATE-TIME:20260420T165838Z
UID:Mestis-Runkosarja-2023-game-93440@mestis.fi
DESCRIPTION:Kokoonpanot: https://mestis.fi/fi/ottelut/2023-2024/runkosarja
 /4087/kokoonpanot/\n\nSeuranta: https://mestis.fi/fi/ottelut/2023-2024/run
 kosarja/4087/seuranta/
PRODID:mestis.fi
VERSION:2.0
END:VEVENT
BEGIN:VEVENT
SUMMARY:TUTO Hockey - K-Vantaa
DTSTART;VALUE=DATE-TIME:20231201T163000Z
DTEND;VALUE=DATE-TIME:20231201T190000Z
DTSTAMP;VALUE=DATE-TIME:20260420T165838Z
UID:Mestis-Runkosarja-2023-game-93447@mestis.fi
DESCRIPTION:Kokoonpanot: https://mestis.fi/fi/ottelut/2023-2024/runkosarja
 /3860/kokoonpanot/\n\nSeuranta: https://mestis.fi/fi/ottelut/2023-2024/run
 kosarja/3860/seuranta/
PRODID:mestis.fi
VERSION:2.0
END:VEVENT
BEGIN:VEVENT
SUMMARY:TUTO Hockey - KOOVEE
DTSTART;VALUE=DATE-TIME:20231202T140000Z
DTEND;VALUE=DATE-TIME:20231202T163000Z
DTSTAMP;VALUE=DATE-TIME:20260420T165838Z
UID:Mestis-Runkosarja-2023-game-93454@mestis.fi
DESCRIPTION:Kokoonpanot: https://mestis.fi/fi/ottelut/2023-2024/runkosarja
 /3873/kokoonpanot/\n\nSeuranta: https://mestis.fi/fi/ottelut/2023-2024/run
 kosarja/3873/seuranta/
PRODID:mestis.fi
VERSION:2.0
END:VEVENT
BEGIN:VEVENT
SUMMARY:RoKi - TUTO Hockey
DTSTART;VALUE=DATE-TIME:20231208T163000Z
DTEND;VALUE=DATE-TIME:20231208T190000Z
DTSTAMP;VALUE=DATE-TIME:20260420T165838Z
UID:Mestis-Runkosarja-2023-game-93462@mestis.fi
DESCRIPTION:Kokoonpanot: https://mestis.fi/fi/ottelut/2023-2024/runkosarja
 /3879/kokoonpanot/\n\nSeuranta: https://mestis.fi/fi/ottelut/2023-2024/run
 kosarja/3879/seuranta/
PRODID:mestis.fi
VERSION:2.0
END:VEVENT
BEGIN:VEVENT
SUMMARY:RoKi - TUTO Hockey
DTSTART;VALUE=DATE-TIME:20231209T150000Z
DTEND;VALUE=DATE-TIME:20231209T173000Z
DTSTAMP;VALUE=DATE-TIME:20260420T165838Z
UID:Mestis-Runkosarja-2023-game-93466@mestis.fi
DESCRIPTION:Kokoonpanot: https://mestis.fi/fi/ottelut/2023-2024/runkosarja
 /4035/kokoonpanot/\n\nSeuranta: https://mestis.fi/fi/ottelut/2023-2024/run
 kosarja/4035/seuranta/
PRODID:mestis.fi
VERSION:2.0
END:VEVENT
BEGIN:VEVENT
SUMMARY:TUTO Hockey - IPK
DTSTART;VALUE=DATE-TIME:20231214T163000Z
DTEND;VALUE=DATE-TIME:20231214T190000Z
DTSTAMP;VALUE=DATE-TIME:20260420T165838Z
UID:Mestis-Runkosarja-2023-game-93471@mestis.fi
DESCRIPTION:Kokoonpanot: https://mestis.fi/fi/ottelut/2023-2024/runkosarja
 /4061/kokoonpanot/\n\nSeuranta: https://mestis.fi/fi/ottelut/2023-2024/run
 kosarja/4061/seuranta/
PRODID:mestis.fi
VERSION:2.0
END:VEVENT
BEGIN:VEVENT
SUMMARY:TUTO Hockey - Hokki
DTSTART;VALUE=DATE-TIME:20231216T150000Z
DTEND;VALUE=DATE-TIME:20231216T173000Z
DTSTAMP;VALUE=DATE-TIME:20260420T165838Z
UID:Mestis-Runkosarja-2023-game-93478@mestis.fi
DESCRIPTION:Kokoonpanot: https://mestis.fi/fi/ottelut/2023-2024/runkosarja
 /4126/kokoonpanot/\n\nSeuranta: https://mestis.fi/fi/ottelut/2023-2024/run
 kosarja/4126/seuranta/
PRODID:mestis.fi
VERSION:2.0
END:VEVENT
BEGIN:VEVENT
SUMMARY:FPS - TUTO Hockey
DTSTART;VALUE=DATE-TIME:20231228T163000Z
DTEND;VALUE=DATE-TIME:20231228T190000Z
DTSTAMP;VALUE=DATE-TIME:20260420T165838Z
UID:Mestis-Runkosarja-2023-game-93484@mestis.fi
DESCRIPTION:Kokoonpanot: https://mestis.fi/fi/ottelut/2023-2024/runkosarja
 /4120/kokoonpanot/\n\nSeuranta: https://mestis.fi/fi/ottelut/2023-2024/run
 kosarja/4120/seuranta/
PRODID:mestis.fi
VERSION:2.0
END:VEVENT
BEGIN:VEVENT
SUMMARY:TUTO Hockey - Jokerit
DTSTART;VALUE=DATE-TIME:20231229T163000Z
DTEND;VALUE=DATE-TIME:20231229T190000Z
DTSTAMP;VALUE=DATE-TIME:20260420T165838Z
UID:Mestis-Runkosarja-2023-game-93489@mestis.fi
DESCRIPTION:Kokoonpanot: https://mestis.fi/fi/ottelut/2023-2024/runkosarja
 /4074/kokoonpanot/\n\nSeuranta: https://mestis.fi/fi/ottelut/2023-2024/run
 kosarja/4074/seuranta/
PRODID:mestis.fi
VERSION:2.0
END:VEVENT
BEGIN:VEVENT
SUMMARY:TUTO Hockey - KeuPa HT
DTSTART;VALUE=DATE-TIME:20240103T163000Z
DTEND;VALUE=DATE-TIME:20240103T190000Z
DTSTAMP;VALUE=DATE-TIME:20260420T165838Z
UID:Mestis-Runkosarja-2023-game-93497@mestis.fi
DESCRIPTION:Kokoonpanot: https://mestis.fi/fi/ottelut/2023-2024/runkosarja
 /4003/kokoonpanot/\n\nSeuranta: https://mestis.fi/fi/ottelut/2023-2024/run
 kosarja/4003/seuranta/
PRODID:mestis.fi
VERSION:2.0
END:VEVENT
BEGIN:VEVENT
SUMMARY:Hermes - TUTO Hockey
DTSTART;VALUE=DATE-TIME:20240105T163000Z
DTEND;VALUE=DATE-TIME:20240105T190000Z
DTSTAMP;VALUE=DATE-TIME:20260420T165838Z
UID:Mestis-Runkosarja-2023-game-93503@mestis.fi
DESCRIPTION:Kokoonpanot: https://mestis.fi/fi/ottelut/2023-2024/runkosarja
 /3866/kokoonpanot/\n\nSeuranta: https://mestis.fi/fi/ottelut/2023-2024/run
 kosarja/3866/seuranta/
PRODID:mestis.fi
VERSION:2.0
END:VEVENT
BEGIN:VEVENT
SUMMARY:TUTO Hockey - Ketterä
DTSTART;VALUE=DATE-TIME:20240112T163000Z
DTEND;VALUE=DATE-TIME:20240112T190000Z
DTSTAMP;VALUE=DATE-TIME:20260420T165838Z
UID:Mestis-Runkosarja-2023-game-93514@mestis.fi
DESCRIPTION:Kokoonpanot: https://mestis.fi/fi/ottelut/2023-2024/runkosarja
 /3977/kokoonpanot/\n\nSeuranta: https://mestis.fi/fi/ottelut/2023-2024/run
 kosarja/3977/seuranta/
PRODID:mestis.fi
VERSION:2.0
END:VEVENT
BEGIN:VEVENT
SUMMARY:K-Espoo - TUTO Hockey
DTSTART;VALUE=DATE-TIME:20240113T150000Z
DTEND;VALUE=DATE-TIME:20240113T173000Z
DTSTAMP;VALUE=DATE-TIME:20260420T165838Z
UID:Mestis-Runkosarja-2023-game-93520@mestis.fi
DESCRIPTION:Kokoonpanot: https://mestis.fi/fi/ottelut/2023-2024/runkosarja
 /3853/kokoonpanot/\n\nSeuranta: https://mestis.fi/fi/ottelut/2023-2024/run
 kosarja/3853/seuranta/
PRODID:mestis.fi
VERSION:2.0
END:VEVENT
BEGIN:VEVENT
SUMMARY:TUTO Hockey - KOOVEE
DTSTART;VALUE=DATE-TIME:20240116T163000Z
DTEND;VALUE=DATE-TIME:20240116T190000Z
DTSTAMP;VALUE=DATE-TIME:20260420T165838Z
UID:Mestis-Runkosarja-2023-game-93523@mestis.fi
DESCRIPTION:Kokoonpanot: https://mestis.fi/fi/ottelut/2023-2024/runkosarja
 /4029/kokoonpanot/\n\nSeuranta: https://mestis.fi/fi/ottelut/2023-2024/run
 kosarja/4029/seuranta/
PRODID:mestis.fi
VERSION:2.0
END:VEVENT
BEGIN:VEVENT
SUMMARY:Hermes - TUTO Hockey
DTSTART;VALUE=DATE-TIME:20240119T163000Z
DTEND;VALUE=DATE-TIME:20240119T190000Z
DTSTAMP;VALUE=DATE-TIME:20260420T165838Z
UID:Mestis-Runkosarja-2023-game-93529@mestis.fi
DESCRIPTION:Kokoonpanot: https://mestis.fi/fi/ottelut/2023-2024/runkosarja
 /4022/kokoonpanot/\n\nSeuranta: https://mestis.fi/fi/ottelut/2023-2024/run
 kosarja/4022/seuranta/
PRODID:mestis.fi
VERSION:2.0
END:VEVENT
BEGIN:VEVENT
SUMMARY:Hokki - TUTO Hockey
DTSTART;VALUE=DATE-TIME:20240120T150000Z
DTEND;VALUE=DATE-TIME:20240120T173000Z
DTSTAMP;VALUE=DATE-TIME:20260420T165838Z
UID:Mestis-Runkosarja-2023-game-93537@mestis.fi
DESCRIPTION:Kokoonpanot: https://mestis.fi/fi/ottelut/2023-2024/runkosarja
 /4048/kokoonpanot/\n\nSeuranta: https://mestis.fi/fi/ottelut/2023-2024/run
 kosarja/4048/seuranta/
PRODID:mestis.fi
VERSION:2.0
END:VEVENT
BEGIN:VEVENT
SUMMARY:TUTO Hockey - FPS
DTSTART;VALUE=DATE-TIME:20240124T163000Z
DTEND;VALUE=DATE-TIME:20240124T190000Z
DTSTAMP;VALUE=DATE-TIME:20260420T165838Z
UID:Mestis-Runkosarja-2023-game-93539@mestis.fi
DESCRIPTION:Kokoonpanot: https://mestis.fi/fi/ottelut/2023-2024/runkosarja
 /4042/kokoonpanot/\n\nSeuranta: https://mestis.fi/fi/ottelut/2023-2024/run
 kosarja/4042/seuranta/
PRODID:mestis.fi
VERSION:2.0
END:VEVENT
BEGIN:VEVENT
SUMMARY:Hokki - TUTO Hockey
DTSTART;VALUE=DATE-TIME:20240126T163000Z
DTEND;VALUE=DATE-TIME:20240126T190000Z
DTSTAMP;VALUE=DATE-TIME:20260420T165838Z
UID:Mestis-Runkosarja-2023-game-93542@mestis.fi
DESCRIPTION:Kokoonpanot: https://mestis.fi/fi/ottelut/2023-2024/runkosarja
 /3892/kokoonpanot/\n\nSeuranta: https://mestis.fi/fi/ottelut/2023-2024/run
 kosarja/3892/seuranta/
PRODID:mestis.fi
VERSION:2.0
END:VEVENT
BEGIN:VEVENT
SUMMARY:JoKP - TUTO Hockey
DTSTART;VALUE=DATE-TIME:20240127T150000Z
DTEND;VALUE=DATE-TIME:20240127T173000Z
DTSTAMP;VALUE=DATE-TIME:20260420T165838Z
UID:Mestis-Runkosarja-2023-game-93549@mestis.fi
DESCRIPTION:Kokoonpanot: https://mestis.fi/fi/ottelut/2023-2024/runkosarja
 /3912/kokoonpanot/\n\nSeuranta: https://mestis.fi/fi/ottelut/2023-2024/run
 kosarja/3912/seuranta/
PRODID:mestis.fi
VERSION:2.0
END:VEVENT
BEGIN:VEVENT
SUMMARY:TUTO Hockey - JoKP
DTSTART;VALUE=DATE-TIME:20240202T163000Z
DTEND;VALUE=DATE-TIME:20240202T190000Z
DTSTAMP;VALUE=DATE-TIME:20260420T165838Z
UID:Mestis-Runkosarja-2023-game-93560@mestis.fi
DESCRIPTION:Kokoonpanot: https://mestis.fi/fi/ottelut/2023-2024/runkosarja
 /3834/kokoonpanot/\n\nSeuranta: https://mestis.fi/fi/ottelut/2023-2024/run
 kosarja/3834/seuranta/
PRODID:mestis.fi
VERSION:2.0
END:VEVENT
BEGIN:VEVENT
SUMMARY:K-Vantaa - TUTO Hockey
DTSTART;VALUE=DATE-TIME:20240203T150000Z
DTEND;VALUE=DATE-TIME:20240203T173000Z
DTSTAMP;VALUE=DATE-TIME:20260420T165838Z
UID:Mestis-Runkosarja-2023-game-93564@mestis.fi
DESCRIPTION:Kokoonpanot: https://mestis.fi/fi/ottelut/2023-2024/runkosarja
 /4094/kokoonpanot/\n\nSeuranta: https://mestis.fi/fi/ottelut/2023-2024/run
 kosarja/4094/seuranta/
PRODID:mestis.fi
VERSION:2.0
END:VEVENT
BEGIN:VEVENT
SUMMARY:KOOVEE - TUTO Hockey
DTSTART;VALUE=DATE-TIME:20240209T163000Z
DTEND;VALUE=DATE-TIME:20240209T190000Z
DTSTAMP;VALUE=DATE-TIME:20260420T165838Z
UID:Mestis-Runkosarja-2023-game-93576@mestis.fi
DESCRIPTION:Kokoonpanot: https://mestis.fi/fi/ottelut/2023-2024/runkosarja
 /4107/kokoonpanot/\n\nSeuranta: https://mestis.fi/fi/ottelut/2023-2024/run
 kosarja/4107/seuranta/
PRODID:mestis.fi
VERSION:2.0
END:VEVENT
BEGIN:VEVENT
SUMMARY:TUTO Hockey - RoKi
DTSTART;VALUE=DATE-TIME:20240210T150000Z
DTEND;VALUE=DATE-TIME:20240210T173000Z
DTSTAMP;VALUE=DATE-TIME:20260420T165838Z
UID:Mestis-Runkosarja-2023-game-93578@mestis.fi
DESCRIPTION:Kokoonpanot: https://mestis.fi/fi/ottelut/2023-2024/runkosarja
 /3957/kokoonpanot/\n\nSeuranta: https://mestis.fi/fi/ottelut/2023-2024/run
 kosarja/3957/seuranta/
PRODID:mestis.fi
VERSION:2.0
END:VEVENT
BEGIN:VEVENT
SUMMARY:Jokerit - TUTO Hockey
DTSTART;VALUE=DATE-TIME:20240217T150000Z
DTEND;VALUE=DATE-TIME:20240217T173000Z
DTSTAMP;VALUE=DATE-TIME:20260420T165838Z
UID:Mestis-Runkosarja-2023-game-93593@mestis.fi
DESCRIPTION:Kokoonpanot: https://mestis.fi/fi/ottelut/2023-2024/runkosarja
 /3996/kokoonpanot/\n\nSeuranta: https://mestis.fi/fi/ottelut/2023-2024/run
 kosarja/3996/seuranta/
PRODID:mestis.fi
VERSION:2.0
END:VEVENT
BEGIN:VEVENT
SUMMARY:KeuPa HT - TUTO Hockey
DTSTART;VALUE=DATE-TIME:20240220T163000Z
DTEND;VALUE=DATE-TIME:20240220T190000Z
DTSTAMP;VALUE=DATE-TIME:20260420T165838Z
UID:Mestis-Runkosarja-2023-game-93595@mestis.fi
DESCRIPTION:Kokoonpanot: https://mestis.fi/fi/ottelut/2023-2024/runkosarja
 /4081/kokoonpanot/\n\nSeuranta: https://mestis.fi/fi/ottelut/2023-2024/run
 kosarja/4081/seuranta/
PRODID:mestis.fi
VERSION:2.0
END:VEVENT
BEGIN:VEVENT
SUMMARY:IPK - TUTO Hockey
DTSTART;VALUE=DATE-TIME:20240221T163000Z
DTEND;VALUE=DATE-TIME:20240221T190000Z
DTSTAMP;VALUE=DATE-TIME:20260420T165838Z
UID:Mestis-Runkosarja-2023-game-93596@mestis.fi
DESCRIPTION:Kokoonpanot: https://mestis.fi/fi/ottelut/2023-2024/runkosarja
 /3983/kokoonpanot/\n\nSeuranta: https://mestis.fi/fi/ottelut/2023-2024/run
 kosarja/3983/seuranta/
PRODID:mestis.fi
VERSION:2.0
END:VEVENT
BEGIN:VEVENT
SUMMARY:TUTO Hockey - Hokki
DTSTART;VALUE=DATE-TIME:20240224T150000Z
DTEND;VALUE=DATE-TIME:20240224T173000Z
DTSTAMP;VALUE=DATE-TIME:20260420T165838Z
UID:Mestis-Runkosarja-2023-game-93607@mestis.fi
DESCRIPTION:Kokoonpanot: https://mestis.fi/fi/ottelut/2023-2024/runkosarja
 /3970/kokoonpanot/\n\nSeuranta: https://mestis.fi/fi/ottelut/2023-2024/run
 kosarja/3970/seuranta/
PRODID:mestis.fi
VERSION:2.0
END:VEVENT
BEGIN:VEVENT
SUMMARY:TUTO Hockey - K-Espoo
DTSTART;VALUE=DATE-TIME:20240227T163000Z
DTEND;VALUE=DATE-TIME:20240227T190000Z
DTSTAMP;VALUE=DATE-TIME:20260420T165838Z
UID:Mestis-Runkosarja-2023-game-93610@mestis.fi
DESCRIPTION:Kokoonpanot: https://mestis.fi/fi/ottelut/2023-2024/runkosarja
 /3931/kokoonpanot/\n\nSeuranta: https://mestis.fi/fi/ottelut/2023-2024/run
 kosarja/3931/seuranta/
PRODID:mestis.fi
VERSION:2.0
END:VEVENT
BEGIN:VEVENT
SUMMARY:TUTO Hockey - Hermes
DTSTART;VALUE=DATE-TIME:20240301T163000Z
DTEND;VALUE=DATE-TIME:20240301T190000Z
DTSTAMP;VALUE=DATE-TIME:20260420T165838Z
UID:Mestis-Runkosarja-2023-game-93614@mestis.fi
DESCRIPTION:Kokoonpanot: https://mestis.fi/fi/ottelut/2023-2024/runkosarja
 /4100/kokoonpanot/\n\nSeuranta: https://mestis.fi/fi/ottelut/2023-2024/run
 kosarja/4100/seuranta/
PRODID:mestis.fi
VERSION:2.0
END:VEVENT
BEGIN:VEVENT
SUMMARY:Ketterä - TUTO Hockey
DTSTART;VALUE=DATE-TIME:20240302T150000Z
DTEND;VALUE=DATE-TIME:20240302T173000Z
DTSTAMP;VALUE=DATE-TIME:20260420T165838Z
UID:Mestis-Runkosarja-2023-game-93619@mestis.fi
DESCRIPTION:Kokoonpanot: https://mestis.fi/fi/ottelut/2023-2024/runkosarja
 /3899/kokoonpanot/\n\nSeuranta: https://mestis.fi/fi/ottelut/2023-2024/run
 kosarja/3899/seuranta/
PRODID:mestis.fi
VERSION:2.0
END:VEVENT
BEGIN:VEVENT
SUMMARY:TUTO Hockey - K-Vantaa
DTSTART;VALUE=DATE-TIME:20240307T163000Z
DTEND;VALUE=DATE-TIME:20240307T190000Z
DTSTAMP;VALUE=DATE-TIME:20260420T165838Z
UID:Mestis-Runkosarja-2023-game-93631@mestis.fi
DESCRIPTION:Kokoonpanot: https://mestis.fi/fi/ottelut/2023-2024/runkosarja
 /4016/kokoonpanot/\n\nSeuranta: https://mestis.fi/fi/ottelut/2023-2024/run
 kosarja/4016/seuranta/
PRODID:mestis.fi
VERSION:2.0
END:VEVENT
END:VCALENDAR
