BEGIN:VCALENDAR
DTSTART;VALUE=DATE:20230602
SUMMARY:Ottelut 2024-03-09 - 2024-04-20
BEGIN:VEVENT
SUMMARY:JoKP - KOOVEE
DTSTART;VALUE=DATE-TIME:20240309T150000Z
DTEND;VALUE=DATE-TIME:20240309T173000Z
DTSTAMP;VALUE=DATE-TIME:20260423T022256Z
UID:Mestis-Pudotuspelit-2023-game-93653@mestis.fi
DESCRIPTION:Kokoonpanot: https://mestis.fi/fi/ottelut/2023-2024/playoffs/5
 4585/kokoonpanot/\n\nSeuranta: https://mestis.fi/fi/ottelut/2023-2024/play
 offs/54585/seuranta/
PRODID:mestis.fi
VERSION:2.0
END:VEVENT
BEGIN:VEVENT
SUMMARY:K-Vantaa - RoKi
DTSTART;VALUE=DATE-TIME:20240309T150000Z
DTEND;VALUE=DATE-TIME:20240309T173000Z
DTSTAMP;VALUE=DATE-TIME:20260423T022256Z
UID:Mestis-Pudotuspelit-2023-game-93654@mestis.fi
DESCRIPTION:Kokoonpanot: https://mestis.fi/fi/ottelut/2023-2024/playoffs/5
 4586/kokoonpanot/\n\nSeuranta: https://mestis.fi/fi/ottelut/2023-2024/play
 offs/54586/seuranta/
PRODID:mestis.fi
VERSION:2.0
END:VEVENT
BEGIN:VEVENT
SUMMARY:KOOVEE - JoKP
DTSTART;VALUE=DATE-TIME:20240311T163000Z
DTEND;VALUE=DATE-TIME:20240311T190000Z
DTSTAMP;VALUE=DATE-TIME:20260423T022256Z
UID:Mestis-Pudotuspelit-2023-game-93656@mestis.fi
DESCRIPTION:Kokoonpanot: https://mestis.fi/fi/ottelut/2023-2024/playoffs/5
 4587/kokoonpanot/\n\nSeuranta: https://mestis.fi/fi/ottelut/2023-2024/play
 offs/54587/seuranta/
PRODID:mestis.fi
VERSION:2.0
END:VEVENT
BEGIN:VEVENT
SUMMARY:RoKi - K-Vantaa
DTSTART;VALUE=DATE-TIME:20240311T163000Z
DTEND;VALUE=DATE-TIME:20240311T190000Z
DTSTAMP;VALUE=DATE-TIME:20260423T022256Z
UID:Mestis-Pudotuspelit-2023-game-93655@mestis.fi
DESCRIPTION:Kokoonpanot: https://mestis.fi/fi/ottelut/2023-2024/playoffs/5
 4588/kokoonpanot/\n\nSeuranta: https://mestis.fi/fi/ottelut/2023-2024/play
 offs/54588/seuranta/
PRODID:mestis.fi
VERSION:2.0
END:VEVENT
BEGIN:VEVENT
SUMMARY:K-Espoo - TUTO Hockey
DTSTART;VALUE=DATE-TIME:20240314T163000Z
DTEND;VALUE=DATE-TIME:20240314T190000Z
DTSTAMP;VALUE=DATE-TIME:20260423T022256Z
UID:Mestis-Pudotuspelit-2023-game-93660@mestis.fi
DESCRIPTION:Kokoonpanot: https://mestis.fi/fi/ottelut/2023-2024/playoffs/5
 4594/kokoonpanot/\n\nSeuranta: https://mestis.fi/fi/ottelut/2023-2024/play
 offs/54594/seuranta/
PRODID:mestis.fi
VERSION:2.0
END:VEVENT
BEGIN:VEVENT
SUMMARY:Jokerit - Hermes
DTSTART;VALUE=DATE-TIME:20240314T163000Z
DTEND;VALUE=DATE-TIME:20240314T190000Z
DTSTAMP;VALUE=DATE-TIME:20260423T022256Z
UID:Mestis-Pudotuspelit-2023-game-93661@mestis.fi
DESCRIPTION:Kokoonpanot: https://mestis.fi/fi/ottelut/2023-2024/playoffs/5
 4593/kokoonpanot/\n\nSeuranta: https://mestis.fi/fi/ottelut/2023-2024/play
 offs/54593/seuranta/
PRODID:mestis.fi
VERSION:2.0
END:VEVENT
BEGIN:VEVENT
SUMMARY:IPK - RoKi
DTSTART;VALUE=DATE-TIME:20240314T163000Z
DTEND;VALUE=DATE-TIME:20240314T190000Z
DTSTAMP;VALUE=DATE-TIME:20260423T022256Z
UID:Mestis-Pudotuspelit-2023-game-93659@mestis.fi
DESCRIPTION:Kokoonpanot: https://mestis.fi/fi/ottelut/2023-2024/playoffs/5
 4591/kokoonpanot/\n\nSeuranta: https://mestis.fi/fi/ottelut/2023-2024/play
 offs/54591/seuranta/
PRODID:mestis.fi
VERSION:2.0
END:VEVENT
BEGIN:VEVENT
SUMMARY:Ketterä - JoKP
DTSTART;VALUE=DATE-TIME:20240314T163000Z
DTEND;VALUE=DATE-TIME:20240314T190000Z
DTSTAMP;VALUE=DATE-TIME:20260423T022256Z
UID:Mestis-Pudotuspelit-2023-game-93662@mestis.fi
DESCRIPTION:Kokoonpanot: https://mestis.fi/fi/ottelut/2023-2024/playoffs/5
 4592/kokoonpanot/\n\nSeuranta: https://mestis.fi/fi/ottelut/2023-2024/play
 offs/54592/seuranta/
PRODID:mestis.fi
VERSION:2.0
END:VEVENT
BEGIN:VEVENT
SUMMARY:Hermes - Jokerit
DTSTART;VALUE=DATE-TIME:20240315T163000Z
DTEND;VALUE=DATE-TIME:20240315T190000Z
DTSTAMP;VALUE=DATE-TIME:20260423T022256Z
UID:Mestis-Pudotuspelit-2023-game-93666@mestis.fi
DESCRIPTION:Kokoonpanot: https://mestis.fi/fi/ottelut/2023-2024/playoffs/5
 4597/kokoonpanot/\n\nSeuranta: https://mestis.fi/fi/ottelut/2023-2024/play
 offs/54597/seuranta/
PRODID:mestis.fi
VERSION:2.0
END:VEVENT
BEGIN:VEVENT
SUMMARY:TUTO Hockey - K-Espoo
DTSTART;VALUE=DATE-TIME:20240315T163000Z
DTEND;VALUE=DATE-TIME:20240315T190000Z
DTSTAMP;VALUE=DATE-TIME:20260423T022256Z
UID:Mestis-Pudotuspelit-2023-game-93665@mestis.fi
DESCRIPTION:Kokoonpanot: https://mestis.fi/fi/ottelut/2023-2024/playoffs/5
 4598/kokoonpanot/\n\nSeuranta: https://mestis.fi/fi/ottelut/2023-2024/play
 offs/54598/seuranta/
PRODID:mestis.fi
VERSION:2.0
END:VEVENT
BEGIN:VEVENT
SUMMARY:JoKP - Ketterä
DTSTART;VALUE=DATE-TIME:20240316T150000Z
DTEND;VALUE=DATE-TIME:20240316T173000Z
DTSTAMP;VALUE=DATE-TIME:20260423T022256Z
UID:Mestis-Pudotuspelit-2023-game-93663@mestis.fi
DESCRIPTION:Kokoonpanot: https://mestis.fi/fi/ottelut/2023-2024/playoffs/5
 4596/kokoonpanot/\n\nSeuranta: https://mestis.fi/fi/ottelut/2023-2024/play
 offs/54596/seuranta/
PRODID:mestis.fi
VERSION:2.0
END:VEVENT
BEGIN:VEVENT
SUMMARY:RoKi - IPK
DTSTART;VALUE=DATE-TIME:20240316T150000Z
DTEND;VALUE=DATE-TIME:20240316T173000Z
DTSTAMP;VALUE=DATE-TIME:20260423T022256Z
UID:Mestis-Pudotuspelit-2023-game-93664@mestis.fi
DESCRIPTION:Kokoonpanot: https://mestis.fi/fi/ottelut/2023-2024/playoffs/5
 4595/kokoonpanot/\n\nSeuranta: https://mestis.fi/fi/ottelut/2023-2024/play
 offs/54595/seuranta/
PRODID:mestis.fi
VERSION:2.0
END:VEVENT
BEGIN:VEVENT
SUMMARY:Jokerit - Hermes
DTSTART;VALUE=DATE-TIME:20240317T150000Z
DTEND;VALUE=DATE-TIME:20240317T173000Z
DTSTAMP;VALUE=DATE-TIME:20260423T022256Z
UID:Mestis-Pudotuspelit-2023-game-93667@mestis.fi
DESCRIPTION:Kokoonpanot: https://mestis.fi/fi/ottelut/2023-2024/playoffs/5
 4601/kokoonpanot/\n\nSeuranta: https://mestis.fi/fi/ottelut/2023-2024/play
 offs/54601/seuranta/
PRODID:mestis.fi
VERSION:2.0
END:VEVENT
BEGIN:VEVENT
SUMMARY:IPK - RoKi
DTSTART;VALUE=DATE-TIME:20240318T163000Z
DTEND;VALUE=DATE-TIME:20240318T190000Z
DTSTAMP;VALUE=DATE-TIME:20260423T022256Z
UID:Mestis-Pudotuspelit-2023-game-93669@mestis.fi
DESCRIPTION:Kokoonpanot: https://mestis.fi/fi/ottelut/2023-2024/playoffs/5
 4599/kokoonpanot/\n\nSeuranta: https://mestis.fi/fi/ottelut/2023-2024/play
 offs/54599/seuranta/
PRODID:mestis.fi
VERSION:2.0
END:VEVENT
BEGIN:VEVENT
SUMMARY:K-Espoo - TUTO Hockey
DTSTART;VALUE=DATE-TIME:20240318T163000Z
DTEND;VALUE=DATE-TIME:20240318T190000Z
DTSTAMP;VALUE=DATE-TIME:20260423T022256Z
UID:Mestis-Pudotuspelit-2023-game-93670@mestis.fi
DESCRIPTION:Kokoonpanot: https://mestis.fi/fi/ottelut/2023-2024/playoffs/5
 4602/kokoonpanot/\n\nSeuranta: https://mestis.fi/fi/ottelut/2023-2024/play
 offs/54602/seuranta/
PRODID:mestis.fi
VERSION:2.0
END:VEVENT
BEGIN:VEVENT
SUMMARY:Ketterä - JoKP
DTSTART;VALUE=DATE-TIME:20240318T163000Z
DTEND;VALUE=DATE-TIME:20240318T190000Z
DTSTAMP;VALUE=DATE-TIME:20260423T022256Z
UID:Mestis-Pudotuspelit-2023-game-93668@mestis.fi
DESCRIPTION:Kokoonpanot: https://mestis.fi/fi/ottelut/2023-2024/playoffs/5
 4600/kokoonpanot/\n\nSeuranta: https://mestis.fi/fi/ottelut/2023-2024/play
 offs/54600/seuranta/
PRODID:mestis.fi
VERSION:2.0
END:VEVENT
BEGIN:VEVENT
SUMMARY:Hermes - Jokerit
DTSTART;VALUE=DATE-TIME:20240319T163000Z
DTEND;VALUE=DATE-TIME:20240319T190000Z
DTSTAMP;VALUE=DATE-TIME:20260423T022256Z
UID:Mestis-Pudotuspelit-2023-game-93672@mestis.fi
DESCRIPTION:Kokoonpanot: https://mestis.fi/fi/ottelut/2023-2024/playoffs/5
 4605/kokoonpanot/\n\nSeuranta: https://mestis.fi/fi/ottelut/2023-2024/play
 offs/54605/seuranta/
PRODID:mestis.fi
VERSION:2.0
END:VEVENT
BEGIN:VEVENT
SUMMARY:RoKi - IPK
DTSTART;VALUE=DATE-TIME:20240320T163000Z
DTEND;VALUE=DATE-TIME:20240320T190000Z
DTSTAMP;VALUE=DATE-TIME:20260423T022256Z
UID:Mestis-Pudotuspelit-2023-game-93674@mestis.fi
DESCRIPTION:Kokoonpanot: https://mestis.fi/fi/ottelut/2023-2024/playoffs/5
 4603/kokoonpanot/\n\nSeuranta: https://mestis.fi/fi/ottelut/2023-2024/play
 offs/54603/seuranta/
PRODID:mestis.fi
VERSION:2.0
END:VEVENT
BEGIN:VEVENT
SUMMARY:JoKP - Ketterä
DTSTART;VALUE=DATE-TIME:20240320T163000Z
DTEND;VALUE=DATE-TIME:20240320T190000Z
DTSTAMP;VALUE=DATE-TIME:20260423T022256Z
UID:Mestis-Pudotuspelit-2023-game-93673@mestis.fi
DESCRIPTION:Kokoonpanot: https://mestis.fi/fi/ottelut/2023-2024/playoffs/5
 4604/kokoonpanot/\n\nSeuranta: https://mestis.fi/fi/ottelut/2023-2024/play
 offs/54604/seuranta/
PRODID:mestis.fi
VERSION:2.0
END:VEVENT
BEGIN:VEVENT
SUMMARY:TUTO Hockey - K-Espoo
DTSTART;VALUE=DATE-TIME:20240320T163000Z
DTEND;VALUE=DATE-TIME:20240320T190000Z
DTSTAMP;VALUE=DATE-TIME:20260423T022256Z
UID:Mestis-Pudotuspelit-2023-game-93671@mestis.fi
DESCRIPTION:Kokoonpanot: https://mestis.fi/fi/ottelut/2023-2024/playoffs/5
 4606/kokoonpanot/\n\nSeuranta: https://mestis.fi/fi/ottelut/2023-2024/play
 offs/54606/seuranta/
PRODID:mestis.fi
VERSION:2.0
END:VEVENT
BEGIN:VEVENT
SUMMARY:Jokerit - Hermes
DTSTART;VALUE=DATE-TIME:20240321T163000Z
DTEND;VALUE=DATE-TIME:20240321T190000Z
DTSTAMP;VALUE=DATE-TIME:20260423T022256Z
UID:Mestis-Pudotuspelit-2023-game-93677@mestis.fi
DESCRIPTION:Kokoonpanot: https://mestis.fi/fi/ottelut/2023-2024/playoffs/5
 4609/kokoonpanot/\n\nSeuranta: https://mestis.fi/fi/ottelut/2023-2024/play
 offs/54609/seuranta/
PRODID:mestis.fi
VERSION:2.0
END:VEVENT
BEGIN:VEVENT
SUMMARY:Ketterä - JoKP
DTSTART;VALUE=DATE-TIME:20240322T163000Z
DTEND;VALUE=DATE-TIME:20240322T190000Z
DTSTAMP;VALUE=DATE-TIME:20260423T022256Z
UID:Mestis-Pudotuspelit-2023-game-93678@mestis.fi
DESCRIPTION:Kokoonpanot: https://mestis.fi/fi/ottelut/2023-2024/playoffs/5
 4608/kokoonpanot/\n\nSeuranta: https://mestis.fi/fi/ottelut/2023-2024/play
 offs/54608/seuranta/
PRODID:mestis.fi
VERSION:2.0
END:VEVENT
BEGIN:VEVENT
SUMMARY:IPK - RoKi
DTSTART;VALUE=DATE-TIME:20240322T163000Z
DTEND;VALUE=DATE-TIME:20240322T190000Z
DTSTAMP;VALUE=DATE-TIME:20260423T022256Z
UID:Mestis-Pudotuspelit-2023-game-93675@mestis.fi
DESCRIPTION:Kokoonpanot: https://mestis.fi/fi/ottelut/2023-2024/playoffs/5
 4607/kokoonpanot/\n\nSeuranta: https://mestis.fi/fi/ottelut/2023-2024/play
 offs/54607/seuranta/
PRODID:mestis.fi
VERSION:2.0
END:VEVENT
BEGIN:VEVENT
SUMMARY:K-Espoo - TUTO Hockey
DTSTART;VALUE=DATE-TIME:20240322T163000Z
DTEND;VALUE=DATE-TIME:20240322T190000Z
DTSTAMP;VALUE=DATE-TIME:20260423T022256Z
UID:Mestis-Pudotuspelit-2023-game-93676@mestis.fi
DESCRIPTION:Kokoonpanot: https://mestis.fi/fi/ottelut/2023-2024/playoffs/5
 4610/kokoonpanot/\n\nSeuranta: https://mestis.fi/fi/ottelut/2023-2024/play
 offs/54610/seuranta/
PRODID:mestis.fi
VERSION:2.0
END:VEVENT
BEGIN:VEVENT
SUMMARY:RoKi - IPK
DTSTART;VALUE=DATE-TIME:20240323T150000Z
DTEND;VALUE=DATE-TIME:20240323T173000Z
DTSTAMP;VALUE=DATE-TIME:20260423T022256Z
UID:Mestis-Pudotuspelit-2023-game-93680@mestis.fi
DESCRIPTION:Kokoonpanot: https://mestis.fi/fi/ottelut/2023-2024/playoffs/5
 4611/kokoonpanot/\n\nSeuranta: https://mestis.fi/fi/ottelut/2023-2024/play
 offs/54611/seuranta/
PRODID:mestis.fi
VERSION:2.0
END:VEVENT
BEGIN:VEVENT
SUMMARY:TUTO Hockey - K-Espoo
DTSTART;VALUE=DATE-TIME:20240323T150000Z
DTEND;VALUE=DATE-TIME:20240323T173000Z
DTSTAMP;VALUE=DATE-TIME:20260423T022256Z
UID:Mestis-Pudotuspelit-2023-game-93681@mestis.fi
DESCRIPTION:Kokoonpanot: https://mestis.fi/fi/ottelut/2023-2024/playoffs/5
 4614/kokoonpanot/\n\nSeuranta: https://mestis.fi/fi/ottelut/2023-2024/play
 offs/54614/seuranta/
PRODID:mestis.fi
VERSION:2.0
END:VEVENT
BEGIN:VEVENT
SUMMARY:Hermes - Jokerit
DTSTART;VALUE=DATE-TIME:20240323T150000Z
DTEND;VALUE=DATE-TIME:20240323T173000Z
DTSTAMP;VALUE=DATE-TIME:20260423T022256Z
UID:Mestis-Pudotuspelit-2023-game-93682@mestis.fi
DESCRIPTION:Kokoonpanot: https://mestis.fi/fi/ottelut/2023-2024/playoffs/5
 4613/kokoonpanot/\n\nSeuranta: https://mestis.fi/fi/ottelut/2023-2024/play
 offs/54613/seuranta/
PRODID:mestis.fi
VERSION:2.0
END:VEVENT
BEGIN:VEVENT
SUMMARY:K-Espoo - TUTO Hockey
DTSTART;VALUE=DATE-TIME:20240325T163000Z
DTEND;VALUE=DATE-TIME:20240325T190000Z
DTSTAMP;VALUE=DATE-TIME:20260423T022256Z
UID:Mestis-Pudotuspelit-2023-game-93685@mestis.fi
DESCRIPTION:Kokoonpanot: https://mestis.fi/fi/ottelut/2023-2024/playoffs/5
 4618/kokoonpanot/\n\nSeuranta: https://mestis.fi/fi/ottelut/2023-2024/play
 offs/54618/seuranta/
PRODID:mestis.fi
VERSION:2.0
END:VEVENT
BEGIN:VEVENT
SUMMARY:Ketterä - K-Espoo
DTSTART;VALUE=DATE-TIME:20240327T163000Z
DTEND;VALUE=DATE-TIME:20240327T190000Z
DTSTAMP;VALUE=DATE-TIME:20260423T022256Z
UID:Mestis-Pudotuspelit-2023-game-93687@mestis.fi
DESCRIPTION:Kokoonpanot: https://mestis.fi/fi/ottelut/2023-2024/playoffs/5
 4620/kokoonpanot/\n\nSeuranta: https://mestis.fi/fi/ottelut/2023-2024/play
 offs/54620/seuranta/
PRODID:mestis.fi
VERSION:2.0
END:VEVENT
BEGIN:VEVENT
SUMMARY:IPK - Hermes
DTSTART;VALUE=DATE-TIME:20240327T163000Z
DTEND;VALUE=DATE-TIME:20240327T190000Z
DTSTAMP;VALUE=DATE-TIME:20260423T022256Z
UID:Mestis-Pudotuspelit-2023-game-93688@mestis.fi
DESCRIPTION:Kokoonpanot: https://mestis.fi/fi/ottelut/2023-2024/playoffs/5
 4619/kokoonpanot/\n\nSeuranta: https://mestis.fi/fi/ottelut/2023-2024/play
 offs/54619/seuranta/
PRODID:mestis.fi
VERSION:2.0
END:VEVENT
BEGIN:VEVENT
SUMMARY:Hermes - IPK
DTSTART;VALUE=DATE-TIME:20240329T150000Z
DTEND;VALUE=DATE-TIME:20240329T173000Z
DTSTAMP;VALUE=DATE-TIME:20260423T022256Z
UID:Mestis-Pudotuspelit-2023-game-93690@mestis.fi
DESCRIPTION:Kokoonpanot: https://mestis.fi/fi/ottelut/2023-2024/playoffs/5
 4621/kokoonpanot/\n\nSeuranta: https://mestis.fi/fi/ottelut/2023-2024/play
 offs/54621/seuranta/
PRODID:mestis.fi
VERSION:2.0
END:VEVENT
BEGIN:VEVENT
SUMMARY:K-Espoo - Ketterä
DTSTART;VALUE=DATE-TIME:20240329T150000Z
DTEND;VALUE=DATE-TIME:20240329T173000Z
DTSTAMP;VALUE=DATE-TIME:20260423T022256Z
UID:Mestis-Pudotuspelit-2023-game-93689@mestis.fi
DESCRIPTION:Kokoonpanot: https://mestis.fi/fi/ottelut/2023-2024/playoffs/5
 4622/kokoonpanot/\n\nSeuranta: https://mestis.fi/fi/ottelut/2023-2024/play
 offs/54622/seuranta/
PRODID:mestis.fi
VERSION:2.0
END:VEVENT
BEGIN:VEVENT
SUMMARY:IPK - Hermes
DTSTART;VALUE=DATE-TIME:20240330T150000Z
DTEND;VALUE=DATE-TIME:20240330T173000Z
DTSTAMP;VALUE=DATE-TIME:20260423T022256Z
UID:Mestis-Pudotuspelit-2023-game-93692@mestis.fi
DESCRIPTION:Kokoonpanot: https://mestis.fi/fi/ottelut/2023-2024/playoffs/5
 4623/kokoonpanot/\n\nSeuranta: https://mestis.fi/fi/ottelut/2023-2024/play
 offs/54623/seuranta/
PRODID:mestis.fi
VERSION:2.0
END:VEVENT
BEGIN:VEVENT
SUMMARY:Ketterä - K-Espoo
DTSTART;VALUE=DATE-TIME:20240330T150000Z
DTEND;VALUE=DATE-TIME:20240330T173000Z
DTSTAMP;VALUE=DATE-TIME:20260423T022256Z
UID:Mestis-Pudotuspelit-2023-game-93691@mestis.fi
DESCRIPTION:Kokoonpanot: https://mestis.fi/fi/ottelut/2023-2024/playoffs/5
 4624/kokoonpanot/\n\nSeuranta: https://mestis.fi/fi/ottelut/2023-2024/play
 offs/54624/seuranta/
PRODID:mestis.fi
VERSION:2.0
END:VEVENT
BEGIN:VEVENT
SUMMARY:Hermes - IPK
DTSTART;VALUE=DATE-TIME:20240401T140000Z
DTEND;VALUE=DATE-TIME:20240401T163000Z
DTSTAMP;VALUE=DATE-TIME:20260423T022256Z
UID:Mestis-Pudotuspelit-2023-game-93693@mestis.fi
DESCRIPTION:Kokoonpanot: https://mestis.fi/fi/ottelut/2023-2024/playoffs/5
 4625/kokoonpanot/\n\nSeuranta: https://mestis.fi/fi/ottelut/2023-2024/play
 offs/54625/seuranta/
PRODID:mestis.fi
VERSION:2.0
END:VEVENT
BEGIN:VEVENT
SUMMARY:K-Espoo - Ketterä
DTSTART;VALUE=DATE-TIME:20240401T140000Z
DTEND;VALUE=DATE-TIME:20240401T163000Z
DTSTAMP;VALUE=DATE-TIME:20260423T022256Z
UID:Mestis-Pudotuspelit-2023-game-93694@mestis.fi
DESCRIPTION:Kokoonpanot: https://mestis.fi/fi/ottelut/2023-2024/playoffs/5
 4626/kokoonpanot/\n\nSeuranta: https://mestis.fi/fi/ottelut/2023-2024/play
 offs/54626/seuranta/
PRODID:mestis.fi
VERSION:2.0
END:VEVENT
BEGIN:VEVENT
SUMMARY:IPK - Hermes
DTSTART;VALUE=DATE-TIME:20240403T153000Z
DTEND;VALUE=DATE-TIME:20240403T180000Z
DTSTAMP;VALUE=DATE-TIME:20260423T022256Z
UID:Mestis-Pudotuspelit-2023-game-93696@mestis.fi
DESCRIPTION:Kokoonpanot: https://mestis.fi/fi/ottelut/2023-2024/playoffs/5
 4627/kokoonpanot/\n\nSeuranta: https://mestis.fi/fi/ottelut/2023-2024/play
 offs/54627/seuranta/
PRODID:mestis.fi
VERSION:2.0
END:VEVENT
BEGIN:VEVENT
SUMMARY:Hermes - IPK
DTSTART;VALUE=DATE-TIME:20240405T153000Z
DTEND;VALUE=DATE-TIME:20240405T180000Z
DTSTAMP;VALUE=DATE-TIME:20260423T022256Z
UID:Mestis-Pudotuspelit-2023-game-93698@mestis.fi
DESCRIPTION:Kokoonpanot: https://mestis.fi/fi/ottelut/2023-2024/playoffs/5
 4629/kokoonpanot/\n\nSeuranta: https://mestis.fi/fi/ottelut/2023-2024/play
 offs/54629/seuranta/
PRODID:mestis.fi
VERSION:2.0
END:VEVENT
BEGIN:VEVENT
SUMMARY:IPK - Hermes
DTSTART;VALUE=DATE-TIME:20240406T140000Z
DTEND;VALUE=DATE-TIME:20240406T163000Z
DTSTAMP;VALUE=DATE-TIME:20260423T022256Z
UID:Mestis-Pudotuspelit-2023-game-93700@mestis.fi
DESCRIPTION:Kokoonpanot: https://mestis.fi/fi/ottelut/2023-2024/playoffs/5
 4631/kokoonpanot/\n\nSeuranta: https://mestis.fi/fi/ottelut/2023-2024/play
 offs/54631/seuranta/
PRODID:mestis.fi
VERSION:2.0
END:VEVENT
BEGIN:VEVENT
SUMMARY:IPK - Ketterä
DTSTART;VALUE=DATE-TIME:20240408T153000Z
DTEND;VALUE=DATE-TIME:20240408T180000Z
DTSTAMP;VALUE=DATE-TIME:20260423T022256Z
UID:Mestis-Pudotuspelit-2023-game-93701@mestis.fi
DESCRIPTION:Kokoonpanot: https://mestis.fi/fi/ottelut/2023-2024/playoffs/5
 4634/kokoonpanot/\n\nSeuranta: https://mestis.fi/fi/ottelut/2023-2024/play
 offs/54634/seuranta/
PRODID:mestis.fi
VERSION:2.0
END:VEVENT
BEGIN:VEVENT
SUMMARY:K-Espoo - Hermes
DTSTART;VALUE=DATE-TIME:20240410T153000Z
DTEND;VALUE=DATE-TIME:20240410T180000Z
DTSTAMP;VALUE=DATE-TIME:20260423T022256Z
UID:Mestis-Pudotuspelit-2023-game-93703@mestis.fi
DESCRIPTION:Kokoonpanot: https://mestis.fi/fi/ottelut/2023-2024/playoffs/5
 4633/kokoonpanot/\n\nSeuranta: https://mestis.fi/fi/ottelut/2023-2024/play
 offs/54633/seuranta/
PRODID:mestis.fi
VERSION:2.0
END:VEVENT
BEGIN:VEVENT
SUMMARY:Ketterä - IPK
DTSTART;VALUE=DATE-TIME:20240410T153000Z
DTEND;VALUE=DATE-TIME:20240410T180000Z
DTSTAMP;VALUE=DATE-TIME:20260423T022256Z
UID:Mestis-Pudotuspelit-2023-game-93702@mestis.fi
DESCRIPTION:Kokoonpanot: https://mestis.fi/fi/ottelut/2023-2024/playoffs/5
 4635/kokoonpanot/\n\nSeuranta: https://mestis.fi/fi/ottelut/2023-2024/play
 offs/54635/seuranta/
PRODID:mestis.fi
VERSION:2.0
END:VEVENT
BEGIN:VEVENT
SUMMARY:IPK - Ketterä
DTSTART;VALUE=DATE-TIME:20240412T153000Z
DTEND;VALUE=DATE-TIME:20240412T180000Z
DTSTAMP;VALUE=DATE-TIME:20260423T022256Z
UID:Mestis-Pudotuspelit-2023-game-93704@mestis.fi
DESCRIPTION:Kokoonpanot: https://mestis.fi/fi/ottelut/2023-2024/playoffs/5
 4636/kokoonpanot/\n\nSeuranta: https://mestis.fi/fi/ottelut/2023-2024/play
 offs/54636/seuranta/
PRODID:mestis.fi
VERSION:2.0
END:VEVENT
BEGIN:VEVENT
SUMMARY:Ketterä - IPK
DTSTART;VALUE=DATE-TIME:20240413T140000Z
DTEND;VALUE=DATE-TIME:20240413T163000Z
DTSTAMP;VALUE=DATE-TIME:20260423T022256Z
UID:Mestis-Pudotuspelit-2023-game-93705@mestis.fi
DESCRIPTION:Kokoonpanot: https://mestis.fi/fi/ottelut/2023-2024/playoffs/5
 4637/kokoonpanot/\n\nSeuranta: https://mestis.fi/fi/ottelut/2023-2024/play
 offs/54637/seuranta/
PRODID:mestis.fi
VERSION:2.0
END:VEVENT
BEGIN:VEVENT
SUMMARY:IPK - Ketterä
DTSTART;VALUE=DATE-TIME:20240416T153000Z
DTEND;VALUE=DATE-TIME:20240416T180000Z
DTSTAMP;VALUE=DATE-TIME:20260423T022256Z
UID:Mestis-Pudotuspelit-2023-game-93706@mestis.fi
DESCRIPTION:Kokoonpanot: https://mestis.fi/fi/ottelut/2023-2024/playoffs/5
 4638/kokoonpanot/\n\nSeuranta: https://mestis.fi/fi/ottelut/2023-2024/play
 offs/54638/seuranta/
PRODID:mestis.fi
VERSION:2.0
END:VEVENT
BEGIN:VEVENT
SUMMARY:Ketterä - IPK
DTSTART;VALUE=DATE-TIME:20240418T153000Z
DTEND;VALUE=DATE-TIME:20240418T180000Z
DTSTAMP;VALUE=DATE-TIME:20260423T022256Z
UID:Mestis-Pudotuspelit-2023-game-93707@mestis.fi
DESCRIPTION:Kokoonpanot: https://mestis.fi/fi/ottelut/2023-2024/playoffs/5
 4639/kokoonpanot/\n\nSeuranta: https://mestis.fi/fi/ottelut/2023-2024/play
 offs/54639/seuranta/
PRODID:mestis.fi
VERSION:2.0
END:VEVENT
BEGIN:VEVENT
SUMMARY:IPK - Ketterä
DTSTART;VALUE=DATE-TIME:20240420T140000Z
DTEND;VALUE=DATE-TIME:20240420T163000Z
DTSTAMP;VALUE=DATE-TIME:20260423T022256Z
UID:Mestis-Pudotuspelit-2023-game-93708@mestis.fi
DESCRIPTION:Kokoonpanot: https://mestis.fi/fi/ottelut/2023-2024/playoffs/5
 4640/kokoonpanot/\n\nSeuranta: https://mestis.fi/fi/ottelut/2023-2024/play
 offs/54640/seuranta/
PRODID:mestis.fi
VERSION:2.0
END:VEVENT
END:VCALENDAR
