BEGIN:VCALENDAR
DTSTART;VALUE=DATE:20220611
SUMMARY:Ottelut 2022-09-23 - 2023-03-18
BEGIN:VEVENT
SUMMARY:Hermes - RoKi
DTSTART;VALUE=DATE-TIME:20220923T153000Z
DTEND;VALUE=DATE-TIME:20220923T180000Z
DTSTAMP;VALUE=DATE-TIME:20260424T190137Z
UID:Mestis-Runkosarja-2022-game-92746@mestis.fi
DESCRIPTION:Kokoonpanot: https://mestis.fi/fi/ottelut/2022-2023/runkosarja
 /7425/kokoonpanot/\n\nSeuranta: https://mestis.fi/fi/ottelut/2022-2023/run
 kosarja/7425/seuranta/
PRODID:mestis.fi
VERSION:2.0
END:VEVENT
BEGIN:VEVENT
SUMMARY:RoKi - Hokki
DTSTART;VALUE=DATE-TIME:20220924T140000Z
DTEND;VALUE=DATE-TIME:20220924T163000Z
DTSTAMP;VALUE=DATE-TIME:20260424T190137Z
UID:Mestis-Runkosarja-2022-game-92747@mestis.fi
DESCRIPTION:Kokoonpanot: https://mestis.fi/fi/ottelut/2022-2023/runkosarja
 /7477/kokoonpanot/\n\nSeuranta: https://mestis.fi/fi/ottelut/2022-2023/run
 kosarja/7477/seuranta/
PRODID:mestis.fi
VERSION:2.0
END:VEVENT
BEGIN:VEVENT
SUMMARY:K-Vantaa - RoKi
DTSTART;VALUE=DATE-TIME:20220930T153000Z
DTEND;VALUE=DATE-TIME:20220930T180000Z
DTSTAMP;VALUE=DATE-TIME:20260424T190137Z
UID:Mestis-Runkosarja-2022-game-92757@mestis.fi
DESCRIPTION:Kokoonpanot: https://mestis.fi/fi/ottelut/2022-2023/runkosarja
 /7312/kokoonpanot/\n\nSeuranta: https://mestis.fi/fi/ottelut/2022-2023/run
 kosarja/7312/seuranta/
PRODID:mestis.fi
VERSION:2.0
END:VEVENT
BEGIN:VEVENT
SUMMARY:K-Espoo - RoKi
DTSTART;VALUE=DATE-TIME:20221001T140000Z
DTEND;VALUE=DATE-TIME:20221001T163000Z
DTSTAMP;VALUE=DATE-TIME:20260424T190137Z
UID:Mestis-Runkosarja-2022-game-92764@mestis.fi
DESCRIPTION:Kokoonpanot: https://mestis.fi/fi/ottelut/2022-2023/runkosarja
 /7410/kokoonpanot/\n\nSeuranta: https://mestis.fi/fi/ottelut/2022-2023/run
 kosarja/7410/seuranta/
PRODID:mestis.fi
VERSION:2.0
END:VEVENT
BEGIN:VEVENT
SUMMARY:RoKi - FPS
DTSTART;VALUE=DATE-TIME:20221007T153000Z
DTEND;VALUE=DATE-TIME:20221007T180000Z
DTSTAMP;VALUE=DATE-TIME:20260424T190137Z
UID:Mestis-Runkosarja-2022-game-92774@mestis.fi
DESCRIPTION:Kokoonpanot: https://mestis.fi/fi/ottelut/2022-2023/runkosarja
 /7349/kokoonpanot/\n\nSeuranta: https://mestis.fi/fi/ottelut/2022-2023/run
 kosarja/7349/seuranta/
PRODID:mestis.fi
VERSION:2.0
END:VEVENT
BEGIN:VEVENT
SUMMARY:IPK - RoKi
DTSTART;VALUE=DATE-TIME:20221008T140000Z
DTEND;VALUE=DATE-TIME:20221008T163000Z
DTSTAMP;VALUE=DATE-TIME:20260424T190137Z
UID:Mestis-Runkosarja-2022-game-92776@mestis.fi
DESCRIPTION:Kokoonpanot: https://mestis.fi/fi/ottelut/2022-2023/runkosarja
 /7282/kokoonpanot/\n\nSeuranta: https://mestis.fi/fi/ottelut/2022-2023/run
 kosarja/7282/seuranta/
PRODID:mestis.fi
VERSION:2.0
END:VEVENT
BEGIN:VEVENT
SUMMARY:RoKi - KOOVEE
DTSTART;VALUE=DATE-TIME:20221014T153000Z
DTEND;VALUE=DATE-TIME:20221014T180000Z
DTSTAMP;VALUE=DATE-TIME:20260424T190137Z
UID:Mestis-Runkosarja-2022-game-92788@mestis.fi
DESCRIPTION:Kokoonpanot: https://mestis.fi/fi/ottelut/2022-2023/runkosarja
 /7432/kokoonpanot/\n\nSeuranta: https://mestis.fi/fi/ottelut/2022-2023/run
 kosarja/7432/seuranta/
PRODID:mestis.fi
VERSION:2.0
END:VEVENT
BEGIN:VEVENT
SUMMARY:RoKi - Ketterä
DTSTART;VALUE=DATE-TIME:20221015T140000Z
DTEND;VALUE=DATE-TIME:20221015T163000Z
DTSTAMP;VALUE=DATE-TIME:20260424T190137Z
UID:Mestis-Runkosarja-2022-game-92793@mestis.fi
DESCRIPTION:Kokoonpanot: https://mestis.fi/fi/ottelut/2022-2023/runkosarja
 /7275/kokoonpanot/\n\nSeuranta: https://mestis.fi/fi/ottelut/2022-2023/run
 kosarja/7275/seuranta/
PRODID:mestis.fi
VERSION:2.0
END:VEVENT
BEGIN:VEVENT
SUMMARY:TUTO Hockey - RoKi
DTSTART;VALUE=DATE-TIME:20221021T153000Z
DTEND;VALUE=DATE-TIME:20221021T180000Z
DTSTAMP;VALUE=DATE-TIME:20260424T190137Z
UID:Mestis-Runkosarja-2022-game-92801@mestis.fi
DESCRIPTION:Kokoonpanot: https://mestis.fi/fi/ottelut/2022-2023/runkosarja
 /7348/kokoonpanot/\n\nSeuranta: https://mestis.fi/fi/ottelut/2022-2023/run
 kosarja/7348/seuranta/
PRODID:mestis.fi
VERSION:2.0
END:VEVENT
BEGIN:VEVENT
SUMMARY:FPS - RoKi
DTSTART;VALUE=DATE-TIME:20221022T140000Z
DTEND;VALUE=DATE-TIME:20221022T163000Z
DTSTAMP;VALUE=DATE-TIME:20260424T190137Z
UID:Mestis-Runkosarja-2022-game-92804@mestis.fi
DESCRIPTION:Kokoonpanot: https://mestis.fi/fi/ottelut/2022-2023/runkosarja
 /7454/kokoonpanot/\n\nSeuranta: https://mestis.fi/fi/ottelut/2022-2023/run
 kosarja/7454/seuranta/
PRODID:mestis.fi
VERSION:2.0
END:VEVENT
BEGIN:VEVENT
SUMMARY:RoKi - K-Espoo
DTSTART;VALUE=DATE-TIME:20221028T153000Z
DTEND;VALUE=DATE-TIME:20221028T180000Z
DTSTAMP;VALUE=DATE-TIME:20260424T190137Z
UID:Mestis-Runkosarja-2022-game-92814@mestis.fi
DESCRIPTION:Kokoonpanot: https://mestis.fi/fi/ottelut/2022-2023/runkosarja
 /7515/kokoonpanot/\n\nSeuranta: https://mestis.fi/fi/ottelut/2022-2023/run
 kosarja/7515/seuranta/
PRODID:mestis.fi
VERSION:2.0
END:VEVENT
BEGIN:VEVENT
SUMMARY:RoKi - K-Espoo
DTSTART;VALUE=DATE-TIME:20221029T140000Z
DTEND;VALUE=DATE-TIME:20221029T163000Z
DTSTAMP;VALUE=DATE-TIME:20260424T190137Z
UID:Mestis-Runkosarja-2022-game-92822@mestis.fi
DESCRIPTION:Kokoonpanot: https://mestis.fi/fi/ottelut/2022-2023/runkosarja
 /7305/kokoonpanot/\n\nSeuranta: https://mestis.fi/fi/ottelut/2022-2023/run
 kosarja/7305/seuranta/
PRODID:mestis.fi
VERSION:2.0
END:VEVENT
BEGIN:VEVENT
SUMMARY:JoKP - RoKi
DTSTART;VALUE=DATE-TIME:20221103T163000Z
DTEND;VALUE=DATE-TIME:20221103T190000Z
DTSTAMP;VALUE=DATE-TIME:20260424T190137Z
UID:Mestis-Runkosarja-2022-game-92826@mestis.fi
DESCRIPTION:Kokoonpanot: https://mestis.fi/fi/ottelut/2022-2023/runkosarja
 /7395/kokoonpanot/\n\nSeuranta: https://mestis.fi/fi/ottelut/2022-2023/run
 kosarja/7395/seuranta/
PRODID:mestis.fi
VERSION:2.0
END:VEVENT
BEGIN:VEVENT
SUMMARY:Ketterä - RoKi
DTSTART;VALUE=DATE-TIME:20221104T163000Z
DTEND;VALUE=DATE-TIME:20221104T190000Z
DTSTAMP;VALUE=DATE-TIME:20260424T190137Z
UID:Mestis-Runkosarja-2022-game-92829@mestis.fi
DESCRIPTION:Kokoonpanot: https://mestis.fi/fi/ottelut/2022-2023/runkosarja
 /7380/kokoonpanot/\n\nSeuranta: https://mestis.fi/fi/ottelut/2022-2023/run
 kosarja/7380/seuranta/
PRODID:mestis.fi
VERSION:2.0
END:VEVENT
BEGIN:VEVENT
SUMMARY:Ketterä - RoKi
DTSTART;VALUE=DATE-TIME:20221105T150000Z
DTEND;VALUE=DATE-TIME:20221105T173000Z
DTSTAMP;VALUE=DATE-TIME:20260424T190137Z
UID:Mestis-Runkosarja-2022-game-92833@mestis.fi
DESCRIPTION:Kokoonpanot: https://mestis.fi/fi/ottelut/2022-2023/runkosarja
 /7590/kokoonpanot/\n\nSeuranta: https://mestis.fi/fi/ottelut/2022-2023/run
 kosarja/7590/seuranta/
PRODID:mestis.fi
VERSION:2.0
END:VEVENT
BEGIN:VEVENT
SUMMARY:RoKi - IPK
DTSTART;VALUE=DATE-TIME:20221116T163000Z
DTEND;VALUE=DATE-TIME:20221116T190000Z
DTSTAMP;VALUE=DATE-TIME:20260424T190137Z
UID:Mestis-Runkosarja-2022-game-92840@mestis.fi
DESCRIPTION:Kokoonpanot: https://mestis.fi/fi/ottelut/2022-2023/runkosarja
 /7387/kokoonpanot/\n\nSeuranta: https://mestis.fi/fi/ottelut/2022-2023/run
 kosarja/7387/seuranta/
PRODID:mestis.fi
VERSION:2.0
END:VEVENT
BEGIN:VEVENT
SUMMARY:Peliitat - RoKi
DTSTART;VALUE=DATE-TIME:20221118T163000Z
DTEND;VALUE=DATE-TIME:20221118T190000Z
DTSTAMP;VALUE=DATE-TIME:20260424T190137Z
UID:Mestis-Runkosarja-2022-game-92845@mestis.fi
DESCRIPTION:Kokoonpanot: https://mestis.fi/fi/ottelut/2022-2023/runkosarja
 /7357/kokoonpanot/\n\nSeuranta: https://mestis.fi/fi/ottelut/2022-2023/run
 kosarja/7357/seuranta/
PRODID:mestis.fi
VERSION:2.0
END:VEVENT
BEGIN:VEVENT
SUMMARY:KOOVEE - RoKi
DTSTART;VALUE=DATE-TIME:20221119T150000Z
DTEND;VALUE=DATE-TIME:20221119T173000Z
DTSTAMP;VALUE=DATE-TIME:20260424T190137Z
UID:Mestis-Runkosarja-2022-game-92850@mestis.fi
DESCRIPTION:Kokoonpanot: https://mestis.fi/fi/ottelut/2022-2023/runkosarja
 /7327/kokoonpanot/\n\nSeuranta: https://mestis.fi/fi/ottelut/2022-2023/run
 kosarja/7327/seuranta/
PRODID:mestis.fi
VERSION:2.0
END:VEVENT
BEGIN:VEVENT
SUMMARY:Hokki - RoKi
DTSTART;VALUE=DATE-TIME:20221125T163000Z
DTEND;VALUE=DATE-TIME:20221125T190000Z
DTSTAMP;VALUE=DATE-TIME:20260424T190137Z
UID:Mestis-Runkosarja-2022-game-92861@mestis.fi
DESCRIPTION:Kokoonpanot: https://mestis.fi/fi/ottelut/2022-2023/runkosarja
 /7372/kokoonpanot/\n\nSeuranta: https://mestis.fi/fi/ottelut/2022-2023/run
 kosarja/7372/seuranta/
PRODID:mestis.fi
VERSION:2.0
END:VEVENT
BEGIN:VEVENT
SUMMARY:RoKi - JoKP
DTSTART;VALUE=DATE-TIME:20221126T150000Z
DTEND;VALUE=DATE-TIME:20221126T173000Z
DTSTAMP;VALUE=DATE-TIME:20260424T190137Z
UID:Mestis-Runkosarja-2022-game-92863@mestis.fi
DESCRIPTION:Kokoonpanot: https://mestis.fi/fi/ottelut/2022-2023/runkosarja
 /7290/kokoonpanot/\n\nSeuranta: https://mestis.fi/fi/ottelut/2022-2023/run
 kosarja/7290/seuranta/
PRODID:mestis.fi
VERSION:2.0
END:VEVENT
BEGIN:VEVENT
SUMMARY:RoKi - KeuPa HT
DTSTART;VALUE=DATE-TIME:20221130T163000Z
DTEND;VALUE=DATE-TIME:20221130T190000Z
DTSTAMP;VALUE=DATE-TIME:20260424T190137Z
UID:Mestis-Runkosarja-2022-game-92870@mestis.fi
DESCRIPTION:Kokoonpanot: https://mestis.fi/fi/ottelut/2022-2023/runkosarja
 /7612/kokoonpanot/\n\nSeuranta: https://mestis.fi/fi/ottelut/2022-2023/run
 kosarja/7612/seuranta/
PRODID:mestis.fi
VERSION:2.0
END:VEVENT
BEGIN:VEVENT
SUMMARY:RoKi - Peliitat
DTSTART;VALUE=DATE-TIME:20221203T150000Z
DTEND;VALUE=DATE-TIME:20221203T173000Z
DTSTAMP;VALUE=DATE-TIME:20260424T190137Z
UID:Mestis-Runkosarja-2022-game-92883@mestis.fi
DESCRIPTION:Kokoonpanot: https://mestis.fi/fi/ottelut/2022-2023/runkosarja
 /7462/kokoonpanot/\n\nSeuranta: https://mestis.fi/fi/ottelut/2022-2023/run
 kosarja/7462/seuranta/
PRODID:mestis.fi
VERSION:2.0
END:VEVENT
BEGIN:VEVENT
SUMMARY:HK Zemgale - RoKi
DTSTART;VALUE=DATE-TIME:20221209T163000Z
DTEND;VALUE=DATE-TIME:20221209T190000Z
DTSTAMP;VALUE=DATE-TIME:20260424T190137Z
UID:Mestis-Runkosarja-2022-game-92889@mestis.fi
DESCRIPTION:Kokoonpanot: https://mestis.fi/fi/ottelut/2022-2023/runkosarja
 /8178/kokoonpanot/\n\nSeuranta: https://mestis.fi/fi/ottelut/2022-2023/run
 kosarja/8178/seuranta/
PRODID:mestis.fi
VERSION:2.0
END:VEVENT
BEGIN:VEVENT
SUMMARY:HK Zemgale - RoKi
DTSTART;VALUE=DATE-TIME:20221210T150000Z
DTEND;VALUE=DATE-TIME:20221210T173000Z
DTSTAMP;VALUE=DATE-TIME:20260424T190137Z
UID:Mestis-Runkosarja-2022-game-92893@mestis.fi
DESCRIPTION:Kokoonpanot: https://mestis.fi/fi/ottelut/2022-2023/runkosarja
 /8179/kokoonpanot/\n\nSeuranta: https://mestis.fi/fi/ottelut/2022-2023/run
 kosarja/8179/seuranta/
PRODID:mestis.fi
VERSION:2.0
END:VEVENT
BEGIN:VEVENT
SUMMARY:RoKi - FPS
DTSTART;VALUE=DATE-TIME:20221216T163000Z
DTEND;VALUE=DATE-TIME:20221216T190000Z
DTSTAMP;VALUE=DATE-TIME:20260424T190137Z
UID:Mestis-Runkosarja-2022-game-92902@mestis.fi
DESCRIPTION:Kokoonpanot: https://mestis.fi/fi/ottelut/2022-2023/runkosarja
 /7559/kokoonpanot/\n\nSeuranta: https://mestis.fi/fi/ottelut/2022-2023/run
 kosarja/7559/seuranta/
PRODID:mestis.fi
VERSION:2.0
END:VEVENT
BEGIN:VEVENT
SUMMARY:Hokki - RoKi
DTSTART;VALUE=DATE-TIME:20221217T150000Z
DTEND;VALUE=DATE-TIME:20221217T173000Z
DTSTAMP;VALUE=DATE-TIME:20260424T190137Z
UID:Mestis-Runkosarja-2022-game-92909@mestis.fi
DESCRIPTION:Kokoonpanot: https://mestis.fi/fi/ottelut/2022-2023/runkosarja
 /7582/kokoonpanot/\n\nSeuranta: https://mestis.fi/fi/ottelut/2022-2023/run
 kosarja/7582/seuranta/
PRODID:mestis.fi
VERSION:2.0
END:VEVENT
BEGIN:VEVENT
SUMMARY:RoKi - Hermes
DTSTART;VALUE=DATE-TIME:20221229T163000Z
DTEND;VALUE=DATE-TIME:20221229T190000Z
DTSTAMP;VALUE=DATE-TIME:20260424T190137Z
UID:Mestis-Runkosarja-2022-game-92914@mestis.fi
DESCRIPTION:Kokoonpanot: https://mestis.fi/fi/ottelut/2022-2023/runkosarja
 /7320/kokoonpanot/\n\nSeuranta: https://mestis.fi/fi/ottelut/2022-2023/run
 kosarja/7320/seuranta/
PRODID:mestis.fi
VERSION:2.0
END:VEVENT
BEGIN:VEVENT
SUMMARY:Hermes - RoKi
DTSTART;VALUE=DATE-TIME:20221230T163000Z
DTEND;VALUE=DATE-TIME:20221230T190000Z
DTSTAMP;VALUE=DATE-TIME:20260424T190137Z
UID:Mestis-Runkosarja-2022-game-92922@mestis.fi
DESCRIPTION:Kokoonpanot: https://mestis.fi/fi/ottelut/2022-2023/runkosarja
 /7635/kokoonpanot/\n\nSeuranta: https://mestis.fi/fi/ottelut/2022-2023/run
 kosarja/7635/seuranta/
PRODID:mestis.fi
VERSION:2.0
END:VEVENT
BEGIN:VEVENT
SUMMARY:RoKi - TUTO Hockey
DTSTART;VALUE=DATE-TIME:20230106T150000Z
DTEND;VALUE=DATE-TIME:20230106T173000Z
DTSTAMP;VALUE=DATE-TIME:20260424T190137Z
UID:Mestis-Runkosarja-2022-game-92933@mestis.fi
DESCRIPTION:Kokoonpanot: https://mestis.fi/fi/ottelut/2022-2023/runkosarja
 /7453/kokoonpanot/\n\nSeuranta: https://mestis.fi/fi/ottelut/2022-2023/run
 kosarja/7453/seuranta/
PRODID:mestis.fi
VERSION:2.0
END:VEVENT
BEGIN:VEVENT
SUMMARY:RoKi - TUTO Hockey
DTSTART;VALUE=DATE-TIME:20230107T150000Z
DTEND;VALUE=DATE-TIME:20230107T173000Z
DTSTAMP;VALUE=DATE-TIME:20260424T190137Z
UID:Mestis-Runkosarja-2022-game-92938@mestis.fi
DESCRIPTION:Kokoonpanot: https://mestis.fi/fi/ottelut/2022-2023/runkosarja
 /7663/kokoonpanot/\n\nSeuranta: https://mestis.fi/fi/ottelut/2022-2023/run
 kosarja/7663/seuranta/
PRODID:mestis.fi
VERSION:2.0
END:VEVENT
BEGIN:VEVENT
SUMMARY:KeuPa HT - RoKi
DTSTART;VALUE=DATE-TIME:20230112T163000Z
DTEND;VALUE=DATE-TIME:20230112T190000Z
DTSTAMP;VALUE=DATE-TIME:20260424T190137Z
UID:Mestis-Runkosarja-2022-game-92948@mestis.fi
DESCRIPTION:Kokoonpanot: https://mestis.fi/fi/ottelut/2022-2023/runkosarja
 /7507/kokoonpanot/\n\nSeuranta: https://mestis.fi/fi/ottelut/2022-2023/run
 kosarja/7507/seuranta/
PRODID:mestis.fi
VERSION:2.0
END:VEVENT
BEGIN:VEVENT
SUMMARY:Peliitat - RoKi
DTSTART;VALUE=DATE-TIME:20230113T163000Z
DTEND;VALUE=DATE-TIME:20230113T190000Z
DTSTAMP;VALUE=DATE-TIME:20260424T190137Z
UID:Mestis-Runkosarja-2022-game-92952@mestis.fi
DESCRIPTION:Kokoonpanot: https://mestis.fi/fi/ottelut/2022-2023/runkosarja
 /7567/kokoonpanot/\n\nSeuranta: https://mestis.fi/fi/ottelut/2022-2023/run
 kosarja/7567/seuranta/
PRODID:mestis.fi
VERSION:2.0
END:VEVENT
BEGIN:VEVENT
SUMMARY:KOOVEE - RoKi
DTSTART;VALUE=DATE-TIME:20230114T150000Z
DTEND;VALUE=DATE-TIME:20230114T173000Z
DTSTAMP;VALUE=DATE-TIME:20260424T190137Z
UID:Mestis-Runkosarja-2022-game-92957@mestis.fi
DESCRIPTION:Kokoonpanot: https://mestis.fi/fi/ottelut/2022-2023/runkosarja
 /7537/kokoonpanot/\n\nSeuranta: https://mestis.fi/fi/ottelut/2022-2023/run
 kosarja/7537/seuranta/
PRODID:mestis.fi
VERSION:2.0
END:VEVENT
BEGIN:VEVENT
SUMMARY:RoKi - Hokki
DTSTART;VALUE=DATE-TIME:20230118T163000Z
DTEND;VALUE=DATE-TIME:20230118T190000Z
DTSTAMP;VALUE=DATE-TIME:20260424T190137Z
UID:Mestis-Runkosarja-2022-game-92960@mestis.fi
DESCRIPTION:Kokoonpanot: https://mestis.fi/fi/ottelut/2022-2023/runkosarja
 /7687/kokoonpanot/\n\nSeuranta: https://mestis.fi/fi/ottelut/2022-2023/run
 kosarja/7687/seuranta/
PRODID:mestis.fi
VERSION:2.0
END:VEVENT
BEGIN:VEVENT
SUMMARY:IPK - RoKi
DTSTART;VALUE=DATE-TIME:20230120T163000Z
DTEND;VALUE=DATE-TIME:20230120T190000Z
DTSTAMP;VALUE=DATE-TIME:20260424T190137Z
UID:Mestis-Runkosarja-2022-game-92967@mestis.fi
DESCRIPTION:Kokoonpanot: https://mestis.fi/fi/ottelut/2022-2023/runkosarja
 /7492/kokoonpanot/\n\nSeuranta: https://mestis.fi/fi/ottelut/2022-2023/run
 kosarja/7492/seuranta/
PRODID:mestis.fi
VERSION:2.0
END:VEVENT
BEGIN:VEVENT
SUMMARY:JoKP - RoKi
DTSTART;VALUE=DATE-TIME:20230121T150000Z
DTEND;VALUE=DATE-TIME:20230121T173000Z
DTSTAMP;VALUE=DATE-TIME:20260424T190137Z
UID:Mestis-Runkosarja-2022-game-92970@mestis.fi
DESCRIPTION:Kokoonpanot: https://mestis.fi/fi/ottelut/2022-2023/runkosarja
 /7605/kokoonpanot/\n\nSeuranta: https://mestis.fi/fi/ottelut/2022-2023/run
 kosarja/7605/seuranta/
PRODID:mestis.fi
VERSION:2.0
END:VEVENT
BEGIN:VEVENT
SUMMARY:RoKi - K-Vantaa
DTSTART;VALUE=DATE-TIME:20230127T163000Z
DTEND;VALUE=DATE-TIME:20230127T190000Z
DTSTAMP;VALUE=DATE-TIME:20260424T190137Z
UID:Mestis-Runkosarja-2022-game-92982@mestis.fi
DESCRIPTION:Kokoonpanot: https://mestis.fi/fi/ottelut/2022-2023/runkosarja
 /7417/kokoonpanot/\n\nSeuranta: https://mestis.fi/fi/ottelut/2022-2023/run
 kosarja/7417/seuranta/
PRODID:mestis.fi
VERSION:2.0
END:VEVENT
BEGIN:VEVENT
SUMMARY:RoKi - K-Vantaa
DTSTART;VALUE=DATE-TIME:20230128T150000Z
DTEND;VALUE=DATE-TIME:20230128T173000Z
DTSTAMP;VALUE=DATE-TIME:20260424T190137Z
UID:Mestis-Runkosarja-2022-game-92990@mestis.fi
DESCRIPTION:Kokoonpanot: https://mestis.fi/fi/ottelut/2022-2023/runkosarja
 /7627/kokoonpanot/\n\nSeuranta: https://mestis.fi/fi/ottelut/2022-2023/run
 kosarja/7627/seuranta/
PRODID:mestis.fi
VERSION:2.0
END:VEVENT
BEGIN:VEVENT
SUMMARY:RoKi - KeuPa HT
DTSTART;VALUE=DATE-TIME:20230203T163000Z
DTEND;VALUE=DATE-TIME:20230203T190000Z
DTSTAMP;VALUE=DATE-TIME:20260424T190137Z
UID:Mestis-Runkosarja-2022-game-93001@mestis.fi
DESCRIPTION:Kokoonpanot: https://mestis.fi/fi/ottelut/2022-2023/runkosarja
 /7402/kokoonpanot/\n\nSeuranta: https://mestis.fi/fi/ottelut/2022-2023/run
 kosarja/7402/seuranta/
PRODID:mestis.fi
VERSION:2.0
END:VEVENT
BEGIN:VEVENT
SUMMARY:TUTO Hockey - RoKi
DTSTART;VALUE=DATE-TIME:20230210T163000Z
DTEND;VALUE=DATE-TIME:20230210T190000Z
DTSTAMP;VALUE=DATE-TIME:20260424T190137Z
UID:Mestis-Runkosarja-2022-game-93013@mestis.fi
DESCRIPTION:Kokoonpanot: https://mestis.fi/fi/ottelut/2022-2023/runkosarja
 /7558/kokoonpanot/\n\nSeuranta: https://mestis.fi/fi/ottelut/2022-2023/run
 kosarja/7558/seuranta/
PRODID:mestis.fi
VERSION:2.0
END:VEVENT
BEGIN:VEVENT
SUMMARY:FPS - RoKi
DTSTART;VALUE=DATE-TIME:20230211T150000Z
DTEND;VALUE=DATE-TIME:20230211T173000Z
DTSTAMP;VALUE=DATE-TIME:20260424T190137Z
UID:Mestis-Runkosarja-2022-game-93015@mestis.fi
DESCRIPTION:Kokoonpanot: https://mestis.fi/fi/ottelut/2022-2023/runkosarja
 /7664/kokoonpanot/\n\nSeuranta: https://mestis.fi/fi/ottelut/2022-2023/run
 kosarja/7664/seuranta/
PRODID:mestis.fi
VERSION:2.0
END:VEVENT
BEGIN:VEVENT
SUMMARY:RoKi - Peliitat
DTSTART;VALUE=DATE-TIME:20230217T163000Z
DTEND;VALUE=DATE-TIME:20230217T190000Z
DTSTAMP;VALUE=DATE-TIME:20260424T190137Z
UID:Mestis-Runkosarja-2022-game-93029@mestis.fi
DESCRIPTION:Kokoonpanot: https://mestis.fi/fi/ottelut/2022-2023/runkosarja
 /7672/kokoonpanot/\n\nSeuranta: https://mestis.fi/fi/ottelut/2022-2023/run
 kosarja/7672/seuranta/
PRODID:mestis.fi
VERSION:2.0
END:VEVENT
BEGIN:VEVENT
SUMMARY:RoKi - JoKP
DTSTART;VALUE=DATE-TIME:20230224T163000Z
DTEND;VALUE=DATE-TIME:20230224T190000Z
DTSTAMP;VALUE=DATE-TIME:20260424T190137Z
UID:Mestis-Runkosarja-2022-game-93047@mestis.fi
DESCRIPTION:Kokoonpanot: https://mestis.fi/fi/ottelut/2022-2023/runkosarja
 /7500/kokoonpanot/\n\nSeuranta: https://mestis.fi/fi/ottelut/2022-2023/run
 kosarja/7500/seuranta/
PRODID:mestis.fi
VERSION:2.0
END:VEVENT
BEGIN:VEVENT
SUMMARY:RoKi - Ketterä
DTSTART;VALUE=DATE-TIME:20230225T150000Z
DTEND;VALUE=DATE-TIME:20230225T173000Z
DTSTAMP;VALUE=DATE-TIME:20260424T190137Z
UID:Mestis-Runkosarja-2022-game-93052@mestis.fi
DESCRIPTION:Kokoonpanot: https://mestis.fi/fi/ottelut/2022-2023/runkosarja
 /7485/kokoonpanot/\n\nSeuranta: https://mestis.fi/fi/ottelut/2022-2023/run
 kosarja/7485/seuranta/
PRODID:mestis.fi
VERSION:2.0
END:VEVENT
BEGIN:VEVENT
SUMMARY:RoKi - HK Zemgale
DTSTART;VALUE=DATE-TIME:20230228T163000Z
DTEND;VALUE=DATE-TIME:20230228T190000Z
DTSTAMP;VALUE=DATE-TIME:20260424T190137Z
UID:Mestis-Runkosarja-2022-game-93054@mestis.fi
DESCRIPTION:Kokoonpanot: https://mestis.fi/fi/ottelut/2022-2023/runkosarja
 /7575/kokoonpanot/\n\nSeuranta: https://mestis.fi/fi/ottelut/2022-2023/run
 kosarja/7575/seuranta/
PRODID:mestis.fi
VERSION:2.0
END:VEVENT
BEGIN:VEVENT
SUMMARY:RoKi - HK Zemgale
DTSTART;VALUE=DATE-TIME:20230301T163000Z
DTEND;VALUE=DATE-TIME:20230301T190000Z
DTSTAMP;VALUE=DATE-TIME:20260424T190137Z
UID:Mestis-Runkosarja-2022-game-93056@mestis.fi
DESCRIPTION:Kokoonpanot: https://mestis.fi/fi/ottelut/2022-2023/runkosarja
 /7365/kokoonpanot/\n\nSeuranta: https://mestis.fi/fi/ottelut/2022-2023/run
 kosarja/7365/seuranta/
PRODID:mestis.fi
VERSION:2.0
END:VEVENT
BEGIN:VEVENT
SUMMARY:RoKi - KOOVEE
DTSTART;VALUE=DATE-TIME:20230304T150000Z
DTEND;VALUE=DATE-TIME:20230304T173000Z
DTSTAMP;VALUE=DATE-TIME:20260424T190137Z
UID:Mestis-Runkosarja-2022-game-93067@mestis.fi
DESCRIPTION:Kokoonpanot: https://mestis.fi/fi/ottelut/2022-2023/runkosarja
 /7642/kokoonpanot/\n\nSeuranta: https://mestis.fi/fi/ottelut/2022-2023/run
 kosarja/7642/seuranta/
PRODID:mestis.fi
VERSION:2.0
END:VEVENT
BEGIN:VEVENT
SUMMARY:KeuPa HT - RoKi
DTSTART;VALUE=DATE-TIME:20230307T163000Z
DTEND;VALUE=DATE-TIME:20230307T190000Z
DTSTAMP;VALUE=DATE-TIME:20260424T190137Z
UID:Mestis-Runkosarja-2022-game-93071@mestis.fi
DESCRIPTION:Kokoonpanot: https://mestis.fi/fi/ottelut/2022-2023/runkosarja
 /7297/kokoonpanot/\n\nSeuranta: https://mestis.fi/fi/ottelut/2022-2023/run
 kosarja/7297/seuranta/
PRODID:mestis.fi
VERSION:2.0
END:VEVENT
BEGIN:VEVENT
SUMMARY:K-Espoo - RoKi
DTSTART;VALUE=DATE-TIME:20230309T163000Z
DTEND;VALUE=DATE-TIME:20230309T190000Z
DTSTAMP;VALUE=DATE-TIME:20260424T190137Z
UID:Mestis-Runkosarja-2022-game-93079@mestis.fi
DESCRIPTION:Kokoonpanot: https://mestis.fi/fi/ottelut/2022-2023/runkosarja
 /7620/kokoonpanot/\n\nSeuranta: https://mestis.fi/fi/ottelut/2022-2023/run
 kosarja/7620/seuranta/
PRODID:mestis.fi
VERSION:2.0
END:VEVENT
BEGIN:VEVENT
SUMMARY:K-Vantaa - RoKi
DTSTART;VALUE=DATE-TIME:20230310T163000Z
DTEND;VALUE=DATE-TIME:20230310T190000Z
DTSTAMP;VALUE=DATE-TIME:20260424T190137Z
UID:Mestis-Runkosarja-2022-game-93083@mestis.fi
DESCRIPTION:Kokoonpanot: https://mestis.fi/fi/ottelut/2022-2023/runkosarja
 /7522/kokoonpanot/\n\nSeuranta: https://mestis.fi/fi/ottelut/2022-2023/run
 kosarja/7522/seuranta/
PRODID:mestis.fi
VERSION:2.0
END:VEVENT
BEGIN:VEVENT
SUMMARY:RoKi - Hermes
DTSTART;VALUE=DATE-TIME:20230315T163000Z
DTEND;VALUE=DATE-TIME:20230315T190000Z
DTSTAMP;VALUE=DATE-TIME:20260424T190137Z
UID:Mestis-Runkosarja-2022-game-93090@mestis.fi
DESCRIPTION:Kokoonpanot: https://mestis.fi/fi/ottelut/2022-2023/runkosarja
 /7530/kokoonpanot/\n\nSeuranta: https://mestis.fi/fi/ottelut/2022-2023/run
 kosarja/7530/seuranta/
PRODID:mestis.fi
VERSION:2.0
END:VEVENT
BEGIN:VEVENT
SUMMARY:RoKi - IPK
DTSTART;VALUE=DATE-TIME:20230318T150000Z
DTEND;VALUE=DATE-TIME:20230318T173000Z
DTSTAMP;VALUE=DATE-TIME:20260424T190137Z
UID:Mestis-Runkosarja-2022-game-93102@mestis.fi
DESCRIPTION:Kokoonpanot: https://mestis.fi/fi/ottelut/2022-2023/runkosarja
 /7597/kokoonpanot/\n\nSeuranta: https://mestis.fi/fi/ottelut/2022-2023/run
 kosarja/7597/seuranta/
PRODID:mestis.fi
VERSION:2.0
END:VEVENT
END:VCALENDAR
