BEGIN:VCALENDAR
DTSTART;VALUE=DATE:20220611
SUMMARY:Ottelut 2023-03-20 - 2023-04-28
BEGIN:VEVENT
SUMMARY:K-Vantaa - KOOVEE
DTSTART;VALUE=DATE-TIME:20230320T163000Z
DTEND;VALUE=DATE-TIME:20230320T190000Z
DTSTAMP;VALUE=DATE-TIME:20260423T085447Z
UID:Mestis-Pudotuspelit-2022-game-93203@mestis.fi
DESCRIPTION:Kokoonpanot: https://mestis.fi/fi/ottelut/2022-2023/playoffs/4
 6114/kokoonpanot/\n\nSeuranta: https://mestis.fi/fi/ottelut/2022-2023/play
 offs/46114/seuranta/
PRODID:mestis.fi
VERSION:2.0
END:VEVENT
BEGIN:VEVENT
SUMMARY:KeuPa HT - TUTO Hockey
DTSTART;VALUE=DATE-TIME:20230320T163000Z
DTEND;VALUE=DATE-TIME:20230320T190000Z
DTSTAMP;VALUE=DATE-TIME:20260423T085447Z
UID:Mestis-Pudotuspelit-2022-game-93202@mestis.fi
DESCRIPTION:Kokoonpanot: https://mestis.fi/fi/ottelut/2022-2023/playoffs/4
 6113/kokoonpanot/\n\nSeuranta: https://mestis.fi/fi/ottelut/2022-2023/play
 offs/46113/seuranta/
PRODID:mestis.fi
VERSION:2.0
END:VEVENT
BEGIN:VEVENT
SUMMARY:KOOVEE - K-Vantaa
DTSTART;VALUE=DATE-TIME:20230322T163000Z
DTEND;VALUE=DATE-TIME:20230322T190000Z
DTSTAMP;VALUE=DATE-TIME:20260423T085447Z
UID:Mestis-Pudotuspelit-2022-game-93204@mestis.fi
DESCRIPTION:Kokoonpanot: https://mestis.fi/fi/ottelut/2022-2023/playoffs/4
 6116/kokoonpanot/\n\nSeuranta: https://mestis.fi/fi/ottelut/2022-2023/play
 offs/46116/seuranta/
PRODID:mestis.fi
VERSION:2.0
END:VEVENT
BEGIN:VEVENT
SUMMARY:TUTO Hockey - KeuPa HT
DTSTART;VALUE=DATE-TIME:20230322T163000Z
DTEND;VALUE=DATE-TIME:20230322T190000Z
DTSTAMP;VALUE=DATE-TIME:20260423T085447Z
UID:Mestis-Pudotuspelit-2022-game-93205@mestis.fi
DESCRIPTION:Kokoonpanot: https://mestis.fi/fi/ottelut/2022-2023/playoffs/4
 6115/kokoonpanot/\n\nSeuranta: https://mestis.fi/fi/ottelut/2022-2023/play
 offs/46115/seuranta/
PRODID:mestis.fi
VERSION:2.0
END:VEVENT
BEGIN:VEVENT
SUMMARY:K-Vantaa - KOOVEE
DTSTART;VALUE=DATE-TIME:20230323T163000Z
DTEND;VALUE=DATE-TIME:20230323T190000Z
DTSTAMP;VALUE=DATE-TIME:20260423T085447Z
UID:Mestis-Pudotuspelit-2022-game-93206@mestis.fi
DESCRIPTION:Kokoonpanot: https://mestis.fi/fi/ottelut/2022-2023/playoffs/4
 6118/kokoonpanot/\n\nSeuranta: https://mestis.fi/fi/ottelut/2022-2023/play
 offs/46118/seuranta/
PRODID:mestis.fi
VERSION:2.0
END:VEVENT
BEGIN:VEVENT
SUMMARY:RoKi - IPK
DTSTART;VALUE=DATE-TIME:20230324T163000Z
DTEND;VALUE=DATE-TIME:20230324T190000Z
DTSTAMP;VALUE=DATE-TIME:20260423T085447Z
UID:Mestis-Pudotuspelit-2022-game-93210@mestis.fi
DESCRIPTION:Kokoonpanot: https://mestis.fi/fi/ottelut/2022-2023/playoffs/4
 6121/kokoonpanot/\n\nSeuranta: https://mestis.fi/fi/ottelut/2022-2023/play
 offs/46121/seuranta/
PRODID:mestis.fi
VERSION:2.0
END:VEVENT
BEGIN:VEVENT
SUMMARY:Hermes - JoKP
DTSTART;VALUE=DATE-TIME:20230324T163000Z
DTEND;VALUE=DATE-TIME:20230324T190000Z
DTSTAMP;VALUE=DATE-TIME:20260423T085447Z
UID:Mestis-Pudotuspelit-2022-game-93209@mestis.fi
DESCRIPTION:Kokoonpanot: https://mestis.fi/fi/ottelut/2022-2023/playoffs/4
 6122/kokoonpanot/\n\nSeuranta: https://mestis.fi/fi/ottelut/2022-2023/play
 offs/46122/seuranta/
PRODID:mestis.fi
VERSION:2.0
END:VEVENT
BEGIN:VEVENT
SUMMARY:JoKP - Hermes
DTSTART;VALUE=DATE-TIME:20230325T150000Z
DTEND;VALUE=DATE-TIME:20230325T173000Z
DTSTAMP;VALUE=DATE-TIME:20260423T085447Z
UID:Mestis-Pudotuspelit-2022-game-93214@mestis.fi
DESCRIPTION:Kokoonpanot: https://mestis.fi/fi/ottelut/2022-2023/playoffs/4
 6126/kokoonpanot/\n\nSeuranta: https://mestis.fi/fi/ottelut/2022-2023/play
 offs/46126/seuranta/
PRODID:mestis.fi
VERSION:2.0
END:VEVENT
BEGIN:VEVENT
SUMMARY:K-Espoo - TUTO Hockey
DTSTART;VALUE=DATE-TIME:20230325T150000Z
DTEND;VALUE=DATE-TIME:20230325T173000Z
DTSTAMP;VALUE=DATE-TIME:20260423T085447Z
UID:Mestis-Pudotuspelit-2022-game-93208@mestis.fi
DESCRIPTION:Kokoonpanot: https://mestis.fi/fi/ottelut/2022-2023/playoffs/4
 6119/kokoonpanot/\n\nSeuranta: https://mestis.fi/fi/ottelut/2022-2023/play
 offs/46119/seuranta/
PRODID:mestis.fi
VERSION:2.0
END:VEVENT
BEGIN:VEVENT
SUMMARY:Ketterä - KOOVEE
DTSTART;VALUE=DATE-TIME:20230325T150000Z
DTEND;VALUE=DATE-TIME:20230325T173000Z
DTSTAMP;VALUE=DATE-TIME:20260423T085447Z
UID:Mestis-Pudotuspelit-2022-game-93211@mestis.fi
DESCRIPTION:Kokoonpanot: https://mestis.fi/fi/ottelut/2022-2023/playoffs/4
 6120/kokoonpanot/\n\nSeuranta: https://mestis.fi/fi/ottelut/2022-2023/play
 offs/46120/seuranta/
PRODID:mestis.fi
VERSION:2.0
END:VEVENT
BEGIN:VEVENT
SUMMARY:IPK - RoKi
DTSTART;VALUE=DATE-TIME:20230325T150000Z
DTEND;VALUE=DATE-TIME:20230325T173000Z
DTSTAMP;VALUE=DATE-TIME:20260423T085447Z
UID:Mestis-Pudotuspelit-2022-game-93215@mestis.fi
DESCRIPTION:Kokoonpanot: https://mestis.fi/fi/ottelut/2022-2023/playoffs/4
 6125/kokoonpanot/\n\nSeuranta: https://mestis.fi/fi/ottelut/2022-2023/play
 offs/46125/seuranta/
PRODID:mestis.fi
VERSION:2.0
END:VEVENT
BEGIN:VEVENT
SUMMARY:TUTO Hockey - K-Espoo
DTSTART;VALUE=DATE-TIME:20230327T153000Z
DTEND;VALUE=DATE-TIME:20230327T180000Z
DTSTAMP;VALUE=DATE-TIME:20260423T085447Z
UID:Mestis-Pudotuspelit-2022-game-93213@mestis.fi
DESCRIPTION:Kokoonpanot: https://mestis.fi/fi/ottelut/2022-2023/playoffs/4
 6123/kokoonpanot/\n\nSeuranta: https://mestis.fi/fi/ottelut/2022-2023/play
 offs/46123/seuranta/
PRODID:mestis.fi
VERSION:2.0
END:VEVENT
BEGIN:VEVENT
SUMMARY:KOOVEE - Ketterä
DTSTART;VALUE=DATE-TIME:20230328T153000Z
DTEND;VALUE=DATE-TIME:20230328T180000Z
DTSTAMP;VALUE=DATE-TIME:20260423T085447Z
UID:Mestis-Pudotuspelit-2022-game-93212@mestis.fi
DESCRIPTION:Kokoonpanot: https://mestis.fi/fi/ottelut/2022-2023/playoffs/4
 6124/kokoonpanot/\n\nSeuranta: https://mestis.fi/fi/ottelut/2022-2023/play
 offs/46124/seuranta/
PRODID:mestis.fi
VERSION:2.0
END:VEVENT
BEGIN:VEVENT
SUMMARY:K-Espoo - TUTO Hockey
DTSTART;VALUE=DATE-TIME:20230328T153000Z
DTEND;VALUE=DATE-TIME:20230328T180000Z
DTSTAMP;VALUE=DATE-TIME:20260423T085447Z
UID:Mestis-Pudotuspelit-2022-game-93218@mestis.fi
DESCRIPTION:Kokoonpanot: https://mestis.fi/fi/ottelut/2022-2023/playoffs/4
 6127/kokoonpanot/\n\nSeuranta: https://mestis.fi/fi/ottelut/2022-2023/play
 offs/46127/seuranta/
PRODID:mestis.fi
VERSION:2.0
END:VEVENT
BEGIN:VEVENT
SUMMARY:Hermes - JoKP
DTSTART;VALUE=DATE-TIME:20230328T153000Z
DTEND;VALUE=DATE-TIME:20230328T180000Z
DTSTAMP;VALUE=DATE-TIME:20260423T085447Z
UID:Mestis-Pudotuspelit-2022-game-93219@mestis.fi
DESCRIPTION:Kokoonpanot: https://mestis.fi/fi/ottelut/2022-2023/playoffs/4
 6130/kokoonpanot/\n\nSeuranta: https://mestis.fi/fi/ottelut/2022-2023/play
 offs/46130/seuranta/
PRODID:mestis.fi
VERSION:2.0
END:VEVENT
BEGIN:VEVENT
SUMMARY:RoKi - IPK
DTSTART;VALUE=DATE-TIME:20230328T153000Z
DTEND;VALUE=DATE-TIME:20230328T180000Z
DTSTAMP;VALUE=DATE-TIME:20260423T085447Z
UID:Mestis-Pudotuspelit-2022-game-93216@mestis.fi
DESCRIPTION:Kokoonpanot: https://mestis.fi/fi/ottelut/2022-2023/playoffs/4
 6129/kokoonpanot/\n\nSeuranta: https://mestis.fi/fi/ottelut/2022-2023/play
 offs/46129/seuranta/
PRODID:mestis.fi
VERSION:2.0
END:VEVENT
BEGIN:VEVENT
SUMMARY:Ketterä - KOOVEE
DTSTART;VALUE=DATE-TIME:20230329T153000Z
DTEND;VALUE=DATE-TIME:20230329T180000Z
DTSTAMP;VALUE=DATE-TIME:20260423T085447Z
UID:Mestis-Pudotuspelit-2022-game-93217@mestis.fi
DESCRIPTION:Kokoonpanot: https://mestis.fi/fi/ottelut/2022-2023/playoffs/4
 6128/kokoonpanot/\n\nSeuranta: https://mestis.fi/fi/ottelut/2022-2023/play
 offs/46128/seuranta/
PRODID:mestis.fi
VERSION:2.0
END:VEVENT
BEGIN:VEVENT
SUMMARY:IPK - RoKi
DTSTART;VALUE=DATE-TIME:20230330T153000Z
DTEND;VALUE=DATE-TIME:20230330T180000Z
DTSTAMP;VALUE=DATE-TIME:20260423T085447Z
UID:Mestis-Pudotuspelit-2022-game-93221@mestis.fi
DESCRIPTION:Kokoonpanot: https://mestis.fi/fi/ottelut/2022-2023/playoffs/4
 6133/kokoonpanot/\n\nSeuranta: https://mestis.fi/fi/ottelut/2022-2023/play
 offs/46133/seuranta/
PRODID:mestis.fi
VERSION:2.0
END:VEVENT
BEGIN:VEVENT
SUMMARY:JoKP - Hermes
DTSTART;VALUE=DATE-TIME:20230330T153000Z
DTEND;VALUE=DATE-TIME:20230330T180000Z
DTSTAMP;VALUE=DATE-TIME:20260423T085447Z
UID:Mestis-Pudotuspelit-2022-game-93220@mestis.fi
DESCRIPTION:Kokoonpanot: https://mestis.fi/fi/ottelut/2022-2023/playoffs/4
 6134/kokoonpanot/\n\nSeuranta: https://mestis.fi/fi/ottelut/2022-2023/play
 offs/46134/seuranta/
PRODID:mestis.fi
VERSION:2.0
END:VEVENT
BEGIN:VEVENT
SUMMARY:TUTO Hockey - K-Espoo
DTSTART;VALUE=DATE-TIME:20230330T153000Z
DTEND;VALUE=DATE-TIME:20230330T180000Z
DTSTAMP;VALUE=DATE-TIME:20260423T085447Z
UID:Mestis-Pudotuspelit-2022-game-93223@mestis.fi
DESCRIPTION:Kokoonpanot: https://mestis.fi/fi/ottelut/2022-2023/playoffs/4
 6131/kokoonpanot/\n\nSeuranta: https://mestis.fi/fi/ottelut/2022-2023/play
 offs/46131/seuranta/
PRODID:mestis.fi
VERSION:2.0
END:VEVENT
BEGIN:VEVENT
SUMMARY:KOOVEE - Ketterä
DTSTART;VALUE=DATE-TIME:20230331T153000Z
DTEND;VALUE=DATE-TIME:20230331T180000Z
DTSTAMP;VALUE=DATE-TIME:20260423T085447Z
UID:Mestis-Pudotuspelit-2022-game-93222@mestis.fi
DESCRIPTION:Kokoonpanot: https://mestis.fi/fi/ottelut/2022-2023/playoffs/4
 6132/kokoonpanot/\n\nSeuranta: https://mestis.fi/fi/ottelut/2022-2023/play
 offs/46132/seuranta/
PRODID:mestis.fi
VERSION:2.0
END:VEVENT
BEGIN:VEVENT
SUMMARY:K-Espoo - TUTO Hockey
DTSTART;VALUE=DATE-TIME:20230331T153000Z
DTEND;VALUE=DATE-TIME:20230331T180000Z
DTSTAMP;VALUE=DATE-TIME:20260423T085447Z
UID:Mestis-Pudotuspelit-2022-game-93224@mestis.fi
DESCRIPTION:Kokoonpanot: https://mestis.fi/fi/ottelut/2022-2023/playoffs/4
 6135/kokoonpanot/\n\nSeuranta: https://mestis.fi/fi/ottelut/2022-2023/play
 offs/46135/seuranta/
PRODID:mestis.fi
VERSION:2.0
END:VEVENT
BEGIN:VEVENT
SUMMARY:Ketterä - KOOVEE
DTSTART;VALUE=DATE-TIME:20230401T140000Z
DTEND;VALUE=DATE-TIME:20230401T163000Z
DTSTAMP;VALUE=DATE-TIME:20260423T085447Z
UID:Mestis-Pudotuspelit-2022-game-93227@mestis.fi
DESCRIPTION:Kokoonpanot: https://mestis.fi/fi/ottelut/2022-2023/playoffs/4
 6136/kokoonpanot/\n\nSeuranta: https://mestis.fi/fi/ottelut/2022-2023/play
 offs/46136/seuranta/
PRODID:mestis.fi
VERSION:2.0
END:VEVENT
BEGIN:VEVENT
SUMMARY:Hermes - JoKP
DTSTART;VALUE=DATE-TIME:20230401T140000Z
DTEND;VALUE=DATE-TIME:20230401T163000Z
DTSTAMP;VALUE=DATE-TIME:20260423T085447Z
UID:Mestis-Pudotuspelit-2022-game-93225@mestis.fi
DESCRIPTION:Kokoonpanot: https://mestis.fi/fi/ottelut/2022-2023/playoffs/4
 6138/kokoonpanot/\n\nSeuranta: https://mestis.fi/fi/ottelut/2022-2023/play
 offs/46138/seuranta/
PRODID:mestis.fi
VERSION:2.0
END:VEVENT
BEGIN:VEVENT
SUMMARY:KOOVEE - Ketterä
DTSTART;VALUE=DATE-TIME:20230403T153000Z
DTEND;VALUE=DATE-TIME:20230403T180000Z
DTSTAMP;VALUE=DATE-TIME:20260423T085447Z
UID:Mestis-Pudotuspelit-2022-game-93228@mestis.fi
DESCRIPTION:Kokoonpanot: https://mestis.fi/fi/ottelut/2022-2023/playoffs/4
 6140/kokoonpanot/\n\nSeuranta: https://mestis.fi/fi/ottelut/2022-2023/play
 offs/46140/seuranta/
PRODID:mestis.fi
VERSION:2.0
END:VEVENT
BEGIN:VEVENT
SUMMARY:TUTO Hockey - K-Espoo
DTSTART;VALUE=DATE-TIME:20230403T153000Z
DTEND;VALUE=DATE-TIME:20230403T180000Z
DTSTAMP;VALUE=DATE-TIME:20260423T085447Z
UID:Mestis-Pudotuspelit-2022-game-93229@mestis.fi
DESCRIPTION:Kokoonpanot: https://mestis.fi/fi/ottelut/2022-2023/playoffs/4
 6139/kokoonpanot/\n\nSeuranta: https://mestis.fi/fi/ottelut/2022-2023/play
 offs/46139/seuranta/
PRODID:mestis.fi
VERSION:2.0
END:VEVENT
BEGIN:VEVENT
SUMMARY:JoKP - Hermes
DTSTART;VALUE=DATE-TIME:20230404T153000Z
DTEND;VALUE=DATE-TIME:20230404T180000Z
DTSTAMP;VALUE=DATE-TIME:20260423T085447Z
UID:Mestis-Pudotuspelit-2022-game-93230@mestis.fi
DESCRIPTION:Kokoonpanot: https://mestis.fi/fi/ottelut/2022-2023/playoffs/4
 6142/kokoonpanot/\n\nSeuranta: https://mestis.fi/fi/ottelut/2022-2023/play
 offs/46142/seuranta/
PRODID:mestis.fi
VERSION:2.0
END:VEVENT
BEGIN:VEVENT
SUMMARY:K-Espoo - JoKP
DTSTART;VALUE=DATE-TIME:20230407T140000Z
DTEND;VALUE=DATE-TIME:20230407T163000Z
DTSTAMP;VALUE=DATE-TIME:20260423T085447Z
UID:Mestis-Pudotuspelit-2022-game-93237@mestis.fi
DESCRIPTION:Kokoonpanot: https://mestis.fi/fi/ottelut/2022-2023/playoffs/4
 6147/kokoonpanot/\n\nSeuranta: https://mestis.fi/fi/ottelut/2022-2023/play
 offs/46147/seuranta/
PRODID:mestis.fi
VERSION:2.0
END:VEVENT
BEGIN:VEVENT
SUMMARY:Ketterä - RoKi
DTSTART;VALUE=DATE-TIME:20230407T140000Z
DTEND;VALUE=DATE-TIME:20230407T163000Z
DTSTAMP;VALUE=DATE-TIME:20260423T085447Z
UID:Mestis-Pudotuspelit-2022-game-93236@mestis.fi
DESCRIPTION:Kokoonpanot: https://mestis.fi/fi/ottelut/2022-2023/playoffs/4
 6148/kokoonpanot/\n\nSeuranta: https://mestis.fi/fi/ottelut/2022-2023/play
 offs/46148/seuranta/
PRODID:mestis.fi
VERSION:2.0
END:VEVENT
BEGIN:VEVENT
SUMMARY:Ketterä - RoKi
DTSTART;VALUE=DATE-TIME:20230408T140000Z
DTEND;VALUE=DATE-TIME:20230408T163000Z
DTSTAMP;VALUE=DATE-TIME:20260423T085447Z
UID:Mestis-Pudotuspelit-2022-game-93238@mestis.fi
DESCRIPTION:Kokoonpanot: https://mestis.fi/fi/ottelut/2022-2023/playoffs/4
 6150/kokoonpanot/\n\nSeuranta: https://mestis.fi/fi/ottelut/2022-2023/play
 offs/46150/seuranta/
PRODID:mestis.fi
VERSION:2.0
END:VEVENT
BEGIN:VEVENT
SUMMARY:JoKP - K-Espoo
DTSTART;VALUE=DATE-TIME:20230408T140000Z
DTEND;VALUE=DATE-TIME:20230408T163000Z
DTSTAMP;VALUE=DATE-TIME:20260423T085447Z
UID:Mestis-Pudotuspelit-2022-game-93239@mestis.fi
DESCRIPTION:Kokoonpanot: https://mestis.fi/fi/ottelut/2022-2023/playoffs/4
 6149/kokoonpanot/\n\nSeuranta: https://mestis.fi/fi/ottelut/2022-2023/play
 offs/46149/seuranta/
PRODID:mestis.fi
VERSION:2.0
END:VEVENT
BEGIN:VEVENT
SUMMARY:K-Espoo - JoKP
DTSTART;VALUE=DATE-TIME:20230410T140000Z
DTEND;VALUE=DATE-TIME:20230410T163000Z
DTSTAMP;VALUE=DATE-TIME:20260423T085447Z
UID:Mestis-Pudotuspelit-2022-game-93241@mestis.fi
DESCRIPTION:Kokoonpanot: https://mestis.fi/fi/ottelut/2022-2023/playoffs/4
 6151/kokoonpanot/\n\nSeuranta: https://mestis.fi/fi/ottelut/2022-2023/play
 offs/46151/seuranta/
PRODID:mestis.fi
VERSION:2.0
END:VEVENT
BEGIN:VEVENT
SUMMARY:RoKi - Ketterä
DTSTART;VALUE=DATE-TIME:20230410T140000Z
DTEND;VALUE=DATE-TIME:20230410T163000Z
DTSTAMP;VALUE=DATE-TIME:20260423T085447Z
UID:Mestis-Pudotuspelit-2022-game-93240@mestis.fi
DESCRIPTION:Kokoonpanot: https://mestis.fi/fi/ottelut/2022-2023/playoffs/4
 6152/kokoonpanot/\n\nSeuranta: https://mestis.fi/fi/ottelut/2022-2023/play
 offs/46152/seuranta/
PRODID:mestis.fi
VERSION:2.0
END:VEVENT
BEGIN:VEVENT
SUMMARY:RoKi - Ketterä
DTSTART;VALUE=DATE-TIME:20230411T153000Z
DTEND;VALUE=DATE-TIME:20230411T180000Z
DTSTAMP;VALUE=DATE-TIME:20260423T085447Z
UID:Mestis-Pudotuspelit-2022-game-93242@mestis.fi
DESCRIPTION:Kokoonpanot: https://mestis.fi/fi/ottelut/2022-2023/playoffs/4
 6154/kokoonpanot/\n\nSeuranta: https://mestis.fi/fi/ottelut/2022-2023/play
 offs/46154/seuranta/
PRODID:mestis.fi
VERSION:2.0
END:VEVENT
BEGIN:VEVENT
SUMMARY:JoKP - K-Espoo
DTSTART;VALUE=DATE-TIME:20230412T153000Z
DTEND;VALUE=DATE-TIME:20230412T180000Z
DTSTAMP;VALUE=DATE-TIME:20260423T085447Z
UID:Mestis-Pudotuspelit-2022-game-93243@mestis.fi
DESCRIPTION:Kokoonpanot: https://mestis.fi/fi/ottelut/2022-2023/playoffs/4
 6153/kokoonpanot/\n\nSeuranta: https://mestis.fi/fi/ottelut/2022-2023/play
 offs/46153/seuranta/
PRODID:mestis.fi
VERSION:2.0
END:VEVENT
BEGIN:VEVENT
SUMMARY:Ketterä - RoKi
DTSTART;VALUE=DATE-TIME:20230413T153000Z
DTEND;VALUE=DATE-TIME:20230413T180000Z
DTSTAMP;VALUE=DATE-TIME:20260423T085447Z
UID:Mestis-Pudotuspelit-2022-game-93244@mestis.fi
DESCRIPTION:Kokoonpanot: https://mestis.fi/fi/ottelut/2022-2023/playoffs/4
 6156/kokoonpanot/\n\nSeuranta: https://mestis.fi/fi/ottelut/2022-2023/play
 offs/46156/seuranta/
PRODID:mestis.fi
VERSION:2.0
END:VEVENT
BEGIN:VEVENT
SUMMARY:K-Espoo - Ketterä
DTSTART;VALUE=DATE-TIME:20230418T153000Z
DTEND;VALUE=DATE-TIME:20230418T180000Z
DTSTAMP;VALUE=DATE-TIME:20260423T085447Z
UID:Mestis-Pudotuspelit-2022-game-93250@mestis.fi
DESCRIPTION:Kokoonpanot: https://mestis.fi/fi/ottelut/2022-2023/playoffs/4
 6162/kokoonpanot/\n\nSeuranta: https://mestis.fi/fi/ottelut/2022-2023/play
 offs/46162/seuranta/
PRODID:mestis.fi
VERSION:2.0
END:VEVENT
BEGIN:VEVENT
SUMMARY:RoKi - JoKP
DTSTART;VALUE=DATE-TIME:20230419T153000Z
DTEND;VALUE=DATE-TIME:20230419T180000Z
DTSTAMP;VALUE=DATE-TIME:20260423T085447Z
UID:Mestis-Pudotuspelit-2022-game-93251@mestis.fi
DESCRIPTION:Kokoonpanot: https://mestis.fi/fi/ottelut/2022-2023/playoffs/4
 6161/kokoonpanot/\n\nSeuranta: https://mestis.fi/fi/ottelut/2022-2023/play
 offs/46161/seuranta/
PRODID:mestis.fi
VERSION:2.0
END:VEVENT
BEGIN:VEVENT
SUMMARY:Ketterä - K-Espoo
DTSTART;VALUE=DATE-TIME:20230420T153000Z
DTEND;VALUE=DATE-TIME:20230420T180000Z
DTSTAMP;VALUE=DATE-TIME:20260423T085447Z
UID:Mestis-Pudotuspelit-2022-game-93252@mestis.fi
DESCRIPTION:Kokoonpanot: https://mestis.fi/fi/ottelut/2022-2023/playoffs/4
 6163/kokoonpanot/\n\nSeuranta: https://mestis.fi/fi/ottelut/2022-2023/play
 offs/46163/seuranta/
PRODID:mestis.fi
VERSION:2.0
END:VEVENT
BEGIN:VEVENT
SUMMARY:K-Espoo - Ketterä
DTSTART;VALUE=DATE-TIME:20230422T140000Z
DTEND;VALUE=DATE-TIME:20230422T163000Z
DTSTAMP;VALUE=DATE-TIME:20260423T085447Z
UID:Mestis-Pudotuspelit-2022-game-93253@mestis.fi
DESCRIPTION:Kokoonpanot: https://mestis.fi/fi/ottelut/2022-2023/playoffs/4
 6164/kokoonpanot/\n\nSeuranta: https://mestis.fi/fi/ottelut/2022-2023/play
 offs/46164/seuranta/
PRODID:mestis.fi
VERSION:2.0
END:VEVENT
BEGIN:VEVENT
SUMMARY:Ketterä - K-Espoo
DTSTART;VALUE=DATE-TIME:20230424T153000Z
DTEND;VALUE=DATE-TIME:20230424T180000Z
DTSTAMP;VALUE=DATE-TIME:20260423T085447Z
UID:Mestis-Pudotuspelit-2022-game-93254@mestis.fi
DESCRIPTION:Kokoonpanot: https://mestis.fi/fi/ottelut/2022-2023/playoffs/4
 6165/kokoonpanot/\n\nSeuranta: https://mestis.fi/fi/ottelut/2022-2023/play
 offs/46165/seuranta/
PRODID:mestis.fi
VERSION:2.0
END:VEVENT
BEGIN:VEVENT
SUMMARY:K-Espoo - Ketterä
DTSTART;VALUE=DATE-TIME:20230426T153000Z
DTEND;VALUE=DATE-TIME:20230426T180000Z
DTSTAMP;VALUE=DATE-TIME:20260423T085447Z
UID:Mestis-Pudotuspelit-2022-game-93255@mestis.fi
DESCRIPTION:Kokoonpanot: https://mestis.fi/fi/ottelut/2022-2023/playoffs/4
 6166/kokoonpanot/\n\nSeuranta: https://mestis.fi/fi/ottelut/2022-2023/play
 offs/46166/seuranta/
PRODID:mestis.fi
VERSION:2.0
END:VEVENT
BEGIN:VEVENT
SUMMARY:Ketterä - K-Espoo
DTSTART;VALUE=DATE-TIME:20230428T153000Z
DTEND;VALUE=DATE-TIME:20230428T180000Z
DTSTAMP;VALUE=DATE-TIME:20260423T085447Z
UID:Mestis-Pudotuspelit-2022-game-93256@mestis.fi
DESCRIPTION:Kokoonpanot: https://mestis.fi/fi/ottelut/2022-2023/playoffs/4
 6167/kokoonpanot/\n\nSeuranta: https://mestis.fi/fi/ottelut/2022-2023/play
 offs/46167/seuranta/
PRODID:mestis.fi
VERSION:2.0
END:VEVENT
END:VCALENDAR
